Felt | Verdi |
AlreadyApplied | True |
Aperture | 1.8 |
ApertureValue | 1.8 |
AutoLateralCA | 0 |
BitsPerSample | 8 |
Blacks2012 | -29 |
BlueHue | 0 |
BlueSaturation | 0 |
BrightnessValue | 9.637947944 |
CameraProfile | Embedded |
CircleOfConfusion | 0.009 mm |
Clarity2012 | 0 |
ColorComponents | 3 |
ColorGradeBlending | 50 |
ColorGradeGlobalHue | 0 |
ColorGradeGlobalLum | 0 |
ColorGradeGlobalSat | 0 |
ColorGradeHighlightLum | 0 |
ColorGradeMidtoneHue | 0 |
ColorGradeMidtoneLum | 0 |
ColorGradeMidtoneSat | 0 |
ColorGradeShadowLum | 0 |
ColorNoiseReduction | 0 |
ColorSpace | Uncalibrated |
ColorTransform | YCbCr |
CompatibleVersion | 251854848 |
Contrast2012 | +7 |
ConvertToGrayscale | False |
CreateDate (1) | 2024:01:20 13:04:00.410+01:00 |
CreateDate | 2024:01:20 13:04:00 |
CreatorTool | Adobe Photoshop Camera Raw 16.1 (Macintosh) |
CropAngle | 0 |
CropBottom | 1 |
CropConstrainToWarp | 0 |
CropLeft | 0 |
CropRight | 1 |
CropTop | 0 |
DateCreated (1) | 2024:01:20 |
DateCreated | 2024:01:20 13:04:00.410+01:00 |
DateTimeOriginal | 2024:01:20 13:04:00 |
DefringeGreenAmount | 0 |
DefringeGreenHueHi | 60 |
DefringeGreenHueLo | 40 |
DefringePurpleAmount | 0 |
DefringePurpleHueHi | 70 |
DefringePurpleHueLo | 30 |
Dehaze | 0 |
Exposure2012 | +0.62 |
ExposureCompensation | 0 |
ExposureMode | Auto |
ExposureProgram | Program AE |
ExposureTime | 1/4800 |
Flash | Off, Did not fire |
FNumber | 1.8 |
FocalLength | 6.9 mm |
FocalLength35efl | 6.9 mm (35 mm equivalent: 24.0 mm) |
FocalLengthIn35mmFormat | 24 mm |
Format | image/jpeg |
FOV | 73.7 deg |
GPSAltitude (1) | 708.2609254 m |
GPSAltitude | 708.2 m Above Sea Level |
GPSAltitudeRef | Above Sea Level |
GPSDateStamp | 2024:01:20 |
GPSDateTime | 2024:01:20 12:03:58.45Z |
GPSDestBearing | 182.7181855 |
GPSDestBearingRef | Magnetic North |
GPSHPositioningError | 1614.727835 m |
GPSImgDirection | 182.7181855 |
GPSImgDirectionRef | Magnetic North |
GPSLatitude (1) | 62 deg 54' 48.84" |
GPSLatitude | 62 deg 54' 48.84" N |
GPSLatitudeRef | North |
GPSLongitude (1) | 11 deg 55' 38.52" |
GPSLongitude | 11 deg 55' 38.52" E |
GPSLongitudeRef | East |
GPSPosition | 62 deg 54' 48.84" N, 11 deg 55' 38.52" E |
GPSSpeed | 0 |
GPSSpeedRef | km/h |
GPSTimeStamp | 12:03:58.45 |
GrainAmount | 0 |
GreenHue | 0 |
GreenSaturation | 0 |
HasCrop | False |
HasSettings | True |
HDREditMode | 0 |
Highlights2012 | -62 |
HueAdjustmentAqua | 0 |
HueAdjustmentBlue | 0 |
HueAdjustmentGreen | 0 |
HueAdjustmentMagenta | 0 |
HueAdjustmentOrange | 0 |
HueAdjustmentPurple | 0 |
HueAdjustmentRed | 0 |
HueAdjustmentYellow | 0 |
HyperfocalDistance | 3.04 m |
ImageHeight | 4032 |
ImageSize | 3024x4032 |
ImageWidth | 3024 |
IncrementalTemperature | +46 |
IncrementalTint | +19 |
ISO | 80 |
Lens | iPhone 14 Pro back triple camera 6.86mm f/1.78 |
LensInfo (1) | 2.22000002861193-9mm f/1.78-2.8 |
LensInfo | 2.220000029-9mm f/1.78-2.8 |
LensMake | Apple |
LensManualDistortionAmount | 0 |
LensModel | iPhone 14 Pro back triple camera 6.86mm f/1.78 |
LensProfileEnable | 0 |
LightValue | 14.2 |
LuminanceAdjustmentAqua | 0 |
LuminanceAdjustmentBlue | 0 |
LuminanceAdjustmentGreen | 0 |
LuminanceAdjustmentMagenta | 0 |
LuminanceAdjustmentOrange | 0 |
LuminanceAdjustmentPurple | 0 |
LuminanceAdjustmentRed | 0 |
LuminanceAdjustmentYellow | 0 |
LuminanceSmoothing | 0 |
Make | Apple |
Megapixels | 12.2 |
MeteringMode | Multi-segment |
Model | iPhone 14 Pro |
ModifyDate (1) | 2024:01:20 18:45:31+01:00 |
ModifyDate | 2024:01:20 18:45:31 |
OverrideLookVignette | False |
ParametricDarks | 0 |
ParametricHighlights | 0 |
ParametricHighlightSplit | 75 |
ParametricLights | 0 |
ParametricMidtoneSplit | 50 |
ParametricShadows | 0 |
ParametricShadowSplit | 25 |
PerspectiveAspect | 0 |
PerspectiveHorizontal | 0 |
PerspectiveRotate | 0.0 |
PerspectiveScale | 100 |
PerspectiveUpright | 0 |
PerspectiveVertical | 0 |
PerspectiveX | 0.00 |
PerspectiveY | 0.00 |
PointColors | -1.000000, -1.000000, -1.000000, -1.000000, -1.000000, -1.000000, -1.000000, -1.000000, -1.000000, -1.000000, -1.000000, -1.000000, -1.000000, -1.000000, -1.000000, -1.000000, -1.000000, -1.000000, -1.000000 |
PostCropVignetteAmount | 0 |
ProcessVersion | 15.4 |
ProfileDescription | Adobe RGB (1998) |
RawFileName | IMG_6166.HEIC |
RedHue | 0 |
RedSaturation | 0 |
Saturation | +2 |
SaturationAdjustmentAqua | 0 |
SaturationAdjustmentBlue | 0 |
SaturationAdjustmentGreen | 0 |
SaturationAdjustmentMagenta | 0 |
SaturationAdjustmentOrange | 0 |
SaturationAdjustmentPurple | 0 |
SaturationAdjustmentRed | 0 |
SaturationAdjustmentYellow | 0 |
ScaleFactor35efl | 3.5 |
SceneType | Directly photographed |
SensingMethod | One-chip color area |
Shadows2012 | +52 |
ShadowTint | 0 |
Sharpness | 0 |
ShutterSpeed | 1/4800 |
ShutterSpeedValue | 1/4800 |
Software | Adobe Photoshop Camera Raw 16.1 (Macintosh) |
SplitToningBalance | 0 |
SplitToningHighlightHue | 0 |
SplitToningHighlightSaturation | 0 |
SplitToningShadowHue | 0 |
SplitToningShadowSaturation | 0 |
SubjectArea | 2009 1505 2208 1324 |
Texture | 0 |
ToneCurveName2012 | Linear |
ToneCurvePV2012 | 0, 0, 255, 255 |
ToneCurvePV2012Blue | 0, 0, 255, 255 |
ToneCurvePV2012Green | 0, 0, 255, 255 |
ToneCurvePV2012Red | 0, 0, 255, 255 |
Version | 16.1 |
Vibrance | +13 |
VignetteAmount | 0 |
WhiteBalance (1) | Custom |
WhiteBalance | Auto |
Whites2012 | +13 |