Felt | Verdi |
AlreadyApplied | True |
Aperture | 16.0 |
ApertureValue | 16.0 |
ApproximateFocusDistance | 4294967295 |
AutoLateralCA | 0 |
AutoWhiteVersion | 134348800 |
BitsPerSample (1) | 8 8 8 |
BitsPerSample | 8 |
Blacks2012 | -100 |
BlueHue | 0 |
BlueSaturation | 0 |
CameraProfile | Adobe Standard |
CircleOfConfusion | 0.031 mm |
Clarity2012 | 0 |
ColorComponents | 3 |
ColorMode | RGB |
ColorNoiseReduction | 25 |
ColorNoiseReductionDetail | 50 |
ColorNoiseReductionSmoothness | 50 |
ColorSpace | Uncalibrated |
ColorTemperature | 5400 |
ColorTransform | YCbCr |
Contrast2012 | +38 |
ConvertToGrayscale | True |
CreateDate | 2015:10:02 18:01:48 |
CreatorTool | Adobe Photoshop Lightroom 6.3 (Macintosh) |
CropAngle | 1.47895 |
CropBottom | 0.922632 |
CropConstrainToWarp | 0 |
CropLeft | 0.026927 |
CropRight | 0.876953 |
CropTop | 0 |
CustomRendered | Normal |
DateCreated (1) | 2015:10:02 |
DateCreated | 2015:10:02 18:01:48 |
DateTimeOriginal | 2015:10:02 18:01:48 |
Dehaze | 0 |
DOF | inf (0.29 m - inf) |
ExifImageHeight | 904 |
ExifImageWidth | 1600 |
Exposure2012 | +0.70 |
ExposureCompensation | 0 |
ExposureMode | Auto |
ExposureProgram | Aperture-priority AE |
ExposureTime | 1/125 |
Firmware | 1.0.6 |
Flash | Off, Did not fire |
FlashCompensation | 0 |
FNumber | 16.0 |
FocalLength | 12.0 mm |
FocalLength35efl | 12.0 mm (35 mm equivalent: 11.7 mm) |
Format | image/jpeg |
FOV | 113.9 deg |
GradientBasedCorrActive | true |
GradientBasedCorrAmount | 1.000000 |
GradientBasedCorrBrightness | 0.000000 |
GradientBasedCorrClarity2012 | 0.000000 |
GradientBasedCorrContrast2012 (1) | -0.001138 |
GradientBasedCorrContrast2012 | 0.339047 |
GradientBasedCorrDefringe (1) | 0.025941 |
GradientBasedCorrDefringe | 0.000000 |
GradientBasedCorrExposure2012 (1) | -0.444782 |
GradientBasedCorrExposure2012 | 0.193833 |
GradientBasedCorrHighlights2012 (1) | -0.679384 |
GradientBasedCorrHighlights2012 | -0.011567 |
GradientBasedCorrHue | 233.000000 |
GradientBasedCorrLocalBlacks2012 | 0.007206 |
GradientBasedCorrLocalDehaze | 0.000000 |
GradientBasedCorrLocalWhites2012 (1) | 0.832866 |
GradientBasedCorrLocalWhites2012 | 0.003944 |
GradientBasedCorrLuminanceNoise | 0.000000 |
GradientBasedCorrMaskFullX (1) | 0.461540 |
GradientBasedCorrMaskFullX | 0.457611 |
GradientBasedCorrMaskFullY (1) | 0.017342 |
GradientBasedCorrMaskFullY | 0.906134 |
GradientBasedCorrMaskValue | 1.000000 |
GradientBasedCorrMaskWhat | Mask/Gradient |
GradientBasedCorrMaskZeroX (1) | 0.447214 |
GradientBasedCorrMaskZeroX | 0.465091 |
GradientBasedCorrMaskZeroY (1) | 0.908904 |
GradientBasedCorrMaskZeroY | 0.434065 |
GradientBasedCorrMoire | 0.000000 |
GradientBasedCorrSaturation (1) | 0.005954 |
GradientBasedCorrSaturation | 0.000000 |
GradientBasedCorrShadows2012 (1) | 0.005765 |
GradientBasedCorrShadows2012 | -0.794372 |
GradientBasedCorrSharpness | 0.000000 |
GradientBasedCorrTemperature | -0.004589 |
GradientBasedCorrTint | 0.001327 |
GradientBasedCorrWhat | Correction |
GrainAmount | 0 |
GrayMixerAqua | -18 |
GrayMixerBlue | +10 |
GrayMixerGreen | -27 |
GrayMixerMagenta | +4 |
GrayMixerOrange | -19 |
GrayMixerPurple | +16 |
GrayMixerRed | -10 |
GrayMixerYellow | -23 |
GreenHue | 0 |
GreenSaturation | 0 |
HasCrop | True |
HasSettings | True |
Highlights2012 | -97 |
HyperfocalDistance | 0.29 m |
ICCProfileName | Adobe RGB (1998) |
ImageHeight (1) | 3330 |
ImageHeight | 904 |
ImageNumber | 0 |
ImageSize | 1600x904 |
ImageWidth (1) | 4861 |
ImageWidth | 1600 |
ISO | 800 |
Keywords | båtter, fiskebåter, lønstrup, sjø, strand |
Lens | 12-24mm |
LensID (1) | 137 |
LensID | Sigma 12-24mm f/4.5-5.6 DG HSM II |
LensInfo | 12-24mm f/? |
LensManualDistortionAmount | 0 |
LensModel | 12-24mm |
LensProfileEnable | 0 |
LensProfileSetup | LensDefaults |
LightValue | 12.0 |
LuminanceNoiseReductionContrast | 0 |
LuminanceNoiseReductionDetail | 50 |
LuminanceSmoothing | 68 |
Make | Canon |
MaxApertureValue | 5.4 |
Megapixels | 1.4 |
MeteringMode | Multi-segment |
Model | Canon EOS 5D Mark II |
ModifyDate (1) | 2023:03:14 15:07:44+01:00 |
ModifyDate | 2023:03:14 15:07:44 |
Orientation | Horizontal (normal) |
OriginatingProgram | Topaz Labs |
ParametricDarks | 0 |
ParametricHighlights | 0 |
ParametricHighlightSplit | 75 |
ParametricLights | 0 |
ParametricMidtoneSplit | 50 |
ParametricShadows | 0 |
ParametricShadowSplit | 25 |
PerspectiveAspect | 0 |
PerspectiveHorizontal | 0 |
PerspectiveRotate | 0.0 |
PerspectiveScale | 100 |
PerspectiveUpright | 0 |
PerspectiveVertical | 0 |
PhotometricInterpretation | RGB |
PostCropVignetteAmount | 0 |
ProcessVersion | 6.7 |
ProfileDescription | Adobe RGB (1998) |
RedHue | 0 |
RedSaturation | 0 |
SamplesPerPixel | 3 |
ScaleFactor35efl | 1.0 |
SceneCaptureType | Standard |
SerialNumber | 130101597 |
Shadows2012 | +72 |
ShadowTint | 0 |
SharpenDetail | 25 |
SharpenEdgeMasking | 0 |
SharpenRadius | +1.0 |
Sharpness | 25 |
ShutterSpeed | 1/125 |
ShutterSpeedValue | 1/125 |
Software | Adobe Photoshop 24.1 (Macintosh) |
SplitToningBalance | 0 |
SplitToningHighlightHue | 0 |
SplitToningHighlightSaturation | 0 |
SplitToningShadowHue | 0 |
SplitToningShadowSaturation | 0 |
Subject | båtter, fiskebåter, lønstrup, sjø, strand |
Tint | -6 |
ToneCurve | 0, 0, 255, 255 |
ToneCurveBlue | 0, 0, 255, 255 |
ToneCurveGreen | 0, 0, 255, 255 |
ToneCurveName | Linear |
ToneCurveName2012 | Linear |
ToneCurvePV2012 | 0, 0, 255, 255 |
ToneCurvePV2012Blue | 0, 0, 255, 255 |
ToneCurvePV2012Green | 0, 0, 255, 255 |
ToneCurvePV2012Red | 0, 0, 255, 255 |
ToneCurveRed | 0, 0, 255, 255 |
ToneMapStrength | 0 |
URL_List | |
Version | 9.3 |
VignetteAmount | 0 |
WhiteBalance (1) | As Shot |
WhiteBalance | Auto |
Whites2012 | +54 |