Felt | Verdi |
AlreadyApplied | True |
Aperture | 3.0 |
ApertureValue | 3.0 |
AutoLateralCA | 0 |
AutoWhiteVersion | 134348800 |
BitsPerSample | 8 |
Blacks2012 | 0 |
BlueHue | 0 |
BlueSaturation | 0 |
CameraProfile | Embedded |
ChromaticityChannel1 | 0.64 0.33 |
ChromaticityChannel2 | 0.3 0.60001 |
ChromaticityChannel3 | 0.14999 0.06 |
ChromaticityChannels | 3 |
ChromaticityColorant | Unknown (0) |
CircleOfConfusion | 0.006 mm |
Clarity2012 | 0 |
ColorComponents | 3 |
ColorMode | RGB |
ColorNoiseReduction | 0 |
ColorSpace | sRGB |
CompressedBitsPerPixel | 0.3786666667 |
Contrast | Normal |
Contrast2012 | -21 |
ConvertToGrayscale | False |
Copyright | Foto: Torstein Hall |
CopyrightFlag | True |
CopyrightNotice | Foto: Torstein Hall |
CreateDate | 2004:12:16 05:08:15 |
CreatorTool | DxO PhotoLab 6.1 |
DateTimeOriginal | 2004:12:16 05:08:15 |
DefringeGreenAmount | 0 |
DefringeGreenHueHi | 60 |
DefringeGreenHueLo | 40 |
DefringePurpleAmount | 0 |
DefringePurpleHueHi | 70 |
DefringePurpleHueLo | 30 |
Dehaze | 0 |
DigitalZoomRatio | 0 |
ExifImageHeight | 2250 |
ExifImageWidth | 3000 |
Exposure2012 | 0.500000 |
ExposureCompensation | 0 |
ExposureMode | Auto |
ExposureProgram | Program AE |
ExposureTime | 1/60 |
Flash | On, Fired |
FNumber | 3.0 |
FocalLength | 10.2 mm |
FocalLength35efl | 10.2 mm (35 mm equivalent: 50.0 mm) |
FocalLengthIn35mmFormat | 50 mm |
Format | image/jpeg |
FOV | 39.6 deg |
GainControl | None |
GrainAmount | 0 |
GreenHue | 0 |
GreenSaturation | 0 |
HasSettings | True |
HierarchicalSubject | Cuba, reise |
Highlights2012 | 0 |
HueAdjustmentAqua | 0 |
HueAdjustmentBlue | 0 |
HueAdjustmentGreen | 0 |
HueAdjustmentMagenta | 0 |
HueAdjustmentOrange | 0 |
HueAdjustmentPurple | 0 |
HueAdjustmentRed | 0 |
HueAdjustmentYellow | 0 |
HyperfocalDistance | 5.66 m |
ICCProfileName | sRGB IEC61966-2.1 |
ImageHeight | 2250 |
ImageSize | 3000x2250 |
ImageWidth | 3000 |
IncrementalTemperature | 0 |
IncrementalTint | 0 |
Keywords | reise |
Label | Blue |
LensManualDistortionAmount | 0 |
LensProfileEnable | 0 |
LensProfileSetup | LensDefaults |
LightSource | Unknown |
LuminanceAdjustmentAqua | 0 |
LuminanceAdjustmentBlue | 0 |
LuminanceAdjustmentGreen | 0 |
LuminanceAdjustmentMagenta | 0 |
LuminanceAdjustmentOrange | 0 |
LuminanceAdjustmentPurple | 0 |
LuminanceAdjustmentRed | 0 |
LuminanceAdjustmentYellow | 0 |
LuminanceSmoothing | 0 |
Make | CASIO COMPUTER CO.,LTD. |
Marked | True |
MaxApertureValue | 2.5 |
Megapixels | 6.8 |
MeteringMode | Multi-segment |
Model | QV-R4 |
ModifyDate (1) | 2022:12:11 15:55:04+01:00 |
ModifyDate | 2022:12:11 15:55:04 |
Orientation | Horizontal (normal) |
ParametricDarks | 0 |
ParametricHighlights | 0 |
ParametricHighlightSplit | 75 |
ParametricLights | 0 |
ParametricMidtoneSplit | 50 |
ParametricShadows | 0 |
ParametricShadowSplit | 25 |
PerspectiveAspect | 0 |
PerspectiveHorizontal | 0 |
PerspectiveRotate | 0 |
PerspectiveScale | 100 |
PerspectiveUpright | 0 |
PerspectiveVertical | 0 |
PerspectiveX | 0 |
PerspectiveY | 0 |
PostCropVignetteAmount | 0 |
ProcessVersion | 6.7 |
ProfileDescription | sRGB IEC61966-2.1 |
Rating | 2 |
RatingPercent | 25 |
RawFileName | CIMG0782.JPG |
RedHue | 0 |
RedSaturation | 0 |
RegionAppliedToDimensionsH | 1200 |
RegionAppliedToDimensionsUnit | pixel |
RegionAppliedToDimensionsW | 1600 |
RegionAreaH | 0.18284, 0.11176, 0.17802 |
RegionAreaW | 0.13713, 0.08382, 0.13352 |
RegionAreaX | 0.41578, 0.17496, 0.51925 |
RegionAreaY | 0.20943, 0.24159, 0.25510 |
RegionRotation | 0.23000, 0.13217, -0.20487 |
RegionType | Face, Face, Face |
Rights | Foto: Torstein Hall |
Saturation (1) | 0 |
Saturation | Normal |
SaturationAdjustmentAqua | 0 |
SaturationAdjustmentBlue | 0 |
SaturationAdjustmentGreen | 0 |
SaturationAdjustmentMagenta | 0 |
SaturationAdjustmentOrange | 0 |
SaturationAdjustmentPurple | 0 |
SaturationAdjustmentRed | 0 |
SaturationAdjustmentYellow | 0 |
SavedSettingsName | Import |
SavedSettingsParametersAutoBrightness | False |
SavedSettingsParametersAutoContrast | False |
SavedSettingsParametersAutoExposure | False |
SavedSettingsParametersAutoGrayscaleMix | True |
SavedSettingsParametersAutoLateralCA | 0 |
SavedSettingsParametersAutoShadows | False |
SavedSettingsParametersAutoTone | True |
SavedSettingsParametersAutoWhiteVersion | 134348800 |
SavedSettingsParametersBlueHue | 0 |
SavedSettingsParametersBlueSaturation | 0 |
SavedSettingsParametersCameraProfile | Embedded |
SavedSettingsParametersChromaticAberrationB | 0 |
SavedSettingsParametersChromaticAberrationR | 0 |
SavedSettingsParametersClarity | 0 |
SavedSettingsParametersClarity2012 | 0 |
SavedSettingsParametersColorNoiseReduction | 0 |
SavedSettingsParametersColorNoiseReductionDetail | 50 |
SavedSettingsParametersColorNoiseReductionSmoothness | 50 |
SavedSettingsParametersConvertToGrayscale | False |
SavedSettingsParametersDefringe | 0 |
SavedSettingsParametersDefringeGreenAmount | 0 |
SavedSettingsParametersDefringeGreenHueHi | 60 |
SavedSettingsParametersDefringeGreenHueLo | 40 |
SavedSettingsParametersDefringePurpleAmount | 0 |
SavedSettingsParametersDefringePurpleHueHi | 70 |
SavedSettingsParametersDefringePurpleHueLo | 30 |
SavedSettingsParametersDehaze | 0 |
SavedSettingsParametersEnableCalibration | True |
SavedSettingsParametersEnableCircularGradientBasedCorrections | True |
SavedSettingsParametersEnableColorAdjustments | True |
SavedSettingsParametersEnableDetail | True |
SavedSettingsParametersEnableEffects | True |
SavedSettingsParametersEnableGradientBasedCorrections | True |
SavedSettingsParametersEnableGrayscaleMix | True |
SavedSettingsParametersEnableLensCorrections | True |
SavedSettingsParametersEnablePaintBasedCorrections | True |
SavedSettingsParametersEnableRedEye | True |
SavedSettingsParametersEnableRetouch | True |
SavedSettingsParametersEnableSplitToning | True |
SavedSettingsParametersEnableToneCurve | True |
SavedSettingsParametersEnableTransform | True |
SavedSettingsParametersGrainAmount | 0 |
SavedSettingsParametersGrainFrequency | 50 |
SavedSettingsParametersGrainSize | 50 |
SavedSettingsParametersGreenHue | 0 |
SavedSettingsParametersGreenSaturation | 0 |
SavedSettingsParametersHueAdjustmentAqua | 0 |
SavedSettingsParametersHueAdjustmentBlue | 0 |
SavedSettingsParametersHueAdjustmentGreen | 0 |
SavedSettingsParametersHueAdjustmentMagenta | 0 |
SavedSettingsParametersHueAdjustmentOrange | 0 |
SavedSettingsParametersHueAdjustmentPurple | 0 |
SavedSettingsParametersHueAdjustmentRed | 0 |
SavedSettingsParametersHueAdjustmentYellow | 0 |
SavedSettingsParametersIncrementalTemperature | 0 |
SavedSettingsParametersIncrementalTint | 0 |
SavedSettingsParametersLensManualDistortionAmount | 0 |
SavedSettingsParametersLensProfileEnable | 0 |
SavedSettingsParametersLensProfileSetup | LensDefaults |
SavedSettingsParametersLuminanceAdjustmentAqua | 0 |
SavedSettingsParametersLuminanceAdjustmentBlue | 0 |
SavedSettingsParametersLuminanceAdjustmentGreen | 0 |
SavedSettingsParametersLuminanceAdjustmentMagenta | 0 |
SavedSettingsParametersLuminanceAdjustmentOrange | 0 |
SavedSettingsParametersLuminanceAdjustmentPurple | 0 |
SavedSettingsParametersLuminanceAdjustmentRed | 0 |
SavedSettingsParametersLuminanceAdjustmentYellow | 0 |
SavedSettingsParametersLuminanceNoiseReductionContrast | 50 |
SavedSettingsParametersLuminanceNoiseReductionDetail | 50 |
SavedSettingsParametersLuminanceSmoothing | 0 |
SavedSettingsParametersParametricDarks | 0 |
SavedSettingsParametersParametricHighlights | 0 |
SavedSettingsParametersParametricHighlightSplit | 75 |
SavedSettingsParametersParametricLights | 0 |
SavedSettingsParametersParametricMidtoneSplit | 50 |
SavedSettingsParametersParametricShadows | 0 |
SavedSettingsParametersParametricShadowSplit | 25 |
SavedSettingsParametersPerspectiveAspect | 0 |
SavedSettingsParametersPerspectiveHorizontal | 0 |
SavedSettingsParametersPerspectiveRotate | 0.0 |
SavedSettingsParametersPerspectiveScale | 100 |
SavedSettingsParametersPerspectiveUpright | 0 |
SavedSettingsParametersPerspectiveVertical | 0 |
SavedSettingsParametersPerspectiveX | 0.00 |
SavedSettingsParametersPerspectiveY | 0.00 |
SavedSettingsParametersPostCropVignetteAmount | 0 |
SavedSettingsParametersPostCropVignetteFeather | 50 |
SavedSettingsParametersPostCropVignetteHighlightContrast | 0 |
SavedSettingsParametersPostCropVignetteMidpoint | 50 |
SavedSettingsParametersPostCropVignetteRoundness | 0 |
SavedSettingsParametersPostCropVignetteStyle | 1 |
SavedSettingsParametersProcessVersion | 5.0 |
SavedSettingsParametersRedHue | 0 |
SavedSettingsParametersRedSaturation | 0 |
SavedSettingsParametersSaturation | 0 |
SavedSettingsParametersSaturationAdjustmentAqua | 0 |
SavedSettingsParametersSaturationAdjustmentBlue | 0 |
SavedSettingsParametersSaturationAdjustmentGreen | 0 |
SavedSettingsParametersSaturationAdjustmentMagenta | 0 |
SavedSettingsParametersSaturationAdjustmentOrange | 0 |
SavedSettingsParametersSaturationAdjustmentPurple | 0 |
SavedSettingsParametersSaturationAdjustmentRed | 0 |
SavedSettingsParametersSaturationAdjustmentYellow | 0 |
SavedSettingsParametersShadowTint | 0 |
SavedSettingsParametersSharpenDetail | 25 |
SavedSettingsParametersSharpenEdgeMasking | 0 |
SavedSettingsParametersSharpenRadius | +1.0 |
SavedSettingsParametersSharpness | 0 |
SavedSettingsParametersSplitToningBalance | 0 |
SavedSettingsParametersSplitToningHighlightHue | 0 |
SavedSettingsParametersSplitToningHighlightSaturation | 0 |
SavedSettingsParametersSplitToningShadowHue | 0 |
SavedSettingsParametersSplitToningShadowSaturation | 0 |
SavedSettingsParametersToneCurve | 0, 0, 255, 255 |
SavedSettingsParametersToneCurveBlue | 0, 0, 255, 255 |
SavedSettingsParametersToneCurveGreen | 0, 0, 255, 255 |
SavedSettingsParametersToneCurveName | Linear |
SavedSettingsParametersToneCurveName2012 | Linear |
SavedSettingsParametersToneCurvePV2012 | 0, 0, 255, 255 |
SavedSettingsParametersToneCurvePV2012Blue | 0, 0, 255, 255 |
SavedSettingsParametersToneCurvePV2012Green | 0, 0, 255, 255 |
SavedSettingsParametersToneCurvePV2012Red | 0, 0, 255, 255 |
SavedSettingsParametersToneCurveRed | 0, 0, 255, 255 |
SavedSettingsParametersToneMapStrength | 0 |
SavedSettingsParametersUprightCenterMode | 0 |
SavedSettingsParametersUprightCenterNormX | 0.5 |
SavedSettingsParametersUprightCenterNormY | 0.5 |
SavedSettingsParametersUprightFocalLength35mm | 35 |
SavedSettingsParametersUprightFocalMode | 0 |
SavedSettingsParametersUprightFourSegmentsCount | 0 |
SavedSettingsParametersUprightPreview | False |
SavedSettingsParametersUprightTransformCount | 6 |
SavedSettingsParametersUprightVersion | 151388160 |
SavedSettingsParametersVersion | 9.12 |
SavedSettingsParametersVibrance | 0 |
SavedSettingsParametersVignetteAmount | 0 |
SavedSettingsParametersVignetteMidpoint | 50 |
SavedSettingsParametersWhiteBalance | As Shot |
SavedSettingsType | Snapshot |
ScaleFactor35efl | 4.9 |
SceneCaptureType | Standard |
Shadows2012 | 0 |
ShadowTint | 0 |
SharpenDetail | 25 |
SharpenEdgeMasking | 0 |
SharpenRadius | 1 |
Sharpness (1) | 0 |
Sharpness | Normal |
ShutterSpeed | 1/60 |
ShutterSpeedValue | 1/60 |
Software | DxO PhotoLab 6.1 |
SplitToningBalance | 0 |
SplitToningHighlightHue | 0 |
SplitToningHighlightSaturation | 0 |
SplitToningShadowHue | 0 |
SplitToningShadowSaturation | 0 |
Subject | reise |
ToneCurve | 0, 0, 255, 255 |
ToneCurveBlue | 0, 0, 255, 255 |
ToneCurveGreen | 0, 0, 255, 255 |
ToneCurveName | Linear |
ToneCurveName2012 | Linear |
ToneCurvePV2012 | 0, 0, 255, 255 |
ToneCurvePV2012Blue | 0, 0, 255, 255 |
ToneCurvePV2012Green | 0, 0, 255, 255 |
ToneCurvePV2012Red | 0, 0, 255, 255 |
ToneCurveRed | 0, 0, 255, 255 |
ToneMapStrength | 0 |
URL | www.ohb.no |
Version | 9.12 |
Vibrance | 0 |
VignetteAmount | 0 |
WebStatement | www.ohb.no |
WhiteBalance (1) | As Shot |
WhiteBalance | Auto |
Whites2012 | 0 |