Felt | Verdi |
AlreadyApplied | True |
Aperture | 5.6 |
ApertureValue | 5.6 |
ApproximateFocusDistance | 3.37 |
AutoLateralCA | 1 |
AutoWhiteVersion | 134348800 |
BitsPerSample | 8 |
Blacks2012 | +16 |
BlueHue | 0 |
BlueSaturation | 0 |
CameraProfile | Adobe Standard |
CircGradBasedCorrActive | true |
CircGradBasedCorrAmount | 1.000000 |
CircGradBasedCorrBrightness | 0.000000 |
CircGradBasedCorrClarity2012 (2) | 0.080009 |
CircGradBasedCorrClarity2012 | 0.000000 |
CircGradBasedCorrContrast2012 (2) | 0.073951 |
CircGradBasedCorrContrast2012 | 0.000000 |
CircGradBasedCorrDefringe | 0.000000 |
CircGradBasedCorrExposure2012 (1) | -0.173225 |
CircGradBasedCorrExposure2012 (2) | 0.147864 |
CircGradBasedCorrExposure2012 | 0.132446 |
CircGradBasedCorrHighlights2012 (2) | 0.148594 |
CircGradBasedCorrHighlights2012 | 0.000000 |
CircGradBasedCorrHue | 230.000000 |
CircGradBasedCorrLocalBlacks2012 (2) | 0.000000 |
CircGradBasedCorrLocalBlacks2012 | -0.135647 |
CircGradBasedCorrLocalDehaze (1) | 0.127464 |
CircGradBasedCorrLocalDehaze (2) | 0.000000 |
CircGradBasedCorrLocalDehaze | -0.212847 |
CircGradBasedCorrLocalWhites2012 (1) | 0.158385 |
CircGradBasedCorrLocalWhites2012 (2) | 0.125504 |
CircGradBasedCorrLocalWhites2012 | -0.038137 |
CircGradBasedCorrLuminanceNoise (2) | 0.098852 |
CircGradBasedCorrLuminanceNoise | 0.000000 |
CircGradBasedCorrMaskAngle (1) | 25.169000 |
CircGradBasedCorrMaskAngle (2) | 28.175000 |
CircGradBasedCorrMaskAngle | -14.701700 |
CircGradBasedCorrMaskBottom (1) | 0.898577 |
CircGradBasedCorrMaskBottom (2) | 0.953844 |
CircGradBasedCorrMaskBottom | 0.361151 |
CircGradBasedCorrMaskFeather | +73 |
CircGradBasedCorrMaskFlipped (1) | false |
CircGradBasedCorrMaskFlipped | true |
CircGradBasedCorrMaskLeft (1) | 0.273794 |
CircGradBasedCorrMaskLeft (2) | 0.285400 |
CircGradBasedCorrMaskLeft | 0.127850 |
CircGradBasedCorrMaskMidpoint | +50 |
CircGradBasedCorrMaskRight (1) | 0.945484 |
CircGradBasedCorrMaskRight (2) | 0.917871 |
CircGradBasedCorrMaskRight | 0.271488 |
CircGradBasedCorrMaskRoundness | 0 |
CircGradBasedCorrMaskTop (1) | -0.007595 |
CircGradBasedCorrMaskTop (2) | -0.006004 |
CircGradBasedCorrMaskTop | 0.285649 |
CircGradBasedCorrMaskValue | 1.000000 |
CircGradBasedCorrMaskVersion | +2 |
CircGradBasedCorrMaskWhat | Mask/CircularGradient |
CircGradBasedCorrMoire | 0.000000 |
CircGradBasedCorrSaturation (3) | -0.111596 |
CircGradBasedCorrSaturation | 0.000000 |
CircGradBasedCorrShadows2012 (1) | -0.128840 |
CircGradBasedCorrShadows2012 | 0.000000 |
CircGradBasedCorrSharpness | 0.000000 |
CircGradBasedCorrTemperature | 0.000000 |
CircGradBasedCorrTint | 0.000000 |
CircGradBasedCorrWhat | Correction |
CircleOfConfusion | 0.030 mm |
Clarity2012 | 0 |
ColorComponents | 3 |
ColorNoiseReduction | 65 |
ColorNoiseReductionDetail | 50 |
ColorNoiseReductionSmoothness | 64 |
ColorSpace | sRGB |
ColorTemperature | 5800 |
ColorTransform | YCbCr |
Contrast2012 | +7 |
ConvertToGrayscale | False |
CreateDate (1) | 2022:10:10 12:46:57.17 |
CreateDate | 2022:10:10 12:46:57 |
CreatorTool | Adobe Photoshop Lightroom 6.12 (Macintosh) |
CustomRendered | Normal |
DateCreated (1) | 2022:10:10 |
DateCreated | 2022:10:10 12:46:57.17 |
DateTimeOriginal | 2022:10:10 12:46:57 |
DefringeGreenAmount | 0 |
DefringeGreenHueHi | 60 |
DefringeGreenHueLo | 40 |
DefringePurpleAmount | 0 |
DefringePurpleHueHi | 70 |
DefringePurpleHueLo | 30 |
Dehaze | 0 |
DistortionCorrectionAlreadyApplied | True |
DOF | inf (1.48 m - inf) |
Exposure2012 | -1.15 |
ExposureCompensation | 0 |
ExposureMode | Manual |
ExposureProgram | Manual |
ExposureTime | 1/160 |
Firmware | 1.0.4 |
Flash | Off, Did not fire |
FlashCompensation | 0 |
FNumber | 5.6 |
FocalLength | 21.0 mm |
FocalLength35efl | 21.0 mm (35 mm equivalent: 21.0 mm) |
Format | image/jpeg |
FOV | 81.1 deg |
GrainAmount | 33 |
GrainFrequency | 53 |
GrainSize | 33 |
GreenHue | 0 |
GreenSaturation | 0 |
HasCrop | False |
HasExtendedXMP | 374612ADF2056E1A56528E2F3D1E856C |
HasSettings | True |
Highlights2012 | -29 |
HueAdjustmentAqua | 0 |
HueAdjustmentBlue | 0 |
HueAdjustmentGreen | 0 |
HueAdjustmentMagenta | 0 |
HueAdjustmentOrange | 0 |
HueAdjustmentPurple | 0 |
HueAdjustmentRed | 0 |
HueAdjustmentYellow | 0 |
HyperfocalDistance | 2.63 m |
ImageHeight | 4160 |
ImageNumber | 0 |
ImageSize | 6240x4160 |
ImageWidth | 6240 |
ISO | 100 |
LateralChromaticAberrationCorrectionAlreadyApplied | True |
Lens | EF16-35mm f/4L IS USM |
LensID (1) | 507 |
LensID | Canon EF 16-35mm f/4L IS USM |
LensInfo | 16-35mm f/? |
LensManualDistortionAmount | 0 |
LensModel | EF16-35mm f/4L IS USM |
LensProfileChromaticAberrationScale | 100 |
LensProfileDistortionScale | 100 |
LensProfileEnable | 1 |
LensProfileFilename | Canon EOS-1Ds Mark III (Canon EF 16-35mm f4L IS USM v2) - RAW.lcp |
LensProfileName | Adobe (Canon EF 16-35mm f/4L IS USM) v2 |
LensProfileSetup | LensDefaults |
LensProfileVignettingScale | 100 |
LensSerialNumber | 8090002002 |
LightValue | 12.3 |
LuminanceAdjustmentAqua | 0 |
LuminanceAdjustmentBlue | 0 |
LuminanceAdjustmentGreen | 0 |
LuminanceAdjustmentMagenta | 0 |
LuminanceAdjustmentOrange | 0 |
LuminanceAdjustmentPurple | 0 |
LuminanceAdjustmentRed | 0 |
LuminanceAdjustmentYellow | 0 |
LuminanceNoiseReductionContrast | 64 |
LuminanceNoiseReductionDetail | 50 |
LuminanceSmoothing | 58 |
Make | Canon |
MaxApertureValue | 4.0 |
Megapixels | 26.0 |
MeteringMode | Partial |
Model | Canon EOS 6D Mark II |
ModifyDate (1) | 2022:10:11 16:56:23+02:00 |
ModifyDate | 2022:10:11 16:56:23 |
PaintCorrectionActive | true |
PaintCorrectionAmount | 1.000000 |
PaintCorrectionBrightness | 0.000000 |
PaintCorrectionClarity2012 | 0.000000 |
PaintCorrectionContrast2012 | 0.000000 |
PaintCorrectionDefringe | 0.000000 |
PaintCorrectionExposure2012 (1) | 0.418040 |
PaintCorrectionExposure2012 (2) | 0.180429 |
PaintCorrectionExposure2012 (3) | 0.340432 |
PaintCorrectionExposure2012 (4) | 0.347865 |
PaintCorrectionExposure2012 | 0.000000 |
PaintCorrectionHighlights2012 | 0.000000 |
PaintCorrectionHue | 230.000000 |
PaintCorrectionLocalBlacks2012 (1) | 0.000000 |
PaintCorrectionLocalBlacks2012 (2) | 0.270621 |
PaintCorrectionLocalBlacks2012 (3) | 0.380451 |
PaintCorrectionLocalBlacks2012 | 0.303165 |
PaintCorrectionLocalDehaze | 0.000000 |
PaintCorrectionLocalWhites2012 | 0.000000 |
PaintCorrectionLuminanceNoise | 0.000000 |
PaintCorrectionMaskCenterWeight | 0.158928 |
PaintCorrectionMaskFlow | 0.482104 |
PaintCorrectionMaskRadius (1) | 0.034943 |
PaintCorrectionMaskRadius (10) | 0.034518 |
PaintCorrectionMaskRadius (11) | 0.035396 |
PaintCorrectionMaskRadius (12) | 0.025476 |
PaintCorrectionMaskRadius (13) | 0.014869 |
PaintCorrectionMaskRadius (14) | 0.060711 |
PaintCorrectionMaskRadius (15) | 0.060436 |
PaintCorrectionMaskRadius (16) | 0.035334 |
PaintCorrectionMaskRadius (17) | 0.037021 |
PaintCorrectionMaskRadius (18) | 0.017933 |
PaintCorrectionMaskRadius (19) | 0.017832 |
PaintCorrectionMaskRadius (2) | 0.035194 |
PaintCorrectionMaskRadius (20) | 0.017760 |
PaintCorrectionMaskRadius (21) | 0.017348 |
PaintCorrectionMaskRadius (22) | 0.017996 |
PaintCorrectionMaskRadius (3) | 0.015714 |
PaintCorrectionMaskRadius (4) | 0.010146 |
PaintCorrectionMaskRadius (5) | 0.009701 |
PaintCorrectionMaskRadius (6) | 0.009790 |
PaintCorrectionMaskRadius (7) | 0.009958 |
PaintCorrectionMaskRadius (8) | 0.009776 |
PaintCorrectionMaskRadius (9) | 0.034439 |
PaintCorrectionMaskRadius | 0.090771 |
PaintCorrectionMaskValue | 0.396928 |
PaintCorrectionMaskWhat | Mask/Paint |
PaintCorrectionMoire | 0.000000 |
PaintCorrectionSaturation | 0.000000 |
PaintCorrectionShadows2012 (1) | 0.461817 |
PaintCorrectionShadows2012 (2) | 0.217325 |
PaintCorrectionShadows2012 (3) | 0.326518 |
PaintCorrectionShadows2012 (4) | 0.412092 |
PaintCorrectionShadows2012 | 0.000000 |
PaintCorrectionSharpness | 0.000000 |
PaintCorrectionTemperature | 0.000000 |
PaintCorrectionTint | 0.000000 |
PaintCorrectionWhat | Correction |
ParametricDarks | 0 |
ParametricHighlights | 0 |
ParametricHighlightSplit | 75 |
ParametricLights | 0 |
ParametricMidtoneSplit | 50 |
ParametricShadows | 0 |
ParametricShadowSplit | 25 |
PerspectiveAspect | 0 |
PerspectiveHorizontal | 0 |
PerspectiveRotate | 0.0 |
PerspectiveScale | 100 |
PerspectiveUpright | 1 |
PerspectiveVertical | 0 |
PerspectiveX | 0.00 |
PerspectiveY | 0.00 |
PostCropVignetteAmount | 0 |
ProcessVersion | 6.7 |
ProfileDescription | sRGB IEC61966-2.1 |
RecommendedExposureIndex | 100 |
RedHue | 0 |
RedSaturation | 0 |
Saturation | -61 |
SaturationAdjustmentAqua | 0 |
SaturationAdjustmentBlue | 0 |
SaturationAdjustmentGreen | 0 |
SaturationAdjustmentMagenta | 0 |
SaturationAdjustmentOrange | 0 |
SaturationAdjustmentPurple | 0 |
SaturationAdjustmentRed | 0 |
SaturationAdjustmentYellow | 0 |
ScaleFactor35efl | 1.0 |
SceneCaptureType | Standard |
SensitivityType | Recommended Exposure Index |
SerialNumber | 283052000091 |
Shadows2012 | +16 |
ShadowTint | 0 |
SharpenDetail | 54 |
SharpenEdgeMasking | 0 |
SharpenRadius | +1.0 |
Sharpness | 66 |
ShutterSpeed | 1/160 |
ShutterSpeedValue | 1/160 |
Software | Adobe Photoshop Lightroom 6.12 (Macintosh) |
SplitToningBalance | 0 |
SplitToningHighlightHue | 0 |
SplitToningHighlightSaturation | 0 |
SplitToningShadowHue | 0 |
SplitToningShadowSaturation | 0 |
Tint | +10 |
ToneCurve | 0, 0, 255, 255 |
ToneCurveBlue | 0, 0, 255, 255 |
ToneCurveGreen | 0, 0, 255, 255 |
ToneCurveName | Linear |
ToneCurveName2012 | Linear |
ToneCurvePV2012 | 0, 0, 255, 255 |
ToneCurvePV2012Blue | 0, 0, 255, 255 |
ToneCurvePV2012Green | 0, 0, 255, 255 |
ToneCurvePV2012Red | 0, 0, 255, 255 |
ToneCurveRed | 0, 0, 255, 255 |
ToneMapStrength | 0 |
Version | 9.12 |
Vibrance | -100 |
VignetteAmount | 0 |
VignetteCorrectionAlreadyApplied | True |
WhiteBalance (1) | As Shot |
WhiteBalance | Manual |
Whites2012 | +16 |