Felt | Verdi |
AbsoluteAltitude | +19.60 |
AlreadyApplied | True |
Aperture | 2.8 |
ApertureValue | 2.8 |
AutoLateralCA | 0 |
BitsPerSample | 8 |
Blacks2012 | -2 |
BlueHue | 0 |
BlueSaturation | 0 |
CameraProfile | Embedded |
CamReverse | 0 |
Caption-Abstract | Eidsvollsbygningen - 1814. |
Clarity2012 | +65 |
ColorComponents | 3 |
ColorGradeBlending | 50 |
ColorGradeGlobalHue | 0 |
ColorGradeGlobalLum | 0 |
ColorGradeGlobalSat | 0 |
ColorGradeHighlightLum | 0 |
ColorGradeMidtoneHue | 0 |
ColorGradeMidtoneLum | -20 |
ColorGradeMidtoneSat | 0 |
ColorGradeShadowLum | -2 |
ColorNoiseReduction | 0 |
ColorSpace | sRGB |
ColorTransform | YCbCr |
Contrast | Normal |
Contrast2012 | +10 |
CreateDate | 2022:06:06 19:54:43 |
CreatorTool | Adobe Photoshop Lightroom Classic 11.3.1 (Macintosh) |
CropAngle | 0 |
CropBottom | 1 |
CropConstrainToWarp | 0 |
CropLeft | 0 |
CropRight | 1 |
CropTop | 0 |
DateCreated (1) | 2022:06:06 |
DateCreated | 2022:06:06 19:54:43 |
DateTimeOriginal | 2022:06:06 19:54:43 |
Dehaze | 0 |
Description | Eidsvollsbygningen - 1814. |
DigitalZoomRatio | 1 |
Exposure2012 | -1.58 |
ExposureCompensation | +0.3 |
ExposureMode | Manual |
ExposureProgram | Manual |
ExposureTime | 1/400 |
Flash | No Flash |
FlightPitchDegree | +0.20 |
FlightRollDegree | +0.10 |
FlightYawDegree | +91.40 |
FNumber | 2.8 |
FocalLength | 4.5 mm |
FocalLength35efl | 4.5 mm |
Format | image/jpeg |
GainControl | None |
GimbalPitchDegree | -22.80 |
GimbalReverse | 0 |
GimbalRollDegree | +0.00 |
GimbalYawDegree | +93.90 |
GPSLatitude | 60 deg 18' 2.76" N |
GPSLongitude | 11 deg 10' 10.96" E |
GPSPosition | 60 deg 18' 2.76" N, 11 deg 10' 10.96" E |
GrainAmount | 0 |
GrayMixerAqua | -19 |
GrayMixerBlue | +2 |
GrayMixerGreen | +58 |
GrayMixerMagenta | +4 |
GrayMixerOrange | -21 |
GrayMixerPurple | -13 |
GrayMixerRed | -12 |
GrayMixerYellow | -23 |
GreenHue | 0 |
GreenSaturation | 0 |
HasCrop | False |
HasSettings | True |
Highlights2012 | -16 |
ImageDescription | Eidsvollsbygningen - 1814. |
ImageHeight | 6144 |
ImageSize | 8000x6144 |
ImageWidth | 8000 |
IncrementalTemperature | -3 |
IncrementalTint | 0 |
ISO | 100 |
Keywords | 1814, Bygning, Eidsvoll Verk, Eidsvollsbygningen, Grunnloven, Norge, bygg, drone, dronephotographer, eidsvoll, historisk |
Label | Green |
Lens | 24.0 mm f/2.8 |
LensInfo | 24mm f/2.8 |
LensManualDistortionAmount | 0 |
LensModel | 24.0 mm f/2.8 |
LensProfileEnable | 0 |
LightSource | Fluorescent |
LightValue | 11.6 |
LookAmount | 1.5 |
LookCluster | Adobe |
LookGroup | B&W |
LookName | B&W 01 |
LookParametersBlacks2012 | -10 |
LookParametersClarity2012 | +8 |
LookParametersContrast2012 | +33 |
LookParametersConvertToGrayscale | True |
LookParametersHighlights2012 | -40 |
LookParametersLookTable | 62CE423BDCA099FE0B786CA01EB606B0 |
LookParametersProcessVersion | 11.0 |
LookParametersShadows2012 | +45 |
LookParametersToneCurvePV2012 | 0, 0, 17, 17, 34, 36, 51, 55, 68, 75, 85, 96, 102, 116, 119, 136, 136, 154, 153, 171, 170, 187, 187, 202, 204, 216, 221, 230, 238, 242, 255, 255 |
LookParametersToneCurvePV2012Blue | 0, 0, 255, 255 |
LookParametersToneCurvePV2012Green | 0, 0, 255, 255 |
LookParametersToneCurvePV2012Red | 0, 0, 255, 255 |
LookParametersVersion | 14.3 |
LookSortName | B&W 01 |
LookSupportsMonochrome | false |
LuminanceNoiseReductionContrast | 14 |
LuminanceNoiseReductionDetail | 50 |
LuminanceSmoothing | 33 |
Make | DJI |
MaxApertureValue | 2.8 |
Megapixels | 49.2 |
MeteringMode | Average |
Model | FC3170 |
ModifyDate (1) | 2022:06:07 09:47:20+02:00 |
ModifyDate | 2022:06:07 09:47:20 |
ObjectName | Eidsvollsbygningen |
OverrideLookVignette | False |
ParametricDarks | 0 |
ParametricHighlights | 0 |
ParametricHighlightSplit | 75 |
ParametricLights | 0 |
ParametricMidtoneSplit | 50 |
ParametricShadows | 0 |
ParametricShadowSplit | 25 |
PerspectiveAspect | 0 |
PerspectiveHorizontal | 0 |
PerspectiveRotate | 0.0 |
PerspectiveScale | 100 |
PerspectiveUpright | 0 |
PerspectiveVertical | 0 |
PerspectiveX | 0.00 |
PerspectiveY | 0.00 |
PostCropVignetteAmount | 0 |
PreservedFileName | DJI_0060.JPG |
ProcessVersion | 11.0 |
ProfileDescription | sRGB IEC61966-2.1 |
RawFileName | |
RedHue | 0 |
RedSaturation | 0 |
RelativeAltitude | +19.60 |
Saturation (1) | +8 |
Saturation | Normal |
SaturationAdjustmentAqua | +6 |
SaturationAdjustmentBlue | +23 |
SceneCaptureType | Standard |
SceneType | Directly photographed |
SelfData | |
SerialNumber | 1TCLH6H03FJ5WB |
Shadows2012 | +24 |
ShadowTint | 0 |
SharpenDetail | 47 |
SharpenEdgeMasking | 32 |
SharpenRadius | +2.1 |
Sharpness (1) | 49 |
Sharpness | Normal |
ShutterSpeed | 1/400 |
ShutterSpeedValue | 1/400 |
Software | Adobe Photoshop Lightroom Classic 11.3.1 (Macintosh) |
SplitToningBalance | 0 |
SplitToningHighlightHue | 0 |
SplitToningHighlightSaturation | 0 |
SplitToningShadowHue | 0 |
SplitToningShadowSaturation | 0 |
Subject | 1814, Bygning, Eidsvoll Verk, Eidsvollsbygningen, Grunnloven, Norge, bygg, drone, dronephotographer, eidsvoll, historisk |
Texture | +24 |
Title | Eidsvollsbygningen |
ToneCurveName2012 | Linear |
ToneCurvePV2012 | 0, 0, 255, 255 |
ToneCurvePV2012Blue | 0, 0, 255, 255 |
ToneCurvePV2012Green | 0, 0, 255, 255 |
ToneCurvePV2012Red | 0, 0, 255, 255 |
Version | 14.3 |
Vibrance | +36 |
VignetteAmount | 0 |
WeightedFlatSubject | Eidsvollsbygningen, eidsvoll, Eidsvoll Verk, 1814, Norge, Grunnloven, Bygning, bygg, historisk, drone, dronephotographer |
WhiteBalance (1) | Custom |
WhiteBalance | Auto |
Whites2012 | +40 |