Felt | Verdi |
AlreadyApplied | True |
Aperture | 1.8 |
ApertureValue | 1.8 |
ApproximateFocusDistance | 5.95 |
AutoLateralCA | 0 |
BitsPerSample | 8 |
Blacks2012 | +9 |
BlueHue | -20 |
BlueSaturation | -10 |
CameraProfile | Embedded |
CircleOfConfusion | 0.019 mm |
Clarity2012 | +16 |
ColorComponents | 3 |
ColorGradeBlending | 100 |
ColorGradeGlobalHue | 0 |
ColorGradeGlobalLum | 0 |
ColorGradeGlobalSat | 0 |
ColorGradeHighlightLum | 0 |
ColorGradeMidtoneHue | 0 |
ColorGradeMidtoneLum | 0 |
ColorGradeMidtoneSat | 0 |
ColorGradeShadowLum | 0 |
ColorNoiseReduction | 10 |
ColorNoiseReductionDetail | 50 |
ColorNoiseReductionSmoothness | 50 |
ColorSpace | sRGB |
ColorTransform | YCbCr |
Contrast2012 | -12 |
ConvertToGrayscale | False |
CreateDate (1) | 2021:08:28 18:55:23.32Z |
CreateDate | 2021:08:28 18:55:23 |
CreatorTool | Adobe Lightroom 6.4.0 (iOS) |
CropAngle | 0 |
CropBottom | 0.978117 |
CropConstrainToWarp | 0 |
CropLeft | 0.004605 |
CropRight | 0.953323 |
CropTop | 0.000986 |
CustomRendered | Normal |
DateCreated (1) | 2021:08:28 |
DateCreated | 2021:08:28 18:55:23.32Z |
DateTimeOriginal | 2021:08:28 18:55:23 |
DefringeGreenAmount | 0 |
DefringeGreenHueHi | 60 |
DefringeGreenHueLo | 40 |
DefringePurpleAmount | 0 |
DefringePurpleHueHi | 70 |
DefringePurpleHueLo | 30 |
Dehaze | 0 |
DOF | 0.98 m (5.50 - 6.48 m) |
Exposure2012 | -0.12 |
ExposureCompensation | 0 |
ExposureMode | Manual |
ExposureProgram | Manual |
ExposureTime | 1/800 |
Firmware | 1.0.2 |
Flash | No Flash |
FlashCompensation | 0 |
FNumber | 1.8 |
FocalLength | 50.0 mm |
FocalLength35efl | 50.0 mm (35 mm equivalent: 77.7 mm) |
Format | image/jpeg |
FOV | 26.1 deg |
GrainAmount | 0 |
GreenHue | +72 |
GreenSaturation | -15 |
HasCrop | True |
HasSettings | True |
Highlights2012 | -65 |
HueAdjustmentAqua | +17 |
HueAdjustmentBlue | -30 |
HueAdjustmentGreen | -18 |
HueAdjustmentMagenta | +2 |
HueAdjustmentOrange | +4 |
HueAdjustmentPurple | +3 |
HueAdjustmentRed | -3 |
HueAdjustmentYellow | -20 |
HyperfocalDistance | 71.85 m |
ImageHeight | 5692 |
ImageNumber | 0 |
ImageSize | 3908x5692 |
ImageWidth | 3908 |
IncrementalTemperature | +13 |
IncrementalTint | -2 |
ISO | 100 |
Lens | EF50mm f/1.8 STM |
LensID (1) | 4156 |
LensID | Canon EF 50mm f/1.8 STM |
LensInfo | 50mm f/? |
LensManualDistortionAmount | 0 |
LensModel | EF50mm f/1.8 STM |
LensProfileEnable | 0 |
LensSerialNumber | 0000000000 |
LightValue | 11.3 |
LuminanceAdjustmentAqua | -5 |
LuminanceAdjustmentBlue | 0 |
LuminanceAdjustmentGreen | -8 |
LuminanceAdjustmentMagenta | +22 |
LuminanceAdjustmentOrange | -20 |
LuminanceAdjustmentPurple | +15 |
LuminanceAdjustmentRed | -12 |
LuminanceAdjustmentYellow | -20 |
LuminanceNoiseReductionContrast | 0 |
LuminanceNoiseReductionDetail | 50 |
LuminanceSmoothing | 12 |
Make | Canon |
MaxApertureValue | 1.8 |
Megapixels | 22.2 |
MeteringMode | Multi-segment |
Model | Canon EOS M50 |
ModifyDate (1) | 2021:08:29 14:21:52+02:00 |
ModifyDate | 2021:08:29 14:21:52 |
OverrideLookVignette | True |
ParametricDarks | 0 |
ParametricHighlights | 0 |
ParametricHighlightSplit | 75 |
ParametricLights | 0 |
ParametricMidtoneSplit | 50 |
ParametricShadows | 0 |
ParametricShadowSplit | 25 |
PerspectiveAspect | 0 |
PerspectiveHorizontal | 0 |
PerspectiveRotate | 0.0 |
PerspectiveScale | 100 |
PerspectiveUpright | 0 |
PerspectiveVertical | 0 |
PerspectiveX | 0.00 |
PerspectiveY | 0.00 |
PostCropVignetteAmount | -3 |
PostCropVignetteFeather | 50 |
PostCropVignetteHighlightContrast | 0 |
PostCropVignetteMidpoint | 50 |
PostCropVignetteRoundness | 0 |
PostCropVignetteStyle | 1 |
ProcessVersion | 11.0 |
ProfileDescription | sRGB IEC61966-2.1 |
RecommendedExposureIndex | 100 |
RedHue | +47 |
RedSaturation | -28 |
Saturation | -23 |
SaturationAdjustmentAqua | +5 |
SaturationAdjustmentBlue | 0 |
SaturationAdjustmentGreen | +1 |
SaturationAdjustmentMagenta | 0 |
SaturationAdjustmentOrange | -22 |
SaturationAdjustmentPurple | -2 |
SaturationAdjustmentRed | -10 |
SaturationAdjustmentYellow | -3 |
ScaleFactor35efl | 1.6 |
SceneCaptureType | Standard |
SensitivityType | Recommended Exposure Index |
SerialNumber | 903039006090 |
Shadows2012 | +62 |
ShadowTint | 0 |
SharpenDetail | 25 |
SharpenEdgeMasking | 0 |
SharpenRadius | +1.0 |
Sharpness | 32 |
ShutterSpeed | 1/800 |
ShutterSpeedValue | 1/800 |
Software | Adobe Lightroom 6.4.0 (iOS) |
SplitToningBalance | 0 |
SplitToningHighlightHue | 139 |
SplitToningHighlightSaturation | 0 |
SplitToningShadowHue | 62 |
SplitToningShadowSaturation | 14 |
Texture | +12 |
ToneCurveName2012 | Custom |
ToneCurvePV2012 | 0, 61, 56, 72, 117, 119, 179, 174, 255, 255 |
ToneCurvePV2012Blue | 0, 0, 40, 13, 88, 63, 128, 120, 197, 206, 255, 255 |
ToneCurvePV2012Green | 0, 0, 44, 16, 90, 64, 130, 123, 189, 198, 255, 255 |
ToneCurvePV2012Red | 0, 0, 39, 9, 89, 60, 127, 120, 197, 206, 255, 255 |
Version | 13.3 |
Vibrance | +4 |
VignetteAmount | 0 |
WhiteBalance (1) | Custom |
WhiteBalance | Manual |
Whites2012 | -64 |