Felt | Verdi |
AlreadyApplied | True |
Aperture | 11.0 |
ApertureValue | 11.0 |
ApproximateFocusDistance | 4294967295 |
Artist | Sven E Fredriksen |
AutoLateralCA | 1 |
BitsPerSample | 8 |
Blacks2012 | 0 |
BlueHue | 0 |
BlueSaturation | +7 |
By-line | Sven E Fredriksen |
CameraProfile | Adobe Standard |
CircGradBasedCorrActive | true |
CircGradBasedCorrAmount | 1.000000 |
CircGradBasedCorrBrightness | 0.000000 |
CircGradBasedCorrClarity2012 | 0.000000 |
CircGradBasedCorrContrast2012 | 0.003585 |
CircGradBasedCorrDefringe | 1.000000 |
CircGradBasedCorrExposure2012 | 0.145041 |
CircGradBasedCorrHighlights2012 | 0.311519 |
CircGradBasedCorrHue | 240.000000 |
CircGradBasedCorrLocalDehaze | 0.008912 |
CircGradBasedCorrLocalHue | 0.010190 |
CircGradBasedCorrLocalTexture | 0.000000 |
CircGradBasedCorrLuminanceNoise | 0.000000 |
CircGradBasedCorrMaskAngle (1) | -2.678940 |
CircGradBasedCorrMaskAngle | 0.000000 |
CircGradBasedCorrMaskBottom (1) | 0.655830 |
CircGradBasedCorrMaskBottom | 1.027380 |
CircGradBasedCorrMaskFeather | +65 |
CircGradBasedCorrMaskFlipped | true |
CircGradBasedCorrMaskLeft (1) | 0.467324 |
CircGradBasedCorrMaskLeft | 0.569888 |
CircGradBasedCorrMaskMidpoint | +50 |
CircGradBasedCorrMaskRight (1) | 0.755056 |
CircGradBasedCorrMaskRight | 0.851102 |
CircGradBasedCorrMaskRoundness | 0 |
CircGradBasedCorrMaskTop (1) | 0.291495 |
CircGradBasedCorrMaskTop | 0.573989 |
CircGradBasedCorrMaskValue | 1.000000 |
CircGradBasedCorrMaskVersion | +2 |
CircGradBasedCorrMoire | 0.000000 |
CircGradBasedCorrSaturation | 0.000000 |
CircGradBasedCorrShadows2012 | 0.000000 |
CircGradBasedCorrSharpness | 0.000000 |
CircGradBasedCorrTemperature | 0.099932 |
CircGradBasedCorrTint | 0.000000 |
CircGradBasedCorrWhat | Correction |
CircleOfConfusion | 0.030 mm |
Clarity2012 | +25 |
ColorComponents | 3 |
ColorGradeBlending | 50 |
ColorGradeGlobalHue | 0 |
ColorGradeGlobalLum | 0 |
ColorGradeGlobalSat | 0 |
ColorGradeHighlightLum | 0 |
ColorGradeMidtoneHue | 0 |
ColorGradeMidtoneLum | 0 |
ColorGradeMidtoneSat | 0 |
ColorGradeShadowLum | 0 |
ColorNoiseReduction | 25 |
ColorNoiseReductionDetail | 50 |
ColorNoiseReductionSmoothness | 50 |
ColorSpace | sRGB |
ColorTemperature | 5500 |
ColorTransform | YCbCr |
Contrast2012 | +19 |
CreateDate | 2021:02:19 07:18:21 |
Creator | Sven E Fredriksen |
CropAngle | -0.005459 |
CropBottom | 0.934347 |
CropConstrainToWarp | 0 |
CropLeft | 0.030516 |
CropRight | 0.964923 |
CropTop | 0.000133 |
CustomRendered | Normal |
DateCreated (1) | 2021:02:19 |
DateCreated | 2021:02:19 07:18:21.12+01:00 |
DateTimeOriginal | 2021:02:19 07:18:21 |
DefringeGreenAmount | 0 |
DefringeGreenHueHi | 60 |
DefringeGreenHueLo | 40 |
DefringePurpleAmount | 0 |
DefringePurpleHueHi | 70 |
DefringePurpleHueLo | 30 |
Dehaze | 0 |
DistortionCorrectionAlreadyApplied | True |
DOF | inf (2.20 m - inf) |
Exposure2012 | +0.90 |
ExposureCompensation | 0 |
ExposureMode | Auto |
ExposureProgram | Bulb |
ExposureTime | 434 |
Firmware | 1.2.0 |
Flash | No Flash |
FlashCompensation | 0 |
FNumber | 11.0 |
FocalLength | 27.0 mm |
Format | image/jpeg |
FOV | 67.5 deg |
GradientBasedCorrActive | true |
GradientBasedCorrAmount | 1.000000 |
GradientBasedCorrBrightness | 0.000000 |
GradientBasedCorrClarity2012 | 0.000000 |
GradientBasedCorrContrast2012 | 0.003585 |
GradientBasedCorrDefringe | 1.000000 |
GradientBasedCorrExposure2012 | 0.076691 |
GradientBasedCorrHighlights2012 | 0.298460 |
GradientBasedCorrHue | 240.000000 |
GradientBasedCorrLocalBlacks2012 | 0.000000 |
GradientBasedCorrLocalDehaze | 0.008912 |
GradientBasedCorrLocalHue | 0.010190 |
GradientBasedCorrLocalTexture | 0.000000 |
GradientBasedCorrLocalWhites2012 | 0.000000 |
GradientBasedCorrLuminanceNoise | 0.000000 |
GradientBasedCorrMaskFullX (1) | 0.506012 |
GradientBasedCorrMaskFullX | 0.469485 |
GradientBasedCorrMaskFullY (1) | 0.002811 |
GradientBasedCorrMaskFullY | 0.620502 |
GradientBasedCorrMaskValue | 1.000000 |
GradientBasedCorrMaskWhat | Mask/Gradient |
GradientBasedCorrMaskZeroX (1) | 0.504914 |
GradientBasedCorrMaskZeroX | 0.473717 |
GradientBasedCorrMaskZeroY (1) | 0.373476 |
GradientBasedCorrMaskZeroY | -0.178862 |
GradientBasedCorrMoire | 0.000000 |
GradientBasedCorrSaturation (1) | 0.001359 |
GradientBasedCorrSaturation | 0.000000 |
GradientBasedCorrShadows2012 (1) | 0.000000 |
GradientBasedCorrShadows2012 | 0.082012 |
GradientBasedCorrSharpness | 0.000000 |
GradientBasedCorrTemperature | 0.099932 |
GradientBasedCorrTint | 0.000000 |
GradientBasedCorrWhat | Correction |
GrainAmount | 0 |
GreenHue | 0 |
GreenSaturation | 0 |
HasCrop | True |
HasSettings | True |
Highlights2012 | +16 |
HueAdjustmentAqua | 0 |
HueAdjustmentBlue | 0 |
HueAdjustmentGreen | 0 |
HueAdjustmentMagenta | 0 |
HueAdjustmentOrange | 0 |
HueAdjustmentPurple | 0 |
HueAdjustmentRed | 0 |
HueAdjustmentYellow | 0 |
HyperfocalDistance | 2.20 m |
ImageHeight | 683 |
ImageNumber | 0 |
ImageSize | 1024x683 |
ImageWidth | 1024 |
ISO | 400 |
Lens | EF16-35mm f/4L IS USM |
LensID (1) | 507 |
LensID | Canon EF 16-35mm f/4L IS USM |
LensInfo | 16-35mm f/? |
LensManualDistortionAmount | 0 |
LensModel | EF16-35mm f/4L IS USM |
LensProfileDistortionScale | 100 |
LensProfileEnable | 1 |
LensProfileIsEmbedded | False |
LensProfileSetup | Auto |
LensProfileVignettingScale | 100 |
LensSerialNumber | 5160000758 |
LightValue | -3.8 |
LookAmount | 1.000000 |
LookGroup | Profiles |
LookName | Adobe Landscape |
LookParametersCameraProfile | Adobe Standard |
LookParametersClarity2012 | +10 |
LookParametersConvertToGrayscale | False |
LookParametersHighlights2012 | -12 |
LookParametersLookTable | 0B3BFB5CFB7DBF7FF175E98F24D316B0 |
LookParametersProcessVersion | 11.0 |
LookParametersShadows2012 | +12 |
LookParametersToneCurvePV2012 | 0, 0, 64, 60, 128, 128, 192, 196, 255, 255 |
LookParametersVersion | 13.1 |
LookSupportsAmount | false |
LookSupportsMonochrome | false |
LookSupportsOutputReferred | false |
LuminanceAdjustmentAqua | 0 |
LuminanceAdjustmentBlue | -9 |
LuminanceAdjustmentGreen | 0 |
LuminanceAdjustmentMagenta | 0 |
LuminanceAdjustmentOrange | -22 |
LuminanceAdjustmentPurple | -21 |
LuminanceAdjustmentRed | -8 |
LuminanceAdjustmentYellow | -17 |
LuminanceNoiseReductionContrast | 0 |
LuminanceNoiseReductionDetail | 50 |
LuminanceSmoothing | 10 |
Make | Canon |
MaxApertureValue | 4.0 |
Megapixels | 0.699 |
MeteringMode | Multi-segment |
Model | Canon EOS R5 |
ModifyDate (1) | 2021:02:21 23:30:08+01:00 |
ModifyDate | 2021:02:21 23:30:08 |
OverrideLookVignette | False |
PaintCorrectionActive | true |
PaintCorrectionAmount | 1.000000 |
PaintCorrectionBrightness | 0.000000 |
PaintCorrectionClarity2012 | 0.000000 |
PaintCorrectionContrast2012 | 0.003585 |
PaintCorrectionCorrectionRangeMaskType | 0 |
PaintCorrectionDefringe | 1.000000 |
PaintCorrectionExposure2012 (1) | 0.123943 |
PaintCorrectionExposure2012 (2) | 0.121528 |
PaintCorrectionExposure2012 | 0.248792 |
PaintCorrectionHighlights2012 | 1.000000 |
PaintCorrectionHue | 240.000000 |
PaintCorrectionLocalBlacks2012 | 0.000000 |
PaintCorrectionLocalDehaze | 0.008912 |
PaintCorrectionLocalHue | 0.010190 |
PaintCorrectionLocalTexture | 0.000000 |
PaintCorrectionLocalWhites2012 | 0.096769 |
PaintCorrectionLuminanceNoise | 0.000000 |
PaintCorrectionMaskCenterWeight | 0.000000 |
PaintCorrectionMaskFlow (102) | 0.019203 |
PaintCorrectionMaskFlow (11) | 0.011600 |
PaintCorrectionMaskFlow (113) | 0.015414 |
PaintCorrectionMaskFlow (35) | 0.000244 |
PaintCorrectionMaskFlow (38) | 0.062760 |
PaintCorrectionMaskFlow (4) | 0.300000 |
PaintCorrectionMaskFlow (45) | 0.022967 |
PaintCorrectionMaskFlow (54) | 0.089970 |
PaintCorrectionMaskFlow (59) | 0.030419 |
PaintCorrectionMaskFlow (61) | 0.128307 |
PaintCorrectionMaskFlow (62) | 0.112678 |
PaintCorrectionMaskFlow (65) | 0.052191 |
PaintCorrectionMaskFlow (77) | 0.026705 |
PaintCorrectionMaskFlow (78) | 0.007760 |
PaintCorrectionMaskFlow (83) | 0.034108 |
PaintCorrectionMaskFlow | 0.003893 |
PaintCorrectionMaskRadius (1) | 0.063816 |
PaintCorrectionMaskRadius (100) | 0.037240 |
PaintCorrectionMaskRadius (101) | 0.037322 |
PaintCorrectionMaskRadius (102) | 0.037296 |
PaintCorrectionMaskRadius (103) | 0.037283 |
PaintCorrectionMaskRadius (104) | 0.037255 |
PaintCorrectionMaskRadius (105) | 0.050438 |
PaintCorrectionMaskRadius (106) | 0.050276 |
PaintCorrectionMaskRadius (107) | 0.050128 |
PaintCorrectionMaskRadius (109) | 0.050143 |
PaintCorrectionMaskRadius (11) | 0.063177 |
PaintCorrectionMaskRadius (110) | 0.050195 |
PaintCorrectionMaskRadius (111) | 0.050162 |
PaintCorrectionMaskRadius (112) | 0.050079 |
PaintCorrectionMaskRadius (113) | 0.050332 |
PaintCorrectionMaskRadius (114) | 0.050368 |
PaintCorrectionMaskRadius (115) | 0.050355 |
PaintCorrectionMaskRadius (12) | 0.063173 |
PaintCorrectionMaskRadius (13) | 0.063510 |
PaintCorrectionMaskRadius (14) | 0.063434 |
PaintCorrectionMaskRadius (15) | 0.063295 |
PaintCorrectionMaskRadius (16) | 0.063122 |
PaintCorrectionMaskRadius (17) | 0.063142 |
PaintCorrectionMaskRadius (18) | 0.063152 |
PaintCorrectionMaskRadius (19) | 0.063155 |
PaintCorrectionMaskRadius (2) | 0.063194 |
PaintCorrectionMaskRadius (20) | 0.063144 |
PaintCorrectionMaskRadius (21) | 0.063072 |
PaintCorrectionMaskRadius (22) | 0.049844 |
PaintCorrectionMaskRadius (25) | 0.049841 |
PaintCorrectionMaskRadius (27) | 0.049861 |
PaintCorrectionMaskRadius (28) | 0.049862 |
PaintCorrectionMaskRadius (29) | 0.049833 |
PaintCorrectionMaskRadius (3) | 0.037200 |
PaintCorrectionMaskRadius (32) | 0.049847 |
PaintCorrectionMaskRadius (34) | 0.049846 |
PaintCorrectionMaskRadius (35) | 0.049837 |
PaintCorrectionMaskRadius (37) | 0.049873 |
PaintCorrectionMaskRadius (38) | 0.049963 |
PaintCorrectionMaskRadius (39) | 0.049867 |
PaintCorrectionMaskRadius (4) | 0.037221 |
PaintCorrectionMaskRadius (40) | 0.050241 |
PaintCorrectionMaskRadius (41) | 0.050246 |
PaintCorrectionMaskRadius (42) | 0.050227 |
PaintCorrectionMaskRadius (43) | 0.049850 |
PaintCorrectionMaskRadius (44) | 0.049863 |
PaintCorrectionMaskRadius (45) | 0.049875 |
PaintCorrectionMaskRadius (47) | 0.049845 |
PaintCorrectionMaskRadius (48) | 0.049836 |
PaintCorrectionMaskRadius (49) | 0.049834 |
PaintCorrectionMaskRadius (5) | 0.057094 |
PaintCorrectionMaskRadius (50) | 0.050001 |
PaintCorrectionMaskRadius (51) | 0.049995 |
PaintCorrectionMaskRadius (53) | 0.050012 |
PaintCorrectionMaskRadius (54) | 0.050097 |
PaintCorrectionMaskRadius (55) | 0.050083 |
PaintCorrectionMaskRadius (56) | 0.050093 |
PaintCorrectionMaskRadius (57) | 0.050070 |
PaintCorrectionMaskRadius (58) | 0.050129 |
PaintCorrectionMaskRadius (6) | 0.057039 |
PaintCorrectionMaskRadius (60) | 0.050124 |
PaintCorrectionMaskRadius (61) | 0.050110 |
PaintCorrectionMaskRadius (62) | 0.050244 |
PaintCorrectionMaskRadius (63) | 0.050331 |
PaintCorrectionMaskRadius (64) | 0.050320 |
PaintCorrectionMaskRadius (65) | 0.050308 |
PaintCorrectionMaskRadius (66) | 0.050316 |
PaintCorrectionMaskRadius (67) | 0.050336 |
PaintCorrectionMaskRadius (68) | 0.056349 |
PaintCorrectionMaskRadius (7) | 0.030974 |
PaintCorrectionMaskRadius (70) | 0.049830 |
PaintCorrectionMaskRadius (72) | 0.049823 |
PaintCorrectionMaskRadius (73) | 0.049824 |
PaintCorrectionMaskRadius (75) | 0.049835 |
PaintCorrectionMaskRadius (8) | 0.063786 |
PaintCorrectionMaskRadius (82) | 0.049822 |
PaintCorrectionMaskRadius (83) | 0.049828 |
PaintCorrectionMaskRadius (84) | 0.049832 |
PaintCorrectionMaskRadius (87) | 0.037119 |
PaintCorrectionMaskRadius (89) | 0.037126 |
PaintCorrectionMaskRadius (9) | 0.063412 |
PaintCorrectionMaskRadius (90) | 0.037123 |
PaintCorrectionMaskRadius (91) | 0.037118 |
PaintCorrectionMaskRadius (92) | 0.037133 |
PaintCorrectionMaskRadius (93) | 0.037233 |
PaintCorrectionMaskRadius (94) | 0.037226 |
PaintCorrectionMaskRadius (95) | 0.037225 |
PaintCorrectionMaskRadius (97) | 0.037232 |
PaintCorrectionMaskRadius (98) | 0.037220 |
PaintCorrectionMaskRadius (99) | 0.037139 |
PaintCorrectionMaskRadius | 0.050441 |
PaintCorrectionMaskValue | 1.000000 |
PaintCorrectionMaskWhat | Mask/Paint |
PaintCorrectionMoire | 0.000000 |
PaintCorrectionSaturation | 0.000000 |
PaintCorrectionShadows2012 | 0.000000 |
PaintCorrectionSharpness | 0.000000 |
PaintCorrectionTemperature | 0.099932 |
PaintCorrectionTint | 0.000000 |
PaintCorrectionWhat | Correction |
ParametricDarks | 0 |
ParametricHighlights | 0 |
ParametricHighlightSplit | 75 |
ParametricLights | 0 |
ParametricMidtoneSplit | 50 |
ParametricShadows | 0 |
ParametricShadowSplit | 25 |
PerspectiveAspect | 0 |
PerspectiveHorizontal | 0 |
PerspectiveRotate | 0.0 |
PerspectiveScale | 100 |
PerspectiveUpright | 3 |
PerspectiveVertical | 0 |
PerspectiveX | 0.00 |
PerspectiveY | 0.00 |
PostCropVignetteAmount | 0 |
PreservedFileName | _M8A1484.CR3 |
ProcessVersion | 11.0 |
ProfileDescription | sRGB IEC61966-2.1 |
Rating | 5 |
RawFileName | _M8A1484.CR3 |
RecommendedExposureIndex | 400 |
RedHue | 0 |
RedSaturation | +2 |
Saturation | +5 |
SaturationAdjustmentAqua | 0 |
SaturationAdjustmentBlue | 0 |
SaturationAdjustmentGreen | 0 |
SaturationAdjustmentMagenta | 0 |
SaturationAdjustmentOrange | 0 |
SaturationAdjustmentPurple | 0 |
SaturationAdjustmentRed | 0 |
SaturationAdjustmentYellow | 0 |
ScaleFactor35efl | 1.0 |
SceneCaptureType | Standard |
SerialNumber | 063021000228 |
Shadows2012 | +51 |
ShadowTint | 0 |
SharpenDetail | 35 |
SharpenEdgeMasking | 35 |
SharpenRadius | +1.2 |
Sharpness | 50 |
ShutterSpeed | 434 |
ShutterSpeedValue | 434 |
SplitToningBalance | 0 |
SplitToningHighlightHue | 28 |
SplitToningHighlightSaturation | 36 |
SplitToningShadowHue | 336 |
SplitToningShadowSaturation | 1 |
Texture | +11 |
Tint | +10 |
ToneCurveName2012 | Custom |
ToneCurvePV2012 | 0, 0, 51, 51, 115, 128, 191, 191, 255, 255 |
ToneCurvePV2012Blue | 0, 0, 255, 255 |
ToneCurvePV2012Green | 0, 0, 255, 255 |
ToneCurvePV2012Red | 0, 0, 255, 255 |
Version | 13.1 |
Vibrance | +10 |
VignetteAmount | 0 |
VignetteCorrectionAlreadyApplied | True |
WhiteBalance (1) | Daylight |
WhiteBalance | Manual |
Whites2012 | +15 |