Felt | Verdi |
AbsoluteAltitude | +242.38 |
AlreadyApplied | True |
Aperture | 1.7 |
ApertureValue | 1.7 |
ApproximateFocusDistance | 0 |
AutoLateralCA | 0 |
BitsPerSample | 8 |
Blacks2012 | +24 |
BlueHue | 0 |
BlueSaturation | 0 |
CalibratedFocalLength | 4545.454590 |
CalibratedOpticalCenterX | 2640.000000 |
CalibratedOpticalCenterY | 1485.000000 |
CameraProfile | Embedded |
CamReverse | 0 |
CircleOfConfusion | 0.015 mm |
City | Vågan |
Clarity2012 | +16 |
ColorComponents | 3 |
ColorNoiseReduction | 25 |
ColorNoiseReductionDetail | 50 |
ColorNoiseReductionSmoothness | 50 |
ColorSpace | sRGB |
ColorTemperature | 9944 |
Contrast | High |
Contrast2012 | -1 |
ConvertToGrayscale | False |
Country | Norway |
Country-PrimaryLocationCode | NO |
Country-PrimaryLocationName | Norway |
CountryCode | NO |
CreateDate | 2018:12:08 14:52:18 |
CreatorTool | Adobe Photoshop Lightroom Classic 8.0 (Macintosh) |
CropAngle | 0.749599 |
CropBottom | 0.998101 |
CropConstrainToWarp | 0 |
CropLeft | 0.016814 |
CropRight | 0.983186 |
CropTop | 0.001899 |
CustomRendered | Normal |
DateCreated (1) | 2018:12:08 14:52:18 |
DateCreated | 2018:12:08 |
DateTimeOriginal | 2018:12:08 14:52:18 |
DefringeGreenAmount | 0 |
DefringeGreenHueHi | 60 |
DefringeGreenHueLo | 40 |
DefringePurpleAmount | 0 |
DefringePurpleHueHi | 70 |
DefringePurpleHueLo | 30 |
Dehaze | 0 |
DigitalZoomRatio | 0 |
DistortionCorrectionAlreadyApplied | True |
DOF | inf (0.00 m - inf) |
ExifImageHeight | 2884 |
ExifImageWidth | 5133 |
Exposure2012 | 0.00 |
ExposureCompensation | 0 |
ExposureMode | Manual |
ExposureProgram | Manual |
ExposureTime | 1/10 |
Flash | No flash function |
FlightPitchDegree | +1.70 |
FlightRollDegree | +3.20 |
FlightYawDegree | -156.00 |
FNumber | 1.7 |
FocalLength | 15.0 mm |
FocalLength35efl | 15.0 mm (35 mm equivalent: 30.0 mm) |
FocalLengthIn35mmFormat | 30 mm |
Format | image/jpeg |
FOV | 61.9 deg |
GainControl | None |
GimbalPitchDegree | -10.40 |
GimbalReverse | 0 |
GimbalRollDegree | +0.00 |
GimbalYawDegree | -156.00 |
GPSAltitude | 0 m |
GPSLatitude (1) | 68 deg 9' 39.58" |
GPSLatitude | 68 deg 9' 39.58" N |
GPSLatitudeRef | North |
GPSLongitude (1) | 14 deg 12' 53.88" |
GPSLongitude | 14 deg 12' 53.88" E |
GPSLongitudeRef | East |
GPSPosition | 68 deg 9' 39.58" N, 14 deg 12' 53.88" E |
GPSVersionID | 2.3.0.0 |
GrainAmount | 0 |
GreenHue | 0 |
GreenSaturation | 0 |
HasCrop | True |
HasSettings | True |
Highlights2012 | 0 |
HueAdjustmentAqua | 0 |
HueAdjustmentBlue | 0 |
HueAdjustmentGreen | 0 |
HueAdjustmentMagenta | 0 |
HueAdjustmentOrange | 0 |
HueAdjustmentPurple | 0 |
HueAdjustmentRed | 0 |
HueAdjustmentYellow | 0 |
HyperfocalDistance | 8.81 m |
ImageHeight | 2884 |
ImageSize | 5133x2884 |
ImageWidth | 5133 |
ISO | 400 |
LateralChromaticAberrationCorrectionAlreadyApplied | True |
Lens | DJI MFT 15mm F1.7 ASPH |
LensInfo (1) | 15mm f/? |
LensInfo | 15mm f/0 |
LensMake | UnKnown |
LensManualDistortionAmount | 0 |
LensModel | DJI MFT 15mm F1.7 ASPH |
LensProfileChromaticAberrationScale | 100 |
LensProfileDistortionScale | 100 |
LensProfileEnable | 0 |
LensProfileFilename | INSPIRE 1 FC350 - RAW.lcp |
LensProfileName | Adobe (INSPIRE 1 FC350) |
LensProfileSetup | Custom |
LensProfileVignettingScale | 100 |
LightSource | Cloudy |
LightValue | 2.9 |
LookName | |
LuminanceAdjustmentAqua | 0 |
LuminanceAdjustmentBlue | 0 |
LuminanceAdjustmentGreen | 0 |
LuminanceAdjustmentMagenta | 0 |
LuminanceAdjustmentOrange | 0 |
LuminanceAdjustmentPurple | 0 |
LuminanceAdjustmentRed | 0 |
LuminanceAdjustmentYellow | 0 |
LuminanceSmoothing | 0 |
Make | DJI |
MaxApertureValue | 1.7 |
Megapixels | 14.8 |
MeteringMode | Center-weighted average |
Model | FC6520 |
ModifyDate (1) | 2018:12:08 17:39:17+01:00 |
ModifyDate | 2018:12:08 17:39:17 |
Orientation | Horizontal (normal) |
OverrideLookVignette | False |
ParametricDarks | 0 |
ParametricHighlights | 0 |
ParametricHighlightSplit | 75 |
ParametricLights | 0 |
ParametricMidtoneSplit | 50 |
ParametricShadows | 0 |
ParametricShadowSplit | 25 |
PerspectiveAspect | 0 |
PerspectiveHorizontal | 0 |
PerspectiveRotate | 0.0 |
PerspectiveScale | 100 |
PerspectiveUpright | 0 |
PerspectiveVertical | 0 |
PerspectiveX | 0.00 |
PerspectiveY | 0.00 |
PostCropVignetteAmount | 0 |
ProcessVersion | 11.0 |
Province-State | Nordland |
RedHue | 0 |
RedSaturation | 0 |
RelativeAltitude | +75.00 |
RtkFlag | 0 |
Saturation (1) | 0 |
Saturation | Normal |
SaturationAdjustmentAqua | 0 |
SaturationAdjustmentBlue | 0 |
SaturationAdjustmentGreen | 0 |
SaturationAdjustmentMagenta | 0 |
SaturationAdjustmentOrange | 0 |
SaturationAdjustmentPurple | 0 |
SaturationAdjustmentRed | 0 |
SaturationAdjustmentYellow | 0 |
ScaleFactor35efl | 2.0 |
SceneCaptureType | Standard |
SceneType | Directly photographed |
SelfData | Undefined |
SerialNumber | e6093cf436e0ba380ed819ed491742a0 |
Shadows2012 | +12 |
ShadowTint | 0 |
SharpenDetail | 25 |
SharpenEdgeMasking | 0 |
SharpenRadius | +1.0 |
Sharpness (1) | 66 |
Sharpness | Hard |
ShutterSpeed | 1/10 |
ShutterSpeedValue | 1/10 |
Software | Adobe Photoshop Lightroom Classic 8.0 (Macintosh) |
SplitToningBalance | 0 |
SplitToningHighlightHue | 0 |
SplitToningHighlightSaturation | 0 |
SplitToningShadowHue | 0 |
SplitToningShadowSaturation | 0 |
State | Nordland |
SubjectDistance | 0 m |
SubjectDistanceRange | Unknown |
Tint | +1 |
ToneCurve | 0, 0, 255, 255 |
ToneCurveBlue | 0, 0, 255, 255 |
ToneCurveGreen | 0, 0, 255, 255 |
ToneCurveName | Linear |
ToneCurveName2012 | Linear |
ToneCurvePV2012 | 0, 0, 255, 255 |
ToneCurvePV2012Blue | 0, 0, 255, 255 |
ToneCurvePV2012Green | 0, 0, 255, 255 |
ToneCurvePV2012Red | 0, 0, 255, 255 |
ToneCurveRed | 0, 0, 255, 255 |
ToneMapStrength | 0 |
Version | 11.0 |
Vibrance | +4 |
VignetteAmount | 0 |
VignetteCorrectionAlreadyApplied | True |
WhiteBalance (1) | Custom |
WhiteBalance | Manual |
Whites2012 | +22 |