Felt | Verdi |
AlreadyApplied | True |
Aperture | 14.0 |
ApertureValue (1) | 11.3 |
ApertureValue | 14.0 |
ApproximateFocusDistance | 2.24 |
AutoLateralCA | 0 |
AutoWhiteVersion | 134348800 |
BitsPerSample | 8 |
Blacks2012 | 0 |
BlueHue | 0 |
BlueSaturation | 0 |
CameraProfile | Embedded |
CFAPattern (1) |
CFAPattern | [Green,Blue][Red,Green] |
CircleOfConfusion | 0.020 mm |
Clarity2012 | +39 |
ColorComponents | 3 |
ColorNoiseReduction | 0 |
ColorSpace (1) | Unknown (sRGB) |
ColorSpace | sRGB |
Contrast (1) | Unknown (Normal) |
Contrast | Normal |
Contrast2012 | +31 |
ConvertToGrayscale | False |
CreateDate (1) | 2019:02:20 13:31:45.50 |
CreateDate | 2019:02:20 13:31:45 |
CreatorTool | Adobe Photoshop Lightroom 5.3 (Windows) |
CustomRendered (1) | Unknown (Normal process) |
CustomRendered | Normal |
DateCreated | 2019:02:20 13:31:45.50 |
DateTime | 2019:02:21 12:46:07 |
DateTimeDigitized | 2019:02:20 13:31:45 |
DateTimeOriginal | 2019:02:20 13:31:45 |
DefringeGreenAmount | 0 |
DefringeGreenHueHi | 60 |
DefringeGreenHueLo | 40 |
DefringePurpleAmount | 0 |
DefringePurpleHueHi | 70 |
DefringePurpleHueLo | 30 |
DerivedFrom |
DigitalZoomRatio | 1 |
DOF | 3.36 m (1.46 - 4.82 m) |
Exposure2012 | 0.00 |
ExposureCompensation | 0 |
ExposureMode (1) | Unknown (Manual exposure) |
ExposureMode | Manual |
ExposureProgram (1) | Unknown (Manual) |
ExposureProgram | Manual |
ExposureTime (1) | 1 |
ExposureTime | 1/100 |
Flash (1) |
Flash | No Flash |
FNumber (1) | f/14,0 |
FNumber | 14.0 |
FocalLength | 34.0 mm |
FocalLength35efl | 34.0 mm (35 mm equivalent: 51.0 mm) |
FocalLengthIn35mmFormat | 51 mm |
Format | image/jpeg |
FOV | 38.9 deg |
GainControl (1) | Unknown (Normal) |
GainControl | None |
GrainAmount | 0 |
GreenHue | 0 |
GreenSaturation | 0 |
HasCrop | False |
HasSettings | True |
Highlights2012 | 0 |
HueAdjustmentAqua | +7 |
HueAdjustmentBlue | 0 |
HueAdjustmentGreen | 0 |
HueAdjustmentMagenta | 0 |
HueAdjustmentOrange | 0 |
HueAdjustmentPurple | 0 |
HueAdjustmentRed | 0 |
HueAdjustmentYellow | 0 |
HyperfocalDistance | 4.12 m |
ImageHeight | 2592 |
ImageNumber | 7285 |
ImageSize | 3872x2592 |
ImageWidth | 3872 |
IncrementalTemperature | +6 |
IncrementalTint | 0 |
ISO | 100 |
Lens | 18.0-55.0 mm f/3.5-5.6 |
LensID (1) | 154 |
LensID | AF-S DX VR Zoom-Nikkor 18-55mm f/3.5-5.6G |
LensInfo | 18-55mm f/3.5-5.6 |
LensManualDistortionAmount | 0 |
LensProfileEnable | 0 |
LensProfileSetup | LensDefaults |
LightSource (1) | Unknown (Unknown) |
LightSource | Unknown |
LightValue | 14.3 |
LuminanceAdjustmentAqua | 0 |
LuminanceAdjustmentBlue | 0 |
LuminanceAdjustmentGreen | 0 |
LuminanceAdjustmentMagenta | 0 |
LuminanceAdjustmentOrange | 0 |
LuminanceAdjustmentPurple | 0 |
LuminanceAdjustmentRed | 0 |
LuminanceAdjustmentYellow | 0 |
LuminanceSmoothing | 0 |
Make | NIKON CORPORATION |
MaxApertureValue (1) | 4.0 |
MaxApertureValue | 4.9 |
Megapixels | 10.0 |
MeteringMode (1) | Unknown (Pattern) |
MeteringMode | Multi-segment |
Model | NIKON D3000 |
ModifyDate (1) | 2019:02:21 12:46:07+01:00 |
ModifyDate | 2019:02:21 12:50:57 |
ParametricDarks | 0 |
ParametricHighlights | 0 |
ParametricHighlightSplit | 75 |
ParametricLights | 0 |
ParametricMidtoneSplit | 50 |
ParametricShadows | 0 |
ParametricShadowSplit | 25 |
PerspectiveAspect | 0 |
PerspectiveHorizontal | 0 |
PerspectiveRotate | 0.0 |
PerspectiveScale | 100 |
PerspectiveUpright | 0 |
PerspectiveVertical | 0 |
PostCropVignetteAmount | 0 |
ProcessVersion | 6.7 |
ProfileDescription | sRGB IEC61966-2.1 |
RedHue | 0 |
RedSaturation | 0 |
Saturation (1) | +17 |
Saturation (2) | Unknown (Normal) |
Saturation | Normal |
SaturationAdjustmentAqua | +7 |
SaturationAdjustmentBlue | +14 |
SaturationAdjustmentGreen | 0 |
SaturationAdjustmentMagenta | 0 |
SaturationAdjustmentOrange | 0 |
SaturationAdjustmentPurple | 0 |
SaturationAdjustmentRed | 0 |
SaturationAdjustmentYellow | 0 |
ScaleFactor35efl | 1.5 |
SceneCaptureType (1) | Unknown (Standard) |
SceneCaptureType | Standard |
SceneType (1) | Unknown (Directly photographed) |
SceneType | Directly photographed |
SensingMethod (1) | Unknown (One-chip color area sensor) |
SensingMethod | One-chip color area |
SerialNumber | 6290113 |
Shadows2012 | 0 |
ShadowTint | 0 |
SharpenDetail | 25 |
SharpenEdgeMasking | 0 |
SharpenRadius | +1.0 |
Sharpness (1) | 0 |
Sharpness (2) | Unknown (Normal) |
Sharpness | Normal |
ShutterSpeed | 1/100 |
ShutterSpeedValue (1) | 1/64 |
ShutterSpeedValue | 1/100 |
Software (1) | Adobe Photoshop Lightroom 5.3 (Windows) |
Software | GIMP 2.8.14 |
SplitToningBalance | 0 |
SplitToningHighlightHue | 0 |
SplitToningHighlightSaturation | 0 |
SplitToningShadowHue | 0 |
SplitToningShadowSaturation | 0 |
SubjectDistanceRange (1) | Unknown (Unknown) |
SubjectDistanceRange | Unknown |
ToneCurveName2012 | Linear |
ToneCurvePV2012 | 0, 0, 255, 255 |
ToneCurvePV2012Blue | 0, 0, 255, 255 |
ToneCurvePV2012Green | 0, 0, 255, 255 |
ToneCurvePV2012Red | 0, 0, 255, 255 |
Version | 8.3 |
Vibrance | 0 |
VignetteAmount | 0 |
WhiteBalance (1) | Custom |
WhiteBalance (2) | Unknown (Auto white balance) |
WhiteBalance | Auto |
Whites2012 | 0 |