Felt | Verdi |
AlreadyApplied | True |
Aperture | 1.8 |
ApertureValue | 1.8 |
Artist | RMB |
AutoLateralCA | 0 |
AutoWhiteVersion | 134348800 |
BitsPerSample | 8 |
Blacks2012 | +70 |
BlueHue | 0 |
BlueSaturation | 0 |
By-line | RMB |
CameraProfile | Adobe Standard |
Caption-Abstract | OLYMPUS DIGITAL CAMERA |
CFAPattern | [Red,Green][Green,Blue] |
CircGradBasedCorrActive | true |
CircGradBasedCorrAmount | 1.000000 |
CircGradBasedCorrBrightness | 0.000000 |
CircGradBasedCorrClarity2012 (1) | 0.647060 |
CircGradBasedCorrClarity2012 (2) | -0.294120 |
CircGradBasedCorrClarity2012 (3) | 0.665160 |
CircGradBasedCorrClarity2012 (4) | 0.000000 |
CircGradBasedCorrClarity2012 | 0.529410 |
CircGradBasedCorrContrast2012 (1) | 0.113120 |
CircGradBasedCorrContrast2012 (2) | 0.004520 |
CircGradBasedCorrContrast2012 (3) | 0.547510 |
CircGradBasedCorrContrast2012 (4) | 0.031670 |
CircGradBasedCorrContrast2012 | 0.276020 |
CircGradBasedCorrDefringe | 0.000000 |
CircGradBasedCorrExposure2012 (1) | -0.140250 |
CircGradBasedCorrExposure2012 (2) | 0.230750 |
CircGradBasedCorrExposure2012 (3) | 0.095000 |
CircGradBasedCorrExposure2012 (4) | 0.239750 |
CircGradBasedCorrExposure2012 | -0.031750 |
CircGradBasedCorrHighlights2012 (1) | -0.221720 |
CircGradBasedCorrHighlights2012 (2) | -1.000000 |
CircGradBasedCorrHighlights2012 (3) | 0.257920 |
CircGradBasedCorrHighlights2012 (4) | -0.294120 |
CircGradBasedCorrHighlights2012 | -0.384620 |
CircGradBasedCorrHue (1) | 50.000000 |
CircGradBasedCorrHue | 0.000000 |
CircGradBasedCorrLocalBlacks2012 | 0.000000 |
CircGradBasedCorrLocalDehaze | 0.000000 |
CircGradBasedCorrLocalWhites2012 | 0.000000 |
CircGradBasedCorrLuminanceNoise (1) | 0.049770 |
CircGradBasedCorrLuminanceNoise (2) | 0.773760 |
CircGradBasedCorrLuminanceNoise (3) | 0.239820 |
CircGradBasedCorrLuminanceNoise (4) | 0.846150 |
CircGradBasedCorrLuminanceNoise | 0.000000 |
CircGradBasedCorrMaskAngle (1) | 11.993100 |
CircGradBasedCorrMaskAngle (2) | -6.308870 |
CircGradBasedCorrMaskAngle (3) | 7.916530 |
CircGradBasedCorrMaskAngle (4) | 2.880010 |
CircGradBasedCorrMaskAngle | 17.427600 |
CircGradBasedCorrMaskBottom (1) | 0.653210 |
CircGradBasedCorrMaskBottom (2) | 0.769349 |
CircGradBasedCorrMaskBottom (3) | 0.576180 |
CircGradBasedCorrMaskBottom (4) | 0.965673 |
CircGradBasedCorrMaskBottom | 0.726883 |
CircGradBasedCorrMaskFeather | +50 |
CircGradBasedCorrMaskFlipped | true |
CircGradBasedCorrMaskLeft (1) | 0.259523 |
CircGradBasedCorrMaskLeft (2) | 0.092177 |
CircGradBasedCorrMaskLeft (3) | 0.176164 |
CircGradBasedCorrMaskLeft (4) | 0.034887 |
CircGradBasedCorrMaskLeft | 0.415035 |
CircGradBasedCorrMaskMidpoint | +50 |
CircGradBasedCorrMaskRight (1) | 0.555970 |
CircGradBasedCorrMaskRight (2) | 0.203917 |
CircGradBasedCorrMaskRight (3) | 0.406088 |
CircGradBasedCorrMaskRight (4) | 0.099952 |
CircGradBasedCorrMaskRight | 1.005130 |
CircGradBasedCorrMaskRoundness | 0 |
CircGradBasedCorrMaskTop (1) | 0.175881 |
CircGradBasedCorrMaskTop (2) | 0.386391 |
CircGradBasedCorrMaskTop (3) | 0.210019 |
CircGradBasedCorrMaskTop (4) | 0.085121 |
CircGradBasedCorrMaskTop | 0.221744 |
CircGradBasedCorrMaskValue | 1.000000 |
CircGradBasedCorrMaskVersion | +2 |
CircGradBasedCorrMaskWhat | Mask/CircularGradient |
CircGradBasedCorrMoire (2) | -1.000000 |
CircGradBasedCorrMoire | 0.000000 |
CircGradBasedCorrSaturation (1) | 0.140270 |
CircGradBasedCorrSaturation (2) | 0.057000 |
CircGradBasedCorrSaturation (3) | 0.104070 |
CircGradBasedCorrSaturation (5) | 0.149320 |
CircGradBasedCorrSaturation (7) | 0.085970 |
CircGradBasedCorrSaturation (9) | 0.321270 |
CircGradBasedCorrSaturation | 0.000000 |
CircGradBasedCorrShadows2012 (1) | 0.257920 |
CircGradBasedCorrShadows2012 (2) | 0.909500 |
CircGradBasedCorrShadows2012 (3) | -0.167420 |
CircGradBasedCorrShadows2012 (4) | -0.131220 |
CircGradBasedCorrShadows2012 | 0.447960 |
CircGradBasedCorrSharpness (1) | -0.257920 |
CircGradBasedCorrSharpness (2) | 0.303170 |
CircGradBasedCorrSharpness (4) | -0.248870 |
CircGradBasedCorrSharpness | -0.167420 |
CircGradBasedCorrTemperature (1) | 0.149320 |
CircGradBasedCorrTemperature (2) | -0.058820 |
CircGradBasedCorrTemperature (3) | 0.095020 |
CircGradBasedCorrTemperature (4) | -0.158370 |
CircGradBasedCorrTemperature | 0.167420 |
CircGradBasedCorrTint (1) | 0.095020 |
CircGradBasedCorrTint (2) | 0.348420 |
CircGradBasedCorrTint (3) | 0.122170 |
CircGradBasedCorrTint (4) | 0.194570 |
CircGradBasedCorrTint | 0.013570 |
CircGradBasedCorrWhat | Correction |
CircleOfConfusion | 0.015 mm |
Clarity2012 | +73 |
ColorComponents | 3 |
ColorNoiseReduction | 63 |
ColorNoiseReductionDetail | 9 |
ColorNoiseReductionSmoothness | 50 |
ColorSpace | Uncalibrated |
ColorTemperature | 4308 |
ColorTransform | YCbCr |
Contrast | Normal |
Contrast2012 | +6 |
ConvertToGrayscale | False |
Copyright | RUNE BJOERNBEKK |
CopyrightNotice | RUNE BJOERNBEKK |
CreateDate | 2018:10:06 23:35:23 |
Creator | RMB |
CreatorTool | Adobe Photoshop Lightroom 6.14 (Windows) |
CropAngle | 0 |
CropBottom | 0.855895 |
CropConstrainToWarp | 0 |
CropLeft | 0.036065 |
CropRight | 0.92131 |
CropTop | 0.069869 |
CustomRendered | Normal |
DateCreated (1) | 2018:10:06 |
DateCreated | 2018:10:06 23:35:23 |
DateTimeOriginal | 2018:10:06 23:35:23 |
DefringeGreenAmount | 0 |
DefringeGreenHueHi | 60 |
DefringeGreenHueLo | 40 |
DefringePurpleAmount | 0 |
DefringePurpleHueHi | 70 |
DefringePurpleHueLo | 30 |
Dehaze | 0 |
Description | OLYMPUS DIGITAL CAMERA |
DigitalZoomRatio | 1 |
Exposure2012 | +0.70 |
ExposureCompensation | 0 |
ExposureMode | Manual |
ExposureProgram | Manual |
ExposureTime | 30 |
Flash | On, Did not fire |
FlashCompensation | 0 |
FNumber | 1.8 |
FocalLength | 8.0 mm |
FocalLength35efl | 8.0 mm (35 mm equivalent: 16.0 mm) |
FocalLengthIn35mmFormat | 16 mm |
Format | image/jpeg |
FOV | 96.7 deg |
GainControl | High gain up |
GradientBasedCorrActive | true |
GradientBasedCorrAmount | 1.000000 |
GradientBasedCorrBrightness | 0.000000 |
GradientBasedCorrClarity2012 | 0.000000 |
GradientBasedCorrContrast2012 (1) | 0.000000 |
GradientBasedCorrContrast2012 | 0.330320 |
GradientBasedCorrDefringe | 0.000000 |
GradientBasedCorrExposure2012 (1) | -0.067750 |
GradientBasedCorrExposure2012 | -0.565500 |
GradientBasedCorrHighlights2012 (1) | 0.000000 |
GradientBasedCorrHighlights2012 | -0.058820 |
GradientBasedCorrHue | 0.000000 |
GradientBasedCorrLocalBlacks2012 | 0.000000 |
GradientBasedCorrLocalDehaze | 0.000000 |
GradientBasedCorrLocalWhites2012 | 0.000000 |
GradientBasedCorrLuminanceNoise | 0.000000 |
GradientBasedCorrMaskFullX (1) | 0.347271 |
GradientBasedCorrMaskFullX | 0.034263 |
GradientBasedCorrMaskFullY (1) | 0.605355 |
GradientBasedCorrMaskFullY | 0.517307 |
GradientBasedCorrMaskValue | 1.000000 |
GradientBasedCorrMaskWhat | Mask/Gradient |
GradientBasedCorrMaskZeroX (1) | 0.116509 |
GradientBasedCorrMaskZeroX | 0.118165 |
GradientBasedCorrMaskZeroY (1) | 0.662494 |
GradientBasedCorrMaskZeroY | 0.504055 |
GradientBasedCorrMoire | 0.000000 |
GradientBasedCorrSaturation | 0.000000 |
GradientBasedCorrShadows2012 (1) | 0.000000 |
GradientBasedCorrShadows2012 | -0.447960 |
GradientBasedCorrSharpness | 0.000000 |
GradientBasedCorrTemperature (1) | 0.004520 |
GradientBasedCorrTemperature | 0.000000 |
GradientBasedCorrTint | 0.000000 |
GradientBasedCorrWhat | Correction |
GrainAmount | 0 |
GreenHue | 0 |
GreenSaturation | 0 |
HasCrop | True |
HasSettings | True |
Highlights2012 | -100 |
HueAdjustmentAqua | 0 |
HueAdjustmentBlue | 0 |
HueAdjustmentGreen | 0 |
HueAdjustmentMagenta | 0 |
HueAdjustmentOrange | 0 |
HueAdjustmentPurple | 0 |
HueAdjustmentRed | 0 |
HueAdjustmentYellow | 0 |
HyperfocalDistance | 2.37 m |
ImageDescription | OLYMPUS DIGITAL CAMERA |
ImageHeight | 4589 |
ImageSize | 3056x4589 |
ImageWidth | 3056 |
ISO | 2000 |
LateralChromaticAberrationCorrectionAlreadyApplied | True |
Lens | OLYMPUS M.8mm F1.8 |
LensInfo | 8mm f/1.8 |
LensManualDistortionAmount | 0 |
LensModel | OLYMPUS M.8mm F1.8 |
LensProfileEnable | 0 |
LensProfileSetup | LensDefaults |
LensSerialNumber | 347006703 |
LightSource | Other |
LightValue | -7.5 |
LuminanceAdjustmentAqua | 0 |
LuminanceAdjustmentBlue | 0 |
LuminanceAdjustmentGreen | 0 |
LuminanceAdjustmentMagenta | 0 |
LuminanceAdjustmentOrange | 0 |
LuminanceAdjustmentPurple | 0 |
LuminanceAdjustmentRed | 0 |
LuminanceAdjustmentYellow | 0 |
LuminanceNoiseReductionContrast | 4 |
LuminanceNoiseReductionDetail | 75 |
LuminanceSmoothing | 100 |
Make | OLYMPUS CORPORATION |
MaxApertureValue | 1.8 |
Megapixels | 14.0 |
MeteringMode | Multi-segment |
Model | E-M1MarkII |
ModifyDate (1) | 2018:10:11 14:34:57+02:00 |
ModifyDate | 2018:10:11 14:34:57 |
ParametricDarks | 0 |
ParametricHighlights | 0 |
ParametricHighlightSplit | 75 |
ParametricLights | 0 |
ParametricMidtoneSplit | 50 |
ParametricShadows | 0 |
ParametricShadowSplit | 25 |
PerspectiveAspect | 0 |
PerspectiveHorizontal | 0 |
PerspectiveRotate | +6.3 |
PerspectiveScale | 100 |
PerspectiveUpright | 0 |
PerspectiveVertical | 0 |
PerspectiveX | 0.00 |
PerspectiveY | 0.00 |
PostCropVignetteAmount | -19 |
PostCropVignetteFeather | 50 |
PostCropVignetteHighlightContrast | 0 |
PostCropVignetteMidpoint | 50 |
PostCropVignetteRoundness | -93 |
PostCropVignetteStyle | 1 |
ProcessVersion | 6.7 |
ProfileDescription | ProPhoto RGB |
RedHue | 0 |
RedSaturation | 0 |
Rights | RUNE BJOERNBEKK |
Saturation (1) | +7 |
Saturation | Normal |
SaturationAdjustmentAqua | 0 |
SaturationAdjustmentBlue | 0 |
SaturationAdjustmentGreen | 0 |
SaturationAdjustmentMagenta | 0 |
SaturationAdjustmentOrange | 0 |
SaturationAdjustmentPurple | 0 |
SaturationAdjustmentRed | 0 |
SaturationAdjustmentYellow | 0 |
ScaleFactor35efl | 2.0 |
SceneCaptureType | Standard |
SensitivityType | Standard Output Sensitivity |
SerialNumber | BHUA30323 |
Shadows2012 | +89 |
ShadowTint | 0 |
SharpenDetail | 25 |
SharpenEdgeMasking | 0 |
SharpenRadius | +0.6 |
Sharpness (1) | 35 |
Sharpness | Normal |
ShutterSpeed | 30 |
ShutterSpeedValue | 30 |
Software | Adobe Photoshop Lightroom 6.14 (Windows) |
SplitToningBalance | 0 |
SplitToningHighlightHue | 0 |
SplitToningHighlightSaturation | 0 |
SplitToningShadowHue | 0 |
SplitToningShadowSaturation | 0 |
Tint | +20 |
ToneCurve | 0, 0, 255, 255 |
ToneCurveBlue | 0, 0, 255, 255 |
ToneCurveGreen | 0, 0, 255, 255 |
ToneCurveName | Linear |
ToneCurveName2012 | Linear |
ToneCurvePV2012 | 0, 0, 255, 255 |
ToneCurvePV2012Blue | 0, 0, 255, 255 |
ToneCurvePV2012Green | 0, 0, 255, 255 |
ToneCurvePV2012Red | 0, 0, 255, 255 |
ToneCurveRed | 0, 0, 255, 255 |
ToneMapStrength | 0 |
Version | 10.1 |
Vibrance | +5 |
VignetteAmount | 0 |
WhiteBalance (1) | Custom |
WhiteBalance | Manual |
Whites2012 | -5 |