Felt | Verdi |
AlreadyApplied | True |
Aperture | 5.0 |
ApertureValue | 5.0 |
ApproximateFocusDistance | 36.2 |
Artist | B.Skjoren |
AutoLateralCA | 0 |
BitsPerSample | 8 |
Blacks2012 | 0 |
BlueHue | 0 |
BlueSaturation | 0 |
By-line | B.Skjoren |
CameraProfile | Embedded |
Caption-Abstract | Venabu early morning, 5 captures merged in LR. |
CircleOfConfusion | 0.015 mm |
Clarity2012 | 0 |
ColorComponents | 3 |
ColorNoiseReduction | 0 |
ColorSpace | sRGB |
ColorTransform | YCbCr |
Contrast | High |
Contrast2012 | 0 |
ConvertToGrayscale | False |
Copyright | Bjorn-Erik Skjoren |
CopyrightFlag | True |
CopyrightNotice | Bjorn-Erik Skjoren |
CreateDate (1) | 2018:07:20 05:17:03.1 |
CreateDate | 2018:07:20 05:17:03 |
Creator | B.Skjoren |
CreatorAddress | Ragnhildsgate 2 |
CreatorCity | Sarpsborg |
CreatorCountry | Norway |
CreatorPostalCode | 1738 |
CreatorRegion | Østfold |
CreatorTool | Adobe Photoshop Lightroom Classic 7.3.1 (Windows) |
CreatorWorkEmail | bskjoren@gmail.com |
DateCreated (1) | 2018:07:20 |
DateCreated | 2018:07:20 05:17:03 |
DateTimeOriginal | 2018:07:20 05:17:03 |
DefringeGreenAmount | 0 |
DefringeGreenHueHi | 60 |
DefringeGreenHueLo | 40 |
DefringePurpleAmount | 0 |
DefringePurpleHueHi | 70 |
DefringePurpleHueLo | 30 |
Dehaze | 0 |
Description | Venabu early morning, 5 captures merged in LR. |
DigitalZoomRatio | 1 |
DistortionCorrectionAlreadyApplied | True |
DOF | inf (6.77 m - inf) |
Exposure2012 | 0.00 |
ExposureCompensation | -5.7 |
ExposureMode | Manual |
ExposureProgram | Aperture-priority AE |
ExposureTime | 1/4000 |
Flash | Auto, Did not fire |
FlashCompensation | -0.33203125 |
FNumber | 5.0 |
FocalLength | 25.0 mm |
FocalLength35efl | 25.0 mm (35 mm equivalent: 50.0 mm) |
FocalLengthIn35mmFormat | 50 mm |
Format | image/jpeg |
FOV | 39.6 deg |
GainControl | Low gain up |
GrainAmount | 0 |
GreenHue | 0 |
GreenSaturation | 0 |
HasCrop | False |
HasSettings | True |
Highlights2012 | -67 |
HueAdjustmentAqua | 0 |
HueAdjustmentBlue | 0 |
HueAdjustmentGreen | 0 |
HueAdjustmentMagenta | 0 |
HueAdjustmentOrange | 0 |
HueAdjustmentPurple | 0 |
HueAdjustmentRed | 0 |
HueAdjustmentYellow | 0 |
HyperfocalDistance | 8.32 m |
ImageDescription | Venabu early morning, 5 captures merged in LR. |
ImageHeight | 2965 |
ImageSize | 3953x2965 |
ImageWidth | 3953 |
IncrementalTemperature | 0 |
IncrementalTint | 0 |
IsMergedHDR | True |
ISO | 160 |
Keywords | Landscape, Venabu, bu, coloor efex pro, colour, fiskebod, hdri, kandidat, lady, landskap, morgen, morning, morning mist |
LateralChromaticAberrationCorrectionAlreadyApplied | True |
Lens | LUMIX G 25/F1.7 |
LensInfo | 25mm f/1.7 |
LensManualDistortionAmount | 0 |
LensModel | LUMIX G 25/F1.7 |
LensProfileEnable | 0 |
LensProfileSetup | LensDefaults |
LensSerialNumber | 07DX4214938B |
LightSource | Unknown |
LightValue | 15.9 |
Location | Venabu |
LookName | |
LuminanceAdjustmentAqua | 0 |
LuminanceAdjustmentBlue | 0 |
LuminanceAdjustmentGreen | 0 |
LuminanceAdjustmentMagenta | 0 |
LuminanceAdjustmentOrange | 0 |
LuminanceAdjustmentPurple | 0 |
LuminanceAdjustmentRed | 0 |
LuminanceAdjustmentYellow | 0 |
LuminanceSmoothing | 0 |
Make | OLYMPUS IMAGING CORP. |
Marked | True |
MaxApertureValue | 1.7 |
Megapixels | 11.7 |
MeteringMode | Center-weighted average |
MinorModelAgeDisclosure | Age Unknown |
Model | E-M10 |
ModelReleaseStatus | Not Applicable |
ModifyDate (1) | 2018:08:20 12:24:44+02:00 |
ModifyDate | 2018:08:20 12:24:44 |
ObjectName | Morning mist |
OverrideLookVignette | False |
ParametricDarks | 0 |
ParametricHighlights | 0 |
ParametricHighlightSplit | 75 |
ParametricLights | 0 |
ParametricMidtoneSplit | 50 |
ParametricShadows | 0 |
ParametricShadowSplit | 25 |
PerspectiveAspect | 0 |
PerspectiveHorizontal | 0 |
PerspectiveRotate | 0.0 |
PerspectiveScale | 100 |
PerspectiveUpright | 0 |
PerspectiveVertical | 0 |
PerspectiveX | 0.00 |
PerspectiveY | 0.00 |
PhotographicSensitivity | 160 |
PLUSVersion | 1.2.0 |
PostCropVignetteAmount | 0 |
ProcessVersion | 10.0 |
ProfileDescription | sRGB IEC61966-2.1 |
Rating | 4 |
RawFileName | |
RedHue | 0 |
RedSaturation | 0 |
Rights | Bjorn-Erik Skjoren |
Saturation (1) | 0 |
Saturation | Normal |
SaturationAdjustmentAqua | 0 |
SaturationAdjustmentBlue | 0 |
SaturationAdjustmentGreen | 0 |
SaturationAdjustmentMagenta | 0 |
SaturationAdjustmentOrange | 0 |
SaturationAdjustmentPurple | 0 |
SaturationAdjustmentRed | 0 |
SaturationAdjustmentYellow | 0 |
ScaleFactor35efl | 2.0 |
SceneCaptureType | Standard |
SerialNumber | V5PF58845 |
Shadows2012 | 0 |
ShadowTint | 0 |
SharpenDetail | 25 |
SharpenEdgeMasking | 0 |
SharpenRadius | +1.0 |
Sharpness (1) | 0 |
Sharpness | Hard |
ShutterSpeed | 1/4000 |
ShutterSpeedValue | 1/4000 |
Software | Adobe Photoshop Lightroom Classic 7.3.1 (Windows) |
SplitToningBalance | 0 |
SplitToningHighlightHue | 0 |
SplitToningHighlightSaturation | 0 |
SplitToningShadowHue | 0 |
SplitToningShadowSaturation | 0 |
Sub-location | Venabu |
Subject | Landscape, Venabu, bu, coloor efex pro, colour, fiskebod, hdri, kandidat, lady, landskap, morgen, morning, morning mist |
Title | Morning mist |
ToneCurve | 0, 0, 255, 255 |
ToneCurveBlue | 0, 0, 255, 255 |
ToneCurveGreen | 0, 0, 255, 255 |
ToneCurveName | Linear |
ToneCurveName2012 | Linear |
ToneCurvePV2012 | 0, 0, 255, 255 |
ToneCurvePV2012Blue | 0, 0, 255, 255 |
ToneCurvePV2012Green | 0, 0, 255, 255 |
ToneCurvePV2012Red | 0, 0, 255, 255 |
ToneCurveRed | 0, 0, 255, 255 |
ToneMapStrength | 0 |
Version | 10.3 |
Vibrance | 0 |
VignetteAmount | 0 |
WhiteBalance (1) | As Shot |
WhiteBalance | Auto |
Whites2012 | 0 |