Felt | Verdi |
AlreadyApplied | True |
Aperture | 2.8 |
ApertureValue | 2.8 |
AutoLateralCA | 1 |
BitsPerSample | 8 |
Blacks2012 | -11 |
BlueHue | -77 |
BlueSaturation | -76 |
BrightnessValue | 5.978125 |
CameraProfile | Camera Standard |
CircGradBasedCorrActive | true |
CircGradBasedCorrAmount | 1.000000 |
CircGradBasedCorrBrightness | 0.000000 |
CircGradBasedCorrClarity2012 (1) | 0.000000 |
CircGradBasedCorrClarity2012 | 0.055560 |
CircGradBasedCorrContrast2012 | 0.000000 |
CircGradBasedCorrCorrectionRangeMaskColorAmount | 0.500000 |
CircGradBasedCorrCorrectionRangeMaskLumFeather | 0.500000 |
CircGradBasedCorrCorrectionRangeMaskLumMax | 1.000000 |
CircGradBasedCorrCorrectionRangeMaskLumMin | 0.000000 |
CircGradBasedCorrCorrectionRangeMaskType | 0 |
CircGradBasedCorrCorrectionRangeMaskVersion | +2 |
CircGradBasedCorrDefringe | 0.000000 |
CircGradBasedCorrExposure2012 (1) | 0.111000 |
CircGradBasedCorrExposure2012 | 0.166750 |
CircGradBasedCorrHighlights2012 | 0.000000 |
CircGradBasedCorrHue (1) | 134.000000 |
CircGradBasedCorrHue | 240.000000 |
CircGradBasedCorrLuminanceNoise | 0.000000 |
CircGradBasedCorrMaskAngle (1) | 1.975180 |
CircGradBasedCorrMaskAngle | 0.000000 |
CircGradBasedCorrMaskBottom (1) | 0.710745 |
CircGradBasedCorrMaskBottom | 1.165560 |
CircGradBasedCorrMaskFeather (1) | +83 |
CircGradBasedCorrMaskFeather | +50 |
CircGradBasedCorrMaskFlipped | true |
CircGradBasedCorrMaskLeft (1) | 0.374538 |
CircGradBasedCorrMaskLeft | 0.438659 |
CircGradBasedCorrMaskMidpoint | +50 |
CircGradBasedCorrMaskRight (1) | 0.879355 |
CircGradBasedCorrMaskRight | 0.939983 |
CircGradBasedCorrMaskRoundness | 0 |
CircGradBasedCorrMaskTop (1) | -0.175979 |
CircGradBasedCorrMaskTop | 0.482119 |
CircGradBasedCorrMaskValue | 1.000000 |
CircGradBasedCorrMaskVersion | +2 |
CircGradBasedCorrMaskWhat | Mask/CircularGradient |
CircGradBasedCorrMoire | 0.000000 |
CircGradBasedCorrSaturation | 0.000000 |
CircGradBasedCorrShadows2012 | 0.000000 |
CircGradBasedCorrSharpness (1) | 0.000000 |
CircGradBasedCorrSharpness | 0.250000 |
CircGradBasedCorrTemperature (1) | -0.010990 |
CircGradBasedCorrTemperature | 0.000000 |
CircGradBasedCorrTint | 0.000000 |
CircGradBasedCorrWhat | Correction |
CircleOfConfusion | 0.030 mm |
Clarity2012 | +35 |
ColorComponents | 3 |
ColorNoiseReduction | 25 |
ColorNoiseReductionDetail | 50 |
ColorNoiseReductionSmoothness | 50 |
ColorSpace | sRGB |
ColorTemperature | 4703 |
ColorTransform | YCbCr |
Contrast | Normal |
Contrast2012 | +45 |
ConvertToGrayscale | False |
CreateDate | 2018:08:11 15:52:08 |
CreatorTool | Adobe Photoshop Lightroom Classic 7.4 (Windows) |
CropAngle | 0 |
CropBottom | 0.960798 |
CropConstrainToWarp | 0 |
CropLeft | 0.006897 |
CropRight | 0.940439 |
CropTop | 0.027256 |
CustomRendered | Normal |
DateCreated (1) | 2018:08:11 |
DateCreated | 2018:08:11 15:52:08 |
DateTimeOriginal | 2018:08:11 15:52:08 |
DefringeGreenAmount | 0 |
DefringeGreenHueHi | 60 |
DefringeGreenHueLo | 40 |
DefringePurpleAmount | 0 |
DefringePurpleHueHi | 70 |
DefringePurpleHueLo | 30 |
Dehaze | 0 |
DigitalZoomRatio | 1 |
DistortionCorrectionAlreadyApplied | True |
Exposure2012 | -0.20 |
ExposureCompensation | 0 |
ExposureMode | Auto |
ExposureProgram | Aperture-priority AE |
ExposureTime | 1/200 |
Flash | Off, Did not fire |
FNumber | 2.8 |
FocalLength | 28.0 mm |
FocalLength35efl | 28.0 mm (35 mm equivalent: 28.0 mm) |
FocalLengthIn35mmFormat | 28 mm |
Format | image/jpeg |
FOV | 65.5 deg |
GradientBasedCorrActive | true |
GradientBasedCorrAmount | 1.000000 |
GradientBasedCorrBrightness | 0.000000 |
GradientBasedCorrClarity2012 | -0.120880 |
GradientBasedCorrContrast2012 | 0.000000 |
GradientBasedCorrCorrectionRangeMaskColorAmount | 0.500000 |
GradientBasedCorrCorrectionRangeMaskLumFeather | 0.500000 |
GradientBasedCorrCorrectionRangeMaskLumMax | 1.000000 |
GradientBasedCorrCorrectionRangeMaskLumMin | 0.000000 |
GradientBasedCorrCorrectionRangeMaskType | 0 |
GradientBasedCorrCorrectionRangeMaskVersion | +2 |
GradientBasedCorrDefringe | 0.000000 |
GradientBasedCorrExposure2012 | 0.000000 |
GradientBasedCorrHighlights2012 | 0.000000 |
GradientBasedCorrHue | 0.000000 |
GradientBasedCorrLuminanceNoise | 0.000000 |
GradientBasedCorrMaskFullX | 0.579000 |
GradientBasedCorrMaskFullY | 0.695652 |
GradientBasedCorrMaskValue | 1.000000 |
GradientBasedCorrMaskWhat | Mask/Gradient |
GradientBasedCorrMaskZeroX | 0.585959 |
GradientBasedCorrMaskZeroY | 0.288695 |
GradientBasedCorrMoire | 0.000000 |
GradientBasedCorrSaturation (1) | -0.010990 |
GradientBasedCorrSaturation | 0.000000 |
GradientBasedCorrShadows2012 | -0.296700 |
GradientBasedCorrSharpness | -0.142860 |
GradientBasedCorrTemperature | 0.000000 |
GradientBasedCorrTint | 0.000000 |
GradientBasedCorrWhat | Correction |
GrainAmount | 0 |
GreenHue | +40 |
GreenSaturation | +100 |
HasCrop | True |
HasSettings | True |
Highlights2012 | -76 |
HueAdjustmentAqua | 0 |
HueAdjustmentBlue | -3 |
HueAdjustmentGreen | -73 |
HueAdjustmentMagenta | 0 |
HueAdjustmentOrange | -22 |
HueAdjustmentPurple | 0 |
HueAdjustmentRed | 0 |
HueAdjustmentYellow | 0 |
HyperfocalDistance | 9.32 m |
ImageHeight | 1366 |
ImageSize | 2048x1366 |
ImageWidth | 2048 |
ISO | 100 |
LateralChromaticAberrationCorrectionAlreadyApplied | True |
Lens | E 28-75mm F2.8-2.8 |
LensDistortInfo | 33235/32768 -57228499/1073741824 23975392/1073741824 -1532737/1073741824 |
LensInfo | 28-75mm f/2.8 |
LensManualDistortionAmount | 0 |
LensModel | E 28-75mm F2.8-2.8 |
LensProfileChromaticAberrationScale | 100 |
LensProfileDistortionScale | 100 |
LensProfileEnable | 1 |
LensProfileFilename | SONY (TAMRON 28-75mm F_2.8 Di III RXD A036) - RAW.lcp |
LensProfileName | Adobe (TAMRON 28-75mm F/2.8 Di III RXD A036, SONY) |
LensProfileSetup | LensDefaults |
LensProfileVignettingScale | 100 |
LightSource | Unknown |
LightValue | 10.6 |
LookName | |
LuminanceAdjustmentAqua | -10 |
LuminanceAdjustmentBlue | 0 |
LuminanceAdjustmentGreen | +36 |
LuminanceAdjustmentMagenta | 0 |
LuminanceAdjustmentOrange | -4 |
LuminanceAdjustmentPurple | 0 |
LuminanceAdjustmentRed | -61 |
LuminanceAdjustmentYellow | +9 |
LuminanceSmoothing | 0 |
Make | SONY |
MaxApertureValue | 2.8 |
Megapixels | 2.8 |
MeteringMode | Multi-segment |
Model | ILCE-7RM3 |
ModifyDate (1) | 2018:08:15 20:59:43+02:00 |
ModifyDate | 2018:08:15 20:59:43 |
OverrideLookVignette | True |
ParametricDarks | +14 |
ParametricHighlights | +11 |
ParametricHighlightSplit | 87 |
ParametricLights | 0 |
ParametricMidtoneSplit | 50 |
ParametricShadows | -81 |
ParametricShadowSplit | 10 |
PerspectiveAspect | 0 |
PerspectiveHorizontal | 0 |
PerspectiveRotate | 0.0 |
PerspectiveScale | 100 |
PerspectiveUpright | 0 |
PerspectiveVertical | 0 |
PerspectiveX | 0.00 |
PerspectiveY | 0.00 |
PostCropVignetteAmount | -25 |
PostCropVignetteFeather | 100 |
PostCropVignetteHighlightContrast | 86 |
PostCropVignetteMidpoint | 35 |
PostCropVignetteRoundness | +100 |
PostCropVignetteStyle | 1 |
ProcessVersion | 10.0 |
ProfileDescription | sRGB IEC61966-2.1 |
RawFileName | _DSC1825.ARW |
RecommendedExposureIndex | 100 |
RedHue | +42 |
RedSaturation | -41 |
Saturation (1) | -49 |
Saturation | Normal |
SaturationAdjustmentAqua | +7 |
SaturationAdjustmentBlue | -52 |
SaturationAdjustmentGreen | +100 |
SaturationAdjustmentMagenta | 0 |
SaturationAdjustmentOrange | 0 |
SaturationAdjustmentPurple | 0 |
SaturationAdjustmentRed | +37 |
SaturationAdjustmentYellow | 0 |
ScaleFactor35efl | 1.0 |
SceneCaptureType | Standard |
SceneType | Directly photographed |
SensitivityType | Recommended Exposure Index |
Shadows2012 | +73 |
ShadowTint | -39 |
SharpenDetail | 30 |
SharpenEdgeMasking | 0 |
SharpenRadius | +1.1 |
Sharpness (1) | 71 |
Sharpness | Normal |
ShutterSpeed | 1/200 |
ShutterSpeedValue | 1/200 |
Software | Adobe Photoshop Lightroom Classic 7.4 (Windows) |
SplitToningBalance | -2 |
SplitToningHighlightHue | 56 |
SplitToningHighlightSaturation | 13 |
SplitToningShadowHue | 356 |
SplitToningShadowSaturation | 6 |
Tint | -6 |
ToneCurve | 0, 0, 255, 255 |
ToneCurveBlue | 0, 0, 255, 255 |
ToneCurveGreen | 0, 0, 255, 255 |
ToneCurveName | Linear |
ToneCurveName2012 | Custom |
ToneCurvePV2012 | 0, 21, 47, 42, 193, 193, 255, 253 |
ToneCurvePV2012Blue | 0, 0, 255, 255 |
ToneCurvePV2012Green | 0, 0, 255, 255 |
ToneCurvePV2012Red | 0, 0, 75, 78, 203, 199, 255, 255 |
ToneCurveRed | 0, 0, 255, 255 |
ToneMapStrength | 0 |
Version | 10.4 |
Vibrance | +62 |
VignetteAmount | -38 |
VignetteCorrectionAlreadyApplied | True |
VignetteMidpoint | 10 |
WhiteBalance (1) | Custom |
WhiteBalance | Auto |
Whites2012 | -47 |