Felt | Verdi |
AlreadyApplied | True |
Aperture | 6.3 |
ApertureValue | 6.3 |
AutoLateralCA | 0 |
BitsPerSample (1) | 16 16 16 |
BitsPerSample | 8 |
Blacks2012 | -67 |
BlueHue | 0 |
BlueSaturation | 0 |
CameraProfile | Adobe Standard |
CircleOfConfusion | 0.031 mm |
Clarity2012 | 0 |
ColorComponents | 3 |
ColorMode | RGB |
ColorNoiseReduction | 69 |
ColorNoiseReductionDetail | 50 |
ColorNoiseReductionSmoothness | 91 |
ColorSpace | Uncalibrated |
ColorTemperature | 5450 |
ColorTransform | YCbCr |
Contrast2012 | +29 |
ConvertToGrayscale | True |
CreateDate | 2009:09:19 11:12:37 |
CreatorTool | Adobe Photoshop Lightroom Classic 7.0 (Macintosh) |
CropAngle | 0.28544 |
CropBottom | 0.806708 |
CropConstrainToWarp | 0 |
CropLeft | 0.330665 |
CropRight | 0.859816 |
CropTop | 0.005035 |
CustomRendered | Normal |
DateCreated (1) | 2009:09:19 |
DateCreated | 2009:09:19 11:12:37.004 |
DateTimeOriginal | 2009:09:19 11:12:37 |
Dehaze | 0 |
ExifImageHeight | 1204 |
ExifImageWidth | 1204 |
Exposure2012 | 0.00 |
ExposureCompensation | -1/3 |
ExposureMode | Auto |
ExposureProgram | Aperture-priority AE |
ExposureTime | 1/1600 |
Firmware | 1.0.6 |
Flash | Off, Did not fire |
FlashCompensation | 0 |
FNumber | 6.3 |
FocalLength | 50.0 mm |
FocalLength35efl | 50.0 mm (35 mm equivalent: 48.8 mm) |
Format | image/jpeg |
FOV | 40.5 deg |
GrainAmount | 0 |
GrayMixerAqua | -17 |
GrayMixerBlue | -2 |
GrayMixerGreen | -27 |
GrayMixerMagenta | +4 |
GrayMixerOrange | -19 |
GrayMixerPurple | +17 |
GrayMixerRed | -10 |
GrayMixerYellow | -23 |
GreenHue | 0 |
GreenSaturation | 0 |
HasCrop | True |
HasSettings | True |
Highlights2012 | 0 |
HyperfocalDistance | 12.89 m |
ICCProfileName | ProPhoto RGB |
ImageHeight (1) | 2987 |
ImageHeight | 1204 |
ImageNumber | 0 |
ImageSize | 1204x1204 |
ImageWidth (1) | 2987 |
ImageWidth | 1204 |
ISO | 400 |
Keywords | marita og per inge, silhuett |
Label | Blue |
Lens | EF50mm f/1.4 USM |
LensID (1) | 198 |
LensID | Canon EF 50mm f/1.4 USM |
LensInfo | 50mm f/? |
LensManualDistortionAmount | 0 |
LensModel | EF50mm f/1.4 USM |
LensProfileEnable | 0 |
LensProfileSetup | LensDefaults |
LightValue | 14.0 |
LuminanceNoiseReductionContrast | 0 |
LuminanceNoiseReductionDetail | 50 |
LuminanceSmoothing | 76 |
Make | Canon |
MaxApertureValue | 1.4 |
Megapixels | 1.4 |
MeteringMode | Spot |
Model | Canon EOS 5D Mark II |
ModifyDate (1) | 2018:04:12 13:45:43+02:00 |
ModifyDate | 2018:04:12 13:45:43 |
Orientation | Horizontal (normal) |
ParametricDarks | 0 |
ParametricHighlights | 0 |
ParametricHighlightSplit | 75 |
ParametricLights | 0 |
ParametricMidtoneSplit | 50 |
ParametricShadows | 0 |
ParametricShadowSplit | 25 |
PerspectiveAspect | 0 |
PerspectiveHorizontal | 0 |
PerspectiveRotate | 0.0 |
PerspectiveScale | 100 |
PerspectiveUpright | 0 |
PerspectiveVertical | 0 |
PerspectiveX | 0.00 |
PerspectiveY | 0.00 |
PhotometricInterpretation | RGB |
PlanarConfiguration | Chunky |
PostCropVignetteAmount | 0 |
ProcessVersion | 10.0 |
ProfileDescription | ProPhoto RGB |
RedHue | 0 |
RedSaturation | 0 |
SamplesPerPixel | 3 |
ScaleFactor35efl | 1.0 |
SceneCaptureType | Standard |
SerialNumber | 130101597 |
Shadows2012 | 0 |
ShadowTint | 0 |
SharpenDetail | 25 |
SharpenEdgeMasking | 0 |
SharpenRadius | +1.0 |
Sharpness | 25 |
ShutterSpeed | 1/1600 |
ShutterSpeedValue | 1/1600 |
Software | Adobe Photoshop CC (Macintosh) |
SplitToningBalance | 0 |
SplitToningHighlightHue | 0 |
SplitToningHighlightSaturation | 0 |
SplitToningShadowHue | 0 |
SplitToningShadowSaturation | 0 |
Subject | marita og per inge, silhuett |
Tint | -1 |
ToneCurve | 0, 0, 255, 255 |
ToneCurveBlue | 0, 0, 255, 255 |
ToneCurveGreen | 0, 0, 255, 255 |
ToneCurveName | Linear |
ToneCurveName2012 | Linear |
ToneCurvePV2012 | 0, 0, 255, 255 |
ToneCurvePV2012Blue | 0, 0, 255, 255 |
ToneCurvePV2012Green | 0, 0, 255, 255 |
ToneCurvePV2012Red | 0, 0, 255, 255 |
ToneCurveRed | 0, 0, 255, 255 |
URL_List | |
Version | 10.0 |
VignetteAmount | 0 |
WhiteBalance (1) | As Shot |
WhiteBalance | Auto |
Whites2012 | +66 |