Felt | Verdi |
AlreadyApplied | True |
Aperture | 2.8 |
ApertureValue | 2.8 |
ApproximateFocusDistance | 4294967295 |
Artist | Trond K Wiik |
AuthorsPosition | Photography |
AutoLateralCA | 0 |
AutoWhiteVersion | 134348800 |
BitsPerSample | 8 |
Blacks2012 | 0 |
BlueHue | 0 |
BlueSaturation | 0 |
By-line | Trond K Wiik |
By-lineTitle | Photography |
CameraProfile | Adobe Standard |
CFAPattern | [Red,Green][Green,Blue] |
CircGradBasedCorrActive | true |
CircGradBasedCorrAmount | 1.000000 |
CircGradBasedCorrBrightness | 0.000000 |
CircGradBasedCorrClarity2012 (1) | 0.796339 |
CircGradBasedCorrClarity2012 (2) | 0.671818 |
CircGradBasedCorrClarity2012 | 0.000000 |
CircGradBasedCorrContrast2012 (1) | 0.305168 |
CircGradBasedCorrContrast2012 (2) | 0.079764 |
CircGradBasedCorrContrast2012 (5) | 0.732800 |
CircGradBasedCorrContrast2012 | 0.000000 |
CircGradBasedCorrDefringe | 0.000000 |
CircGradBasedCorrExposure2012 (1) | -0.247961 |
CircGradBasedCorrExposure2012 (2) | -0.286393 |
CircGradBasedCorrExposure2012 (3) | 0.363094 |
CircGradBasedCorrExposure2012 (4) | 0.151139 |
CircGradBasedCorrExposure2012 (5) | 0.442381 |
CircGradBasedCorrExposure2012 | -0.165693 |
CircGradBasedCorrHighlights2012 (1) | 0.370283 |
CircGradBasedCorrHighlights2012 | 0.000000 |
CircGradBasedCorrHue (3) | 328.234985 |
CircGradBasedCorrHue (5) | 0.000000 |
CircGradBasedCorrHue | 240.000000 |
CircGradBasedCorrLocalBlacks2012 (2) | 0.000000 |
CircGradBasedCorrLocalBlacks2012 | 0.062536 |
CircGradBasedCorrLocalDehaze (1) | 0.187739 |
CircGradBasedCorrLocalDehaze (5) | 0.000000 |
CircGradBasedCorrLocalDehaze | 0.154981 |
CircGradBasedCorrLocalWhites2012 (5) | 0.000000 |
CircGradBasedCorrLocalWhites2012 | 0.292479 |
CircGradBasedCorrLuminanceNoise | 0.000000 |
CircGradBasedCorrMaskAngle (2) | -2.375480 |
CircGradBasedCorrMaskAngle (5) | -0.106632 |
CircGradBasedCorrMaskAngle | 0.000000 |
CircGradBasedCorrMaskBottom (1) | 0.730709 |
CircGradBasedCorrMaskBottom (2) | -0.354148 |
CircGradBasedCorrMaskBottom (3) | 1.142960 |
CircGradBasedCorrMaskBottom (4) | 0.750228 |
CircGradBasedCorrMaskBottom (5) | 0.725448 |
CircGradBasedCorrMaskBottom | 0.523235 |
CircGradBasedCorrMaskFeather (2) | +50 |
CircGradBasedCorrMaskFeather | +63 |
CircGradBasedCorrMaskFlipped | true |
CircGradBasedCorrMaskLeft (1) | -0.293835 |
CircGradBasedCorrMaskLeft (2) | -0.463067 |
CircGradBasedCorrMaskLeft (3) | 0.305629 |
CircGradBasedCorrMaskLeft (4) | 0.680255 |
CircGradBasedCorrMaskLeft (5) | -0.032002 |
CircGradBasedCorrMaskLeft | 0.277827 |
CircGradBasedCorrMaskMidpoint | +50 |
CircGradBasedCorrMaskRight (1) | 1.446030 |
CircGradBasedCorrMaskRight (2) | 1.287920 |
CircGradBasedCorrMaskRight (3) | 0.804791 |
CircGradBasedCorrMaskRight (4) | 0.757059 |
CircGradBasedCorrMaskRight (5) | 1.052820 |
CircGradBasedCorrMaskRight | 0.773356 |
CircGradBasedCorrMaskRoundness | 0 |
CircGradBasedCorrMaskTop (1) | -0.387132 |
CircGradBasedCorrMaskTop (2) | -0.701949 |
CircGradBasedCorrMaskTop (3) | 0.779427 |
CircGradBasedCorrMaskTop (4) | 0.721777 |
CircGradBasedCorrMaskTop (5) | 0.270933 |
CircGradBasedCorrMaskTop | 0.442329 |
CircGradBasedCorrMaskValue | 1.000000 |
CircGradBasedCorrMaskVersion | +2 |
CircGradBasedCorrMaskWhat | Mask/CircularGradient |
CircGradBasedCorrMoire | 0.000000 |
CircGradBasedCorrSaturation (1) | 0.626437 |
CircGradBasedCorrSaturation (3) | 0.381226 |
CircGradBasedCorrSaturation (5) | 0.105886 |
CircGradBasedCorrSaturation (9) | 0.565134 |
CircGradBasedCorrSaturation | 0.000000 |
CircGradBasedCorrShadows2012 | 0.000000 |
CircGradBasedCorrSharpness | 0.000000 |
CircGradBasedCorrTemperature (1) | -0.714559 |
CircGradBasedCorrTemperature (2) | -0.886973 |
CircGradBasedCorrTemperature (3) | -0.218788 |
CircGradBasedCorrTemperature (4) | 0.541679 |
CircGradBasedCorrTemperature (5) | 1.000000 |
CircGradBasedCorrTemperature | 0.011150 |
CircGradBasedCorrTint (1) | 0.693487 |
CircGradBasedCorrTint (2) | 0.860153 |
CircGradBasedCorrTint (3) | -0.695616 |
CircGradBasedCorrTint (4) | -1.000000 |
CircGradBasedCorrTint (5) | 0.287356 |
CircGradBasedCorrTint | 0.000000 |
CircGradBasedCorrWhat | Correction |
CircleOfConfusion | 0.030 mm |
City | Bergen |
Clarity2012 | 0 |
ColorComponents | 3 |
ColorNoiseReduction | 25 |
ColorNoiseReductionDetail | 50 |
ColorNoiseReductionSmoothness | 50 |
ColorSpace | sRGB |
ColorTemperature | 7110 |
ColorTransform | YCbCr |
Contrast | Normal |
Contrast2012 | 0 |
ConvertToGrayscale | False |
Copyright | KAMIZOOM.COM |
CopyrightNotice | KAMIZOOM.COM |
Country | Norway |
Country-PrimaryLocationCode | NO |
Country-PrimaryLocationName | Norway |
CountryCode | NO |
CreateDate (1) | 2017:10:22 16:14:40.93 |
CreateDate | 2017:10:22 16:14:40 |
Creator | Trond K Wiik |
CreatorAddress | Tjødnavegen 19 |
CreatorCity | Straume |
CreatorCountry | Norway |
CreatorPostalCode | 5354 |
CreatorRegion | Bergen |
CreatorTool | Adobe Photoshop Lightroom 6.12 (Macintosh) |
CreatorWorkEmail | norwayinphoto@gmail.com |
CreatorWorkTelephone | 45266227 |
CreatorWorkURL | norwayinphoto.com |
CropAngle | 0 |
CropBottom | 1 |
CropConstrainToWarp | 0 |
CropLeft | 0.102329 |
CropRight | 1 |
CropTop | 0 |
CustomRendered | Normal |
DateCreated (1) | 2017:10:22 |
DateCreated | 2017:10:22 16:14:40.93 |
DateTimeOriginal | 2017:10:22 16:14:40 |
DefringeGreenAmount | 0 |
DefringeGreenHueHi | 60 |
DefringeGreenHueLo | 40 |
DefringePurpleAmount | 0 |
DefringePurpleHueHi | 70 |
DefringePurpleHueLo | 30 |
Dehaze | 0 |
DOF | inf (2.33 m - inf) |
Exposure2012 | +2.05 |
ExposureCompensation | -2 |
ExposureMode | Manual |
ExposureProgram | Manual |
ExposureTime | 1/1250 |
Flash | No Flash |
FNumber | 2.8 |
FocalLength | 14.0 mm |
FocalLength35efl | 14.0 mm (35 mm equivalent: 14.0 mm) |
FocalLengthIn35mmFormat | 14 mm |
Format | image/jpeg |
FOV | 104.3 deg |
GainControl | None |
GPSAltitude | 38.6373 m |
GPSLatitude (1) | 60 deg 22' 5.99" |
GPSLatitude | 60 deg 22' 5.99" N |
GPSLatitudeRef | North |
GPSLongitude (1) | 5 deg 13' 10.11" |
GPSLongitude | 5 deg 13' 10.11" E |
GPSLongitudeRef | East |
GPSPosition | 60 deg 22' 5.99" N, 5 deg 13' 10.11" E |
GPSVersionID | 2.2.0.0 |
GrainAmount | 0 |
GreenHue | 0 |
GreenSaturation | 0 |
HasCrop | True |
HasSettings | True |
Highlights2012 | 0 |
HueAdjustmentAqua | 0 |
HueAdjustmentBlue | 0 |
HueAdjustmentGreen | 0 |
HueAdjustmentMagenta | 0 |
HueAdjustmentOrange | 0 |
HueAdjustmentPurple | 0 |
HueAdjustmentRed | 0 |
HueAdjustmentYellow | 0 |
HyperfocalDistance | 2.33 m |
ImageHeight | 1857 |
ImageNumber | 162 |
ImageSize | 2500x1857 |
ImageWidth | 2500 |
ISO | 31 |
Keywords | 500px, Bergen, Lightroom, Norway, Photographer, Photography, Storavannet, Weather, amazing, and, autumn, beautiful, birds, byen, city, coast, colors, day, green, høst, lake, landscape, mirror, mirrow, norwayinphoto, nydelig, photooftheday, reflections, sol, solnedgang, sommer, sun, sunset, threes, trees, vakkert, view, vær, water |
Lens | 14.0 mm f/2.8 |
LensID (1) | 74 |
LensID | Samyang AE 14mm f/2.8 ED AS IF UMC |
LensInfo | 14mm f/2.8-1.4 |
LensManualDistortionAmount | 0 |
LensModel | 14.0 mm f/2.8 |
LensProfileEnable | 1 |
LensProfileSetup | LensDefaults |
LightSource | Unknown |
LightValue | 14.9 |
LuminanceAdjustmentAqua | 0 |
LuminanceAdjustmentBlue | 0 |
LuminanceAdjustmentGreen | 0 |
LuminanceAdjustmentMagenta | 0 |
LuminanceAdjustmentOrange | 0 |
LuminanceAdjustmentPurple | 0 |
LuminanceAdjustmentRed | 0 |
LuminanceAdjustmentYellow | 0 |
LuminanceSmoothing | 0 |
Make | NIKON CORPORATION |
MaxApertureValue | 2.8 |
Megapixels | 4.6 |
MeteringMode | Multi-segment |
Model | NIKON D850 |
ModifyDate (1) | 2017:10:24 15:49:19+02:00 |
ModifyDate | 2017:10:24 15:49:19 |
ParametricDarks | -10 |
ParametricHighlights | -57 |
ParametricHighlightSplit | 75 |
ParametricLights | +11 |
ParametricMidtoneSplit | 50 |
ParametricShadows | +19 |
ParametricShadowSplit | 25 |
PerspectiveAspect | 0 |
PerspectiveHorizontal | 0 |
PerspectiveRotate | 0.0 |
PerspectiveScale | 100 |
PerspectiveUpright | 0 |
PerspectiveVertical | 0 |
PerspectiveX | 0.00 |
PerspectiveY | 0.00 |
PostCropVignetteAmount | 0 |
ProcessVersion | 6.7 |
ProfileDescription | sRGB IEC61966-2.1 |
Province-State | Hordaland |
RedHue | 0 |
RedSaturation | 0 |
Rights | KAMIZOOM.COM |
Saturation (1) | 0 |
Saturation | Normal |
SaturationAdjustmentAqua | 0 |
SaturationAdjustmentBlue | 0 |
SaturationAdjustmentGreen | 0 |
SaturationAdjustmentMagenta | 0 |
SaturationAdjustmentOrange | 0 |
SaturationAdjustmentPurple | 0 |
SaturationAdjustmentRed | 0 |
SaturationAdjustmentYellow | 0 |
ScaleFactor35efl | 1.0 |
SceneCaptureType | Standard |
SceneType | Directly photographed |
SensingMethod | One-chip color area |
SensitivityType | Recommended Exposure Index |
SerialNumber | 6006207 |
Shadows2012 | +60 |
ShadowTint | 0 |
SharpenDetail | 25 |
SharpenEdgeMasking | 0 |
SharpenRadius | +1.0 |
Sharpness (1) | 25 |
Sharpness | Normal |
ShutterSpeed | 1/1250 |
ShutterSpeedValue | 1/1250 |
Software | Adobe Photoshop Lightroom 6.12 (Macintosh) |
SplitToningBalance | 0 |
SplitToningHighlightHue | 0 |
SplitToningHighlightSaturation | 0 |
SplitToningShadowHue | 0 |
SplitToningShadowSaturation | 0 |
State | Hordaland |
Subject | 500px, Bergen, Lightroom, Norway, Photographer, Photography, Storavannet, Weather, amazing, and, autumn, beautiful, birds, byen, city, coast, colors, day, green, høst, lake, landscape, mirror, mirrow, norwayinphoto, nydelig, photooftheday, reflections, sol, solnedgang, sommer, sun, sunset, threes, trees, vakkert, view, vær, water |
SubjectDistanceRange | Unknown |
Tint | +8 |
ToneCurve | 0, 0, 255, 255 |
ToneCurveBlue | 0, 0, 255, 255 |
ToneCurveGreen | 0, 0, 255, 255 |
ToneCurveName | Linear |
ToneCurveName2012 | Linear |
ToneCurvePV2012 | 0, 0, 255, 255 |
ToneCurvePV2012Blue | 0, 0, 255, 255 |
ToneCurvePV2012Green | 0, 0, 255, 255 |
ToneCurvePV2012Red | 0, 0, 255, 255 |
ToneCurveRed | 0, 0, 255, 255 |
ToneMapStrength | 0 |
Version | 9.12 |
Vibrance | 0 |
VignetteAmount | 0 |
WhiteBalance (1) | Custom |
WhiteBalance | Auto |
Whites2012 | -40 |