Felt | Verdi |
AlreadyApplied | True |
Aperture | 5.6 |
ApertureValue | 5.6 |
ApproximateFocusDistance | 1.7 |
AutoLateralCA | 0 |
AutoWhiteVersion | 134348800 |
BitsPerSample | 8 |
Blacks2012 | -30 |
BlueHue | 0 |
BlueSaturation | 0 |
CameraProfile | Adobe Standard |
CircleOfConfusion | 0.019 mm |
Clarity2012 | +100 |
ColorComponents | 3 |
ColorNoiseReduction | 25 |
ColorNoiseReductionDetail | 50 |
ColorNoiseReductionSmoothness | 50 |
ColorSpace | sRGB |
ColorTemperature | 4900 |
ColorTransform | YCbCr |
Contrast2012 | -50 |
ConvertToGrayscale | True |
CreateDate (1) | 2017:10:21 18:02:27.00 |
CreateDate | 2017:10:21 18:02:27 |
CreatorTool | Adobe Photoshop Lightroom 6.10.1 (Windows) |
CustomRendered | Normal |
DateCreated (1) | 2017:10:21 |
DateCreated | 2017:10:21 18:02:27.00 |
DateTimeOriginal | 2017:10:21 18:02:27 |
Dehaze | 0 |
DOF | 0.008 m (1.696 - 1.704 m) |
Exposure2012 | 0.00 |
ExposureCompensation | 0 |
ExposureMode | Auto |
ExposureProgram | Aperture-priority AE |
ExposureTime | 1/1000 |
Firmware | 1.0.1 |
Flash | Off, Did not fire |
FlashCompensation | 0 |
FNumber | 5.6 |
FocalLength | 250.0 mm |
FocalLength35efl | 250.0 mm (35 mm equivalent: 403.3 mm) |
Format | image/jpeg |
FOV | 5.1 deg |
GrainAmount | 0 |
GrayMixerAqua | +66 |
GrayMixerBlue | +32 |
GrayMixerGreen | +34 |
GrayMixerMagenta | +66 |
GrayMixerOrange | 0 |
GrayMixerPurple | 0 |
GrayMixerRed | 0 |
GrayMixerYellow | +68 |
GreenHue | 0 |
GreenSaturation | 0 |
HasCrop | False |
HasSettings | True |
Highlights2012 | 0 |
HyperfocalDistance | 599.24 m |
ImageHeight | 4000 |
ImageNumber | 0 |
ImageSize | 6000x4000 |
ImageWidth | 6000 |
ISO | 800 |
Keywords | 2017, Høst, oktober |
Lens | EF-S55-250mm f/4-5.6 IS STM |
LensID (1) | 4148 |
LensID | Canon EF-S 55-250mm f/4-5.6 IS STM |
LensInfo | 55-250mm f/? |
LensManualDistortionAmount | 0 |
LensModel | EF-S55-250mm f/4-5.6 IS STM |
LensProfileEnable | 0 |
LensProfileSetup | LensDefaults |
LensSerialNumber | 000010052b |
LightValue | 11.9 |
LuminanceSmoothing | 0 |
Make | Canon |
MaxApertureValue | 5.7 |
Megapixels | 24.0 |
MeteringMode | Multi-segment |
Model | Canon EOS 80D |
ModifyDate (1) | 2017:10:21 23:40:56+02:00 |
ModifyDate | 2017:10:21 23:40:56 |
ParametricDarks | 0 |
ParametricHighlights | 0 |
ParametricHighlightSplit | 75 |
ParametricLights | 0 |
ParametricMidtoneSplit | 50 |
ParametricShadows | 0 |
ParametricShadowSplit | 25 |
PerspectiveAspect | 0 |
PerspectiveHorizontal | 0 |
PerspectiveRotate | 0.0 |
PerspectiveScale | 100 |
PerspectiveUpright | 0 |
PerspectiveVertical | 0 |
PerspectiveX | 0.00 |
PerspectiveY | 0.00 |
PostCropVignetteAmount | 0 |
ProcessVersion | 6.7 |
ProfileDescription | sRGB IEC61966-2.1 |
RecommendedExposureIndex | 800 |
RedHue | 0 |
RedSaturation | 0 |
ScaleFactor35efl | 1.6 |
SceneCaptureType | Standard |
SensitivityType | Recommended Exposure Index |
SerialNumber | 068021003369 |
Shadows2012 | 0 |
ShadowTint | 0 |
SharpenDetail | 25 |
SharpenEdgeMasking | 0 |
SharpenRadius | +1.0 |
Sharpness | 25 |
ShutterSpeed | 1/1000 |
ShutterSpeedValue | 1/1000 |
Software | Adobe Photoshop Lightroom 6.10.1 (Windows) |
SplitToningBalance | 0 |
SplitToningHighlightHue | 52 |
SplitToningHighlightSaturation | 64 |
SplitToningShadowHue | 37 |
SplitToningShadowSaturation | 22 |
Subject | 2017, Høst, oktober |
Tint | +11 |
ToneCurve | 0, 0, 255, 255 |
ToneCurveBlue | 0, 0, 255, 255 |
ToneCurveGreen | 0, 0, 255, 255 |
ToneCurveName | Linear |
ToneCurveName2012 | Linear |
ToneCurvePV2012 | 0, 0, 255, 255 |
ToneCurvePV2012Blue | 0, 0, 255, 255 |
ToneCurvePV2012Green | 0, 0, 255, 255 |
ToneCurvePV2012Red | 0, 0, 255, 255 |
ToneCurveRed | 0, 0, 255, 255 |
ToneMapStrength | 0 |
Version | 9.10.1 |
VignetteAmount | 0 |
WhiteBalance (1) | As Shot |
WhiteBalance | Auto |
Whites2012 | 0 |