Felt | Verdi |
AlreadyApplied | True |
Aperture | 1.8 |
ApertureValue | 1.8 |
AutoLateralCA | 1 |
AutoWhiteVersion | 134348800 |
BitsPerSample | 8 |
Blacks2012 | +25 |
BlueHue | -20 |
BlueSaturation | -5 |
BrightnessValue | 5.56796875 |
CameraProfile | Agfa Vista 100 - SO |
CircleOfConfusion | 0.030 mm |
Clarity2012 | 0 |
ColorComponents | 3 |
ColorNoiseReduction | 25 |
ColorNoiseReductionDetail | 50 |
ColorNoiseReductionSmoothness | 50 |
ColorSpace | sRGB |
ColorTemperature | 3950 |
ColorTransform | YCbCr |
Contrast | Normal |
Contrast2012 | 0 |
ConvertToGrayscale | False |
CreateDate | 2017:09:28 11:23:40 |
CreatorTool | Adobe Photoshop Lightroom 6.12 (Windows) |
CustomRendered | Normal |
DateCreated (1) | 2017:09:28 |
DateCreated | 2017:09:28 11:23:40 |
DateTimeOriginal | 2017:09:28 11:23:40 |
DefringeGreenAmount | 0 |
DefringeGreenHueHi | 60 |
DefringeGreenHueLo | 40 |
DefringePurpleAmount | 0 |
DefringePurpleHueHi | 70 |
DefringePurpleHueLo | 30 |
Dehaze | 0 |
DigitalZoomRatio | 1 |
DistortionCorrectionAlreadyApplied | True |
Exposure2012 | 0.00 |
ExposureCompensation | 0 |
ExposureMode | Auto |
ExposureProgram | Aperture-priority AE |
ExposureTime | 1/400 |
Flash | Off, Did not fire |
FNumber | 1.8 |
FocalLength | 135.0 mm |
FocalLength35efl | 135.0 mm (35 mm equivalent: 135.0 mm) |
FocalLengthIn35mmFormat | 135 mm |
Format | image/jpeg |
FOV | 15.2 deg |
GrainAmount | 0 |
GreenHue | +40 |
GreenSaturation | +5 |
HasCrop | False |
HasSettings | True |
Highlights2012 | -40 |
HueAdjustmentAqua | +10 |
HueAdjustmentBlue | 0 |
HueAdjustmentGreen | +10 |
HueAdjustmentMagenta | +30 |
HueAdjustmentOrange | +5 |
HueAdjustmentPurple | +20 |
HueAdjustmentRed | +10 |
HueAdjustmentYellow | 0 |
HyperfocalDistance | 336.98 m |
ImageHeight | 5304 |
ImageSize | 7952x5304 |
ImageWidth | 7952 |
ISO | 100 |
LateralChromaticAberrationCorrectionAlreadyApplied | True |
Lens | 135mm F1.8 DG HSM | Art 017 |
LensDistortInfo | 1068208585/1073741824 6773519/1073741824 -1014379/1073741824 -258660/1073741824 |
LensInfo | 135mm f/1.8 |
LensManualDistortionAmount | 0 |
LensModel | 135mm F1.8 DG HSM | Art 017 |
LensProfileChromaticAberrationScale | 100 |
LensProfileDistortionScale | 100 |
LensProfileEnable | 1 |
LensProfileFilename | NIKON CORPORATION (SIGMA 12-24mm F4 DG HSM A016) - RAW.lcp |
LensProfileName | Adobe (SIGMA 12-24mm F4 DG HSM A016, NIKON CORPORATION) |
LensProfileSetup | Custom |
LensProfileVignettingScale | 100 |
LightSource | Unknown |
LightValue | 10.3 |
LuminanceAdjustmentAqua | 0 |
LuminanceAdjustmentBlue | -25 |
LuminanceAdjustmentGreen | 0 |
LuminanceAdjustmentMagenta | 0 |
LuminanceAdjustmentOrange | -5 |
LuminanceAdjustmentPurple | -15 |
LuminanceAdjustmentRed | +5 |
LuminanceAdjustmentYellow | +10 |
LuminanceSmoothing | 0 |
Make | SONY |
MaxApertureValue | 1.8 |
Megapixels | 42.2 |
MeteringMode | Multi-segment |
Model | ILCE-7RM2 |
ModifyDate (1) | 2017:09:28 20:27:32+02:00 |
ModifyDate | 2017:09:28 20:27:32 |
PaintCorrectionActive | true |
PaintCorrectionAmount | 1.000000 |
PaintCorrectionBrightness | 0.000000 |
PaintCorrectionClarity2012 | -0.287360 |
PaintCorrectionContrast2012 | 0.000000 |
PaintCorrectionDefringe | 0.000000 |
PaintCorrectionExposure2012 | 0.000000 |
PaintCorrectionHighlights2012 | 0.000000 |
PaintCorrectionHue | 240.000000 |
PaintCorrectionLocalBlacks2012 | 0.000000 |
PaintCorrectionLocalDehaze | 0.000000 |
PaintCorrectionLocalWhites2012 | 0.000000 |
PaintCorrectionLuminanceNoise | 0.000000 |
PaintCorrectionMaskCenterWeight | 0.000000 |
PaintCorrectionMaskFlow | 1.000000 |
PaintCorrectionMaskRadius | 0.127807 |
PaintCorrectionMaskValue | 1.000000 |
PaintCorrectionMaskWhat | Mask/Paint |
PaintCorrectionMoire | 0.000000 |
PaintCorrectionSaturation | 0.000000 |
PaintCorrectionShadows2012 | 0.000000 |
PaintCorrectionSharpness | 0.000000 |
PaintCorrectionTemperature | 0.000000 |
PaintCorrectionTint | 0.000000 |
PaintCorrectionWhat | Correction |
ParametricDarks | 0 |
ParametricHighlights | 0 |
ParametricHighlightSplit | 75 |
ParametricLights | 0 |
ParametricMidtoneSplit | 48 |
ParametricShadows | 0 |
ParametricShadowSplit | 20 |
PerspectiveAspect | 0 |
PerspectiveHorizontal | 0 |
PerspectiveRotate | 0.0 |
PerspectiveScale | 100 |
PerspectiveUpright | 0 |
PerspectiveVertical | 0 |
PerspectiveX | 0.00 |
PerspectiveY | 0.00 |
PostCropVignetteAmount | 0 |
ProcessVersion | 6.7 |
ProfileDescription | sRGB IEC61966-2.1 |
RecommendedExposureIndex | 100 |
RedHue | +20 |
RedSaturation | +40 |
Saturation (1) | -10 |
Saturation | Normal |
SaturationAdjustmentAqua | -35 |
SaturationAdjustmentBlue | -30 |
SaturationAdjustmentGreen | -35 |
SaturationAdjustmentMagenta | -45 |
SaturationAdjustmentOrange | +31 |
SaturationAdjustmentPurple | -45 |
SaturationAdjustmentRed | -20 |
SaturationAdjustmentYellow | +58 |
ScaleFactor35efl | 1.0 |
SceneCaptureType | Standard |
SceneType | Directly photographed |
SensitivityType | Recommended Exposure Index |
Shadows2012 | +35 |
ShadowTint | -4 |
SharpenDetail | 25 |
SharpenEdgeMasking | 0 |
SharpenRadius | +1.0 |
Sharpness (1) | 55 |
Sharpness | Normal |
ShutterSpeed | 1/400 |
ShutterSpeedValue | 1/400 |
Software | Adobe Photoshop Lightroom 6.12 (Windows) |
SplitToningBalance | 0 |
SplitToningHighlightHue | 0 |
SplitToningHighlightSaturation | 0 |
SplitToningShadowHue | 0 |
SplitToningShadowSaturation | 0 |
Tint | +10 |
ToneCurve | 0, 0, 255, 255 |
ToneCurveBlue | 0, 0, 255, 255 |
ToneCurveGreen | 0, 0, 255, 255 |
ToneCurveName | Linear |
ToneCurveName2012 | Custom |
ToneCurvePV2012 | 0, 42, 50, 56, 97, 92, 189, 187, 255, 245 |
ToneCurvePV2012Blue | 0, 0, 30, 11, 71, 46, 122, 118, 183, 206, 222, 235, 255, 255 |
ToneCurvePV2012Green | 0, 0, 37, 13, 74, 46, 126, 122, 178, 198, 217, 229, 255, 255 |
ToneCurvePV2012Red | 0, 0, 45, 10, 78, 45, 127, 121, 182, 204, 255, 255 |
ToneCurveRed | 0, 0, 255, 255 |
ToneMapStrength | 0 |
Version | 9.12 |
Vibrance | 0 |
VignetteAmount | 0 |
VignetteCorrectionAlreadyApplied | True |
WhiteBalance (1) | As Shot |
WhiteBalance | Auto |
Whites2012 | -30 |