Felt | Verdi |
AlreadyApplied | True |
Aperture | 1.8 |
ApertureValue | 1.8 |
AutoLateralCA | 1 |
BitsPerSample | 8 |
Blacks2012 | +25 |
BlueHue | -15 |
BlueSaturation | +25 |
BrightnessValue | -1.4984375 |
CameraProfile | Adobe Standard |
CircleOfConfusion | 0.030 mm |
Clarity2012 | +21 |
ColorComponents | 3 |
ColorMode | RGB |
ColorNoiseReduction | 25 |
ColorNoiseReductionDetail | 50 |
ColorNoiseReductionSmoothness | 50 |
ColorSpace | Uncalibrated |
ColorTemperature | 4550 |
ColorTransform | YCbCr |
Contrast | Normal |
Contrast2012 | 0 |
ConvertToGrayscale | False |
CreateDate | 2017:09:21 20:30:08 |
CreatorTool | ILCE-7RM2 v4.00 |
CropAngle | 0 |
CropBottom | 1 |
CropConstrainToWarp | 0 |
CropLeft | 0 |
CropRight | 1 |
CropTop | 0 |
CustomRendered | Normal |
DateCreated (1) | 2017:09:21 |
DateCreated | 2017:09:21 20:30:08 |
DateTimeOriginal | 2017:09:21 20:30:08 |
DefringeGreenAmount | 0 |
DefringeGreenHueHi | 60 |
DefringeGreenHueLo | 40 |
DefringePurpleAmount | 0 |
DefringePurpleHueHi | 70 |
DefringePurpleHueLo | 30 |
Dehaze | 0 |
DigitalZoomRatio | 1 |
ExifImageHeight | 7952 |
ExifImageWidth | 5304 |
Exposure2012 | 0.00 |
ExposureCompensation | 0 |
ExposureMode | Manual |
ExposureProgram | Manual |
ExposureTime | 1/50 |
Flash | Off, Did not fire |
FNumber | 1.8 |
FocalLength | 85.0 mm |
FocalLength35efl | 85.0 mm (35 mm equivalent: 85.0 mm) |
FocalLengthIn35mmFormat | 85 mm |
Format | image/jpeg |
FOV | 23.9 deg |
GrainAmount | 30 |
GrainFrequency | 30 |
GrainSize | 30 |
GreenHue | +10 |
GreenSaturation | -10 |
HasCrop | True |
HasSettings | True |
Highlights2012 | -33 |
HueAdjustmentAqua | 0 |
HueAdjustmentBlue | +5 |
HueAdjustmentGreen | +12 |
HueAdjustmentMagenta | +15 |
HueAdjustmentOrange | +2 |
HueAdjustmentPurple | +20 |
HueAdjustmentRed | +12 |
HueAdjustmentYellow | 0 |
HyperfocalDistance | 133.59 m |
ICCProfileName | ProPhoto RGB |
ImageHeight | 7952 |
ImageSize | 5304x7952 |
ImageWidth | 5304 |
ISO | 320 |
Label | |
LateralChromaticAberrationCorrectionAlreadyApplied | True |
Lens | E 85mm F1.8 |
LensDistortInfo | 1036900441/1073741824 42683330/1073741824 -1755450/1073741824 -4114628/1073741824 |
LensInfo | 85mm f/1.8 |
LensManualDistortionAmount | 0 |
LensModel | E 85mm F1.8 |
LensProfileEnable | 0 |
LensProfileSetup | LensDefaults |
LightSource | Unknown |
LightValue | 5.7 |
LuminanceAdjustmentAqua | -15 |
LuminanceAdjustmentBlue | -20 |
LuminanceAdjustmentGreen | -25 |
LuminanceAdjustmentMagenta | -15 |
LuminanceAdjustmentOrange | -12 |
LuminanceAdjustmentPurple | -10 |
LuminanceAdjustmentRed | -20 |
LuminanceAdjustmentYellow | 0 |
LuminanceSmoothing | 0 |
Make | SONY |
MaxApertureValue | 1.8 |
Megapixels | 42.2 |
MeteringMode | Spot |
Model | ILCE-7RM2 |
ModifyDate (1) | 2017:09:22 00:08:42+02:00 |
ModifyDate | 2017:09:22 00:08:42 |
Orientation | Horizontal (normal) |
PaintCorrectionActive | true |
PaintCorrectionAmount | 1.000000 |
PaintCorrectionBrightness | 0.000000 |
PaintCorrectionClarity | 0.000000 |
PaintCorrectionClarity2012 | 0.000000 |
PaintCorrectionContrast | 0.000000 |
PaintCorrectionContrast2012 | 0.000000 |
PaintCorrectionDefringe | 0.000000 |
PaintCorrectionExposure | 0.000000 |
PaintCorrectionExposure2012 (1) | -1.000000 |
PaintCorrectionExposure2012 (2) | 0.000000 |
PaintCorrectionExposure2012 | 0.149500 |
PaintCorrectionHighlights2012 | 0.000000 |
PaintCorrectionHue | 0.000000 |
PaintCorrectionLocalBlacks2012 | 0.000000 |
PaintCorrectionLocalDehaze | 0.000000 |
PaintCorrectionLocalWhites2012 | 0.000000 |
PaintCorrectionLuminanceNoise | 0.000000 |
PaintCorrectionMaskCenterWeight | 0.000000 |
PaintCorrectionMaskFlow | 1.000000 |
PaintCorrectionMaskRadius (1) | 0.131930 |
PaintCorrectionMaskRadius (4) | 0.011481 |
PaintCorrectionMaskRadius (5) | 0.018314 |
PaintCorrectionMaskRadius | 0.013477 |
PaintCorrectionMaskValue | 1.000000 |
PaintCorrectionMaskWhat | Mask/Paint |
PaintCorrectionMoire | 0.000000 |
PaintCorrectionSaturation | 0.000000 |
PaintCorrectionShadows2012 (2) | 0.632180 |
PaintCorrectionShadows2012 | 0.000000 |
PaintCorrectionSharpness | 0.000000 |
PaintCorrectionTemperature | 0.000000 |
PaintCorrectionTint | 0.000000 |
PaintCorrectionWhat | Correction |
ParametricDarks | 0 |
ParametricHighlights | 0 |
ParametricHighlightSplit | 75 |
ParametricLights | 0 |
ParametricMidtoneSplit | 60 |
ParametricShadows | 0 |
ParametricShadowSplit | 14 |
PerspectiveAspect | 0 |
PerspectiveHorizontal | 0 |
PerspectiveRotate | 0.0 |
PerspectiveScale | 100 |
PerspectiveUpright | 0 |
PerspectiveVertical | 0 |
PerspectiveX | 0.00 |
PerspectiveY | 0.00 |
PostCropVignetteAmount | 0 |
ProcessVersion | 6.7 |
ProfileDescription | ProPhoto RGB |
Rating | 0 |
RawFileName | _DSC2913.ARW |
RecommendedExposureIndex | 320 |
RedHue | +10 |
RedSaturation | -25 |
Saturation (1) | 0 |
Saturation | Normal |
SaturationAdjustmentAqua | 0 |
SaturationAdjustmentBlue | -15 |
SaturationAdjustmentGreen | -30 |
SaturationAdjustmentMagenta | -15 |
SaturationAdjustmentOrange | -5 |
SaturationAdjustmentPurple | -10 |
SaturationAdjustmentRed | -15 |
SaturationAdjustmentYellow | 0 |
ScaleFactor35efl | 1.0 |
SceneCaptureType | Standard |
SceneType | Directly photographed |
SensitivityType | Recommended Exposure Index |
Shadows2012 | +15 |
ShadowTint | 0 |
SharpenDetail | 25 |
SharpenEdgeMasking | 0 |
SharpenRadius | +1.2 |
Sharpness (1) | 40 |
Sharpness | Normal |
ShutterSpeed | 1/50 |
ShutterSpeedValue | 1/50 |
Software | Adobe Photoshop CC 2017 (Windows) |
SplitToningBalance | 0 |
SplitToningHighlightHue | 220 |
SplitToningHighlightSaturation | 10 |
SplitToningShadowHue | 0 |
SplitToningShadowSaturation | 0 |
Tint | +7 |
ToneCurve | 0, 0, 32, 22, 64, 56, 128, 128, 192, 196, 255, 255 |
ToneCurveBlue | 0, 0, 255, 255 |
ToneCurveGreen | 0, 0, 255, 255 |
ToneCurveName | Medium Contrast |
ToneCurveName2012 | Custom |
ToneCurvePV2012 | 1, 16, 53, 44, 129, 124, 255, 252 |
ToneCurvePV2012Blue | 0, 0, 41, 29, 107, 122, 180, 215, 255, 245 |
ToneCurvePV2012Green | 0, 2, 42, 23, 115, 121, 176, 204, 218, 237, 255, 255 |
ToneCurvePV2012Red | 0, 0, 43, 20, 112, 124, 173, 205, 255, 255 |
ToneCurveRed | 0, 0, 255, 255 |
ToneMapStrength | 0 |
URL_List | |
Version | 9.12.1 |
Vibrance | 0 |
VignetteAmount | 0 |
WhiteBalance (1) | As Shot |
WhiteBalance | Auto |
Whites2012 | 0 |