Felt | Verdi |
AlreadyApplied | True |
Aperture | 2.8 |
ApertureValue | 2.8 |
ApproximateFocusDistance | 4294967295 |
Artist | Sitron Photography |
AuthorsPosition | Photography |
AutoLateralCA | 1 |
AutoWhiteVersion | 134348800 |
BitsPerSample | 8 |
Blacks2012 | -12 |
BlueHue | 0 |
BlueSaturation | 0 |
By-line | Sitron Photography |
By-lineTitle | Photography |
CameraProfile | Adobe Standard |
CFAPattern | [Red,Green][Green,Blue] |
CircGradBasedCorrActive | true |
CircGradBasedCorrAmount | 1.000000 |
CircGradBasedCorrBrightness | 0.000000 |
CircGradBasedCorrClarity2012 (1) | 0.076982 |
CircGradBasedCorrClarity2012 (3) | 0.000000 |
CircGradBasedCorrClarity2012 | 0.178258 |
CircGradBasedCorrContrast2012 (1) | -0.750762 |
CircGradBasedCorrContrast2012 (3) | 0.000000 |
CircGradBasedCorrContrast2012 | 0.064405 |
CircGradBasedCorrDefringe | 0.000000 |
CircGradBasedCorrExposure2012 (1) | 0.471894 |
CircGradBasedCorrExposure2012 (3) | 0.206079 |
CircGradBasedCorrExposure2012 | 0.077172 |
CircGradBasedCorrHighlights2012 (1) | 0.000000 |
CircGradBasedCorrHighlights2012 | 0.025915 |
CircGradBasedCorrHue | 0.000000 |
CircGradBasedCorrLocalBlacks2012 (1) | -1.000000 |
CircGradBasedCorrLocalBlacks2012 (3) | 0.018007 |
CircGradBasedCorrLocalBlacks2012 | 0.000000 |
CircGradBasedCorrLocalDehaze (1) | 0.200553 |
CircGradBasedCorrLocalDehaze | 0.000000 |
CircGradBasedCorrLocalWhites2012 (3) | 0.000000 |
CircGradBasedCorrLocalWhites2012 | 0.578982 |
CircGradBasedCorrLuminanceNoise (1) | 0.000000 |
CircGradBasedCorrLuminanceNoise | -0.799829 |
CircGradBasedCorrMaskAngle | 0.000000 |
CircGradBasedCorrMaskBottom (1) | 0.648804 |
CircGradBasedCorrMaskBottom (2) | 0.514239 |
CircGradBasedCorrMaskBottom (3) | 0.709577 |
CircGradBasedCorrMaskBottom | 0.502719 |
CircGradBasedCorrMaskFeather (1) | +100 |
CircGradBasedCorrMaskFeather | +63 |
CircGradBasedCorrMaskFlipped | true |
CircGradBasedCorrMaskLeft (1) | -0.002652 |
CircGradBasedCorrMaskLeft (2) | 0.211973 |
CircGradBasedCorrMaskLeft (3) | 0.287792 |
CircGradBasedCorrMaskLeft | 0.567432 |
CircGradBasedCorrMaskMidpoint | +50 |
CircGradBasedCorrMaskRight (1) | 0.387592 |
CircGradBasedCorrMaskRight (2) | 0.283103 |
CircGradBasedCorrMaskRight (3) | 0.853846 |
CircGradBasedCorrMaskRight | 0.571113 |
CircGradBasedCorrMaskRoundness | 0 |
CircGradBasedCorrMaskTop (1) | 0.339098 |
CircGradBasedCorrMaskTop (2) | 0.460517 |
CircGradBasedCorrMaskTop (3) | 0.399094 |
CircGradBasedCorrMaskTop | 0.495062 |
CircGradBasedCorrMaskValue | 1.000000 |
CircGradBasedCorrMaskVersion | +2 |
CircGradBasedCorrMaskWhat | Mask/CircularGradient |
CircGradBasedCorrMoire | 0.000000 |
CircGradBasedCorrSaturation (1) | 1.000000 |
CircGradBasedCorrSaturation (3) | 0.376715 |
CircGradBasedCorrSaturation (5) | 0.618712 |
CircGradBasedCorrSaturation (7) | -0.792207 |
CircGradBasedCorrSaturation | 0.000000 |
CircGradBasedCorrShadows2012 (1) | 0.000000 |
CircGradBasedCorrShadows2012 (2) | 1.000000 |
CircGradBasedCorrShadows2012 | -0.603468 |
CircGradBasedCorrSharpness (3) | 0.000000 |
CircGradBasedCorrSharpness | 0.291635 |
CircGradBasedCorrTemperature (1) | 1.000000 |
CircGradBasedCorrTemperature (2) | 0.541254 |
CircGradBasedCorrTemperature (3) | 0.451029 |
CircGradBasedCorrTemperature | -0.557260 |
CircGradBasedCorrTint (1) | 1.000000 |
CircGradBasedCorrTint (3) | 0.747713 |
CircGradBasedCorrTint | 0.000000 |
CircGradBasedCorrWhat | Correction |
CircleOfConfusion | 0.030 mm |
City | Bergen |
Clarity2012 | 0 |
ColorComponents | 3 |
ColorNoiseReduction | 25 |
ColorNoiseReductionDetail | 50 |
ColorNoiseReductionSmoothness | 50 |
ColorSpace | sRGB |
ColorTemperature | 8574 |
ColorTransform | YCbCr |
Contrast | Normal |
Contrast2012 | -25 |
ConvertToGrayscale | False |
Copyright | Sitron Photography |
CopyrightNotice | Sitron Photography |
Country | Norway |
Country-PrimaryLocationCode | NO |
Country-PrimaryLocationName | Norway |
CountryCode | NO |
CreateDate (1) | 2017:07:18 19:15:51.27 |
CreateDate | 2017:07:18 19:15:51 |
Creator | Sitron Photography |
CreatorAddress | Tjødnavegen 19 |
CreatorCity | Straume |
CreatorCountry | Norway |
CreatorPostalCode | 5354 |
CreatorRegion | Bergen |
CreatorTool | Adobe Photoshop Lightroom 6.9 (Macintosh) |
CreatorWorkEmail | norwayinphoto@gmail.com |
CreatorWorkTelephone | 45266227 |
CreatorWorkURL | norwayinphoto.com |
CropAngle | 0 |
CropBottom | 0.842671 |
CropConstrainToWarp | 0 |
CropLeft | 0.062109 |
CropRight | 0.880601 |
CropTop | 0 |
CustomRendered | Normal |
DateCreated (1) | 2017:07:18 |
DateCreated | 2017:07:18 19:15:51.27 |
DateTimeOriginal | 2017:07:18 19:15:51 |
DefringeGreenAmount | 0 |
DefringeGreenHueHi | 60 |
DefringeGreenHueLo | 40 |
DefringePurpleAmount | 0 |
DefringePurpleHueHi | 70 |
DefringePurpleHueLo | 30 |
Dehaze | 0 |
DigitalZoomRatio | 1 |
DOF | inf (2.33 m - inf) |
Exposure2012 | -1.70 |
ExposureCompensation | 0 |
ExposureMode | Manual |
ExposureProgram | Manual |
ExposureTime | 1/13 |
Flash | Off, Did not fire |
FNumber | 2.8 |
FocalLength | 14.0 mm |
FocalLength35efl | 14.0 mm (35 mm equivalent: 14.0 mm) |
FocalLengthIn35mmFormat | 14 mm |
Format | image/jpeg |
FOV | 104.3 deg |
GainControl | None |
GPSAltitude | 115.0204 m |
GPSLatitude (1) | 60 deg 23' 48.95" |
GPSLatitude | 60 deg 23' 48.95" N |
GPSLatitudeRef | North |
GPSLongitude (1) | 5 deg 19' 59.58" |
GPSLongitude | 5 deg 19' 59.58" E |
GPSLongitudeRef | East |
GPSPosition | 60 deg 23' 48.95" N, 5 deg 19' 59.58" E |
GPSVersionID | 2.2.0.0 |
GrainAmount | 0 |
GreenHue | 0 |
GreenSaturation | 0 |
HasCrop | True |
HasSettings | True |
Highlights2012 | -100 |
HueAdjustmentAqua | 0 |
HueAdjustmentBlue | 0 |
HueAdjustmentGreen | 0 |
HueAdjustmentMagenta | 0 |
HueAdjustmentOrange | -31 |
HueAdjustmentPurple | 0 |
HueAdjustmentRed | -41 |
HueAdjustmentYellow | -22 |
HyperfocalDistance | 2.33 m |
ImageHeight | 1718 |
ImageNumber | 7829 |
ImageSize | 2500x1718 |
ImageWidth | 2500 |
ISO | 100 |
Keywords | Bergen, Fjellveien, Lightroom, Lightroom 6 training, Sitron, Trond-Eskildo, amazing, beautiful, clouds, coast, colors, day, glede, landscape, love, lovely, moment, norwayinphoto, nydelig, photooftheday, sky, sol, sommer, sun, sunset, true, vakkert, west |
Lens | 14.0 mm f/2.8 |
LensID (1) | 74 |
LensID | Samyang AE 14mm f/2.8 ED AS IF UMC |
LensInfo | 14mm f/2.8-1.4 |
LensManualDistortionAmount | 0 |
LensModel | 14.0 mm f/2.8 |
LensProfileChromaticAberrationScale | 100 |
LensProfileDistortionScale | 100 |
LensProfileEnable | 1 |
LensProfileFilename | NIKON CORPORATION (Samyang 14mm f2.8 ED AS IF UMC) - RAW.lcp |
LensProfileName | Adobe (Samyang 14mm f/2.8 ED AS IF UMC, NIKON CORPORATION) |
LensProfileSetup | Custom |
LensProfileVignettingScale | 100 |
LightSource | Unknown |
LightValue | 6.7 |
LuminanceAdjustmentAqua | 0 |
LuminanceAdjustmentBlue | 0 |
LuminanceAdjustmentGreen | 0 |
LuminanceAdjustmentMagenta | 0 |
LuminanceAdjustmentOrange | 0 |
LuminanceAdjustmentPurple | 0 |
LuminanceAdjustmentRed | 0 |
LuminanceAdjustmentYellow | 0 |
LuminanceNoiseReductionContrast | 0 |
LuminanceNoiseReductionDetail | 50 |
LuminanceSmoothing | 5 |
Make | NIKON CORPORATION |
MaxApertureValue | 2.8 |
Megapixels | 4.3 |
MeteringMode | Multi-segment |
Model | NIKON D810A |
ModifyDate (1) | 2017:07:29 12:46:43+02:00 |
ModifyDate | 2017:07:29 12:46:43 |
ParametricDarks | 0 |
ParametricHighlights | 0 |
ParametricHighlightSplit | 75 |
ParametricLights | 0 |
ParametricMidtoneSplit | 50 |
ParametricShadows | 0 |
ParametricShadowSplit | 25 |
PerspectiveAspect | 0 |
PerspectiveHorizontal | 0 |
PerspectiveRotate | 0.0 |
PerspectiveScale | 100 |
PerspectiveUpright | 0 |
PerspectiveVertical | 0 |
PerspectiveX | 0.00 |
PerspectiveY | 0.00 |
PostCropVignetteAmount | -48 |
PostCropVignetteFeather | 50 |
PostCropVignetteHighlightContrast | 0 |
PostCropVignetteMidpoint | 50 |
PostCropVignetteRoundness | 0 |
PostCropVignetteStyle | 1 |
ProcessVersion | 6.7 |
ProfileDescription | sRGB IEC61966-2.1 |
Province-State | Hordaland |
RedHue | 0 |
RedSaturation | 0 |
Rights | Sitron Photography |
Saturation (1) | 0 |
Saturation | Normal |
SaturationAdjustmentAqua | 0 |
SaturationAdjustmentBlue | 0 |
SaturationAdjustmentGreen | 0 |
SaturationAdjustmentMagenta | 0 |
SaturationAdjustmentOrange | +33 |
SaturationAdjustmentPurple | 0 |
SaturationAdjustmentRed | +29 |
SaturationAdjustmentYellow | +37 |
ScaleFactor35efl | 1.0 |
SceneCaptureType | Portrait |
SceneType | Directly photographed |
SensingMethod | One-chip color area |
SensitivityType | Recommended Exposure Index |
SerialNumber | 6000593 |
Shadows2012 | +100 |
ShadowTint | 0 |
SharpenDetail | 25 |
SharpenEdgeMasking | 49 |
SharpenRadius | +1.0 |
Sharpness (1) | 81 |
Sharpness | Normal |
ShutterSpeed | 1/13 |
ShutterSpeedValue | 1/13 |
Software | Adobe Photoshop Lightroom 6.9 (Macintosh) |
SplitToningBalance | 0 |
SplitToningHighlightHue | 0 |
SplitToningHighlightSaturation | 0 |
SplitToningShadowHue | 0 |
SplitToningShadowSaturation | 0 |
State | Hordaland |
Subject | Bergen, Fjellveien, Lightroom, Lightroom 6 training, Sitron, Trond-Eskildo, amazing, beautiful, clouds, coast, colors, day, glede, landscape, love, lovely, moment, norwayinphoto, nydelig, photooftheday, sky, sol, sommer, sun, sunset, true, vakkert, west |
SubjectDistanceRange | Unknown |
Tint | +10 |
ToneCurve | 0, 0, 255, 255 |
ToneCurveBlue | 0, 0, 255, 255 |
ToneCurveGreen | 0, 0, 255, 255 |
ToneCurveName | Linear |
ToneCurveName2012 | Linear |
ToneCurvePV2012 | 0, 0, 255, 255 |
ToneCurvePV2012Blue | 0, 0, 255, 255 |
ToneCurvePV2012Green | 0, 0, 255, 255 |
ToneCurvePV2012Red | 0, 0, 255, 255 |
ToneCurveRed | 0, 0, 255, 255 |
ToneMapStrength | 0 |
Version | 9.9 |
Vibrance | +25 |
VignetteAmount | 0 |
WhiteBalance (1) | Custom |
WhiteBalance | Auto |
Whites2012 | +39 |