Felt | Verdi |
AlreadyApplied | True |
Aperture | 2.8 |
ApertureValue | 2.8 |
Artist | Rikki Martin Langnes |
AutoLateralCA | 0 |
AutoWhiteVersion | 134348800 |
BitsPerSample | 8 |
Blacks2012 | +24 |
BlueHue | 0 |
BlueSaturation | 0 |
By-line | Rikki Martin Langnes |
CameraProfile | Adobe Standard |
CFAPattern | [Red,Green][Green,Blue] |
CircGradBasedCorrActive | true |
CircGradBasedCorrAmount | 1.000000 |
CircGradBasedCorrBrightness | 0.000000 |
CircGradBasedCorrClarity2012 (1) | 0.399437 |
CircGradBasedCorrClarity2012 (2) | 0.439862 |
CircGradBasedCorrClarity2012 | 0.674782 |
CircGradBasedCorrContrast2012 (1) | 0.000000 |
CircGradBasedCorrContrast2012 (2) | 0.197129 |
CircGradBasedCorrContrast2012 | -0.562318 |
CircGradBasedCorrDefringe | 0.000000 |
CircGradBasedCorrExposure2012 (1) | 0.096112 |
CircGradBasedCorrExposure2012 (2) | 0.330487 |
CircGradBasedCorrExposure2012 | -0.099473 |
CircGradBasedCorrHighlights2012 (1) | 0.650164 |
CircGradBasedCorrHighlights2012 (2) | -0.305414 |
CircGradBasedCorrHighlights2012 | 0.534430 |
CircGradBasedCorrHue | 235.901993 |
CircGradBasedCorrLocalBlacks2012 | 0.000000 |
CircGradBasedCorrLocalDehaze | 0.000000 |
CircGradBasedCorrLocalWhites2012 | 0.000000 |
CircGradBasedCorrLuminanceNoise (1) | -0.753634 |
CircGradBasedCorrLuminanceNoise (2) | -0.432867 |
CircGradBasedCorrLuminanceNoise | -0.783430 |
CircGradBasedCorrMaskAngle (1) | -3.783420 |
CircGradBasedCorrMaskAngle (2) | -6.133900 |
CircGradBasedCorrMaskAngle | -3.171340 |
CircGradBasedCorrMaskBottom (1) | 0.601596 |
CircGradBasedCorrMaskBottom (2) | 0.790290 |
CircGradBasedCorrMaskBottom | 0.666477 |
CircGradBasedCorrMaskFeather | +48 |
CircGradBasedCorrMaskFlipped | true |
CircGradBasedCorrMaskLeft (1) | 0.451346 |
CircGradBasedCorrMaskLeft (2) | 0.013820 |
CircGradBasedCorrMaskLeft | 0.006967 |
CircGradBasedCorrMaskMidpoint | +50 |
CircGradBasedCorrMaskRight (1) | 1.219800 |
CircGradBasedCorrMaskRight (2) | 1.730570 |
CircGradBasedCorrMaskRight | 0.687865 |
CircGradBasedCorrMaskRoundness | 0 |
CircGradBasedCorrMaskTop (1) | 0.465468 |
CircGradBasedCorrMaskTop (2) | 0.814347 |
CircGradBasedCorrMaskTop | 0.568967 |
CircGradBasedCorrMaskValue | 1.000000 |
CircGradBasedCorrMaskVersion | +2 |
CircGradBasedCorrMaskWhat | Mask/CircularGradient |
CircGradBasedCorrMoire | 0.000000 |
CircGradBasedCorrSaturation (1) | -0.129088 |
CircGradBasedCorrSaturation (3) | 0.727108 |
CircGradBasedCorrSaturation (5) | 0.162064 |
CircGradBasedCorrSaturation | 0.000000 |
CircGradBasedCorrShadows2012 (1) | 0.528161 |
CircGradBasedCorrShadows2012 (2) | 0.457667 |
CircGradBasedCorrShadows2012 | 0.416061 |
CircGradBasedCorrSharpness (1) | 0.226744 |
CircGradBasedCorrSharpness (2) | 0.517805 |
CircGradBasedCorrSharpness | 0.247911 |
CircGradBasedCorrTemperature (1) | -0.290879 |
CircGradBasedCorrTemperature (2) | -0.174509 |
CircGradBasedCorrTemperature | -0.300327 |
CircGradBasedCorrTint (1) | 0.000000 |
CircGradBasedCorrTint (2) | 0.228561 |
CircGradBasedCorrTint | -0.295694 |
CircGradBasedCorrWhat | Correction |
CircleOfConfusion | 0.021 mm |
Clarity2012 | +62 |
ColorComponents | 3 |
ColorNoiseReduction | 25 |
ColorNoiseReductionDetail | 50 |
ColorNoiseReductionSmoothness | 50 |
ColorSpace | sRGB |
ColorTemperature | 6129 |
ColorTransform | YCbCr |
Contrast | Normal |
Contrast2012 | +32 |
ConvertToGrayscale | False |
Copyright | Rikki Martin Langnes |
CopyrightNotice | Rikki Martin Langnes |
CreateDate (1) | 2017:01:04 23:47:56.17 |
CreateDate | 2017:01:04 23:47:56 |
Creator | Rikki Martin Langnes |
CreatorTool | Adobe Photoshop Lightroom 6.8 (Macintosh) |
CropAngle | 1.02619 |
CropBottom | 0.963394 |
CropConstrainToWarp | 0 |
CropLeft | 0.018897 |
CropRight | 0.985667 |
CropTop | 0 |
CustomRendered | Custom |
DateCreated (1) | 2017:01:04 |
DateCreated | 2017:01:04 23:47:56.17 |
DateTimeOriginal | 2017:01:04 23:47:56 |
DefringeGreenAmount | 0 |
DefringeGreenHueHi | 60 |
DefringeGreenHueLo | 40 |
DefringePurpleAmount | 0 |
DefringePurpleHueHi | 70 |
DefringePurpleHueLo | 30 |
Dehaze | 0 |
DigitalZoomRatio | 1 |
Exposure2012 | +0.30 |
ExposureCompensation | 0 |
ExposureMode | Manual |
ExposureProgram | Manual |
ExposureTime | 10 |
Flash | Off, Did not fire |
FNumber | 2.8 |
FocalLength | 11.0 mm |
FocalLength35efl | 11.0 mm (35 mm equivalent: 16.0 mm) |
FocalLengthIn35mmFormat | 16 mm |
Format | image/jpeg |
FOV | 96.7 deg |
GainControl | High gain up |
GradientBasedCorrActive | true |
GradientBasedCorrAmount | 1.000000 |
GradientBasedCorrBrightness | 0.000000 |
GradientBasedCorrClarity2012 (1) | 0.000000 |
GradientBasedCorrClarity2012 | 0.295331 |
GradientBasedCorrContrast2012 (1) | 0.000000 |
GradientBasedCorrContrast2012 | -0.250636 |
GradientBasedCorrDefringe | 0.000000 |
GradientBasedCorrExposure2012 (1) | 0.031250 |
GradientBasedCorrExposure2012 | -0.119913 |
GradientBasedCorrHighlights2012 (1) | 0.000000 |
GradientBasedCorrHighlights2012 | -0.021439 |
GradientBasedCorrHue | 235.901993 |
GradientBasedCorrLocalBlacks2012 | 0.000000 |
GradientBasedCorrLocalDehaze | 0.000000 |
GradientBasedCorrLocalWhites2012 | 0.000000 |
GradientBasedCorrLuminanceNoise (1) | 0.000000 |
GradientBasedCorrLuminanceNoise | -0.670331 |
GradientBasedCorrMaskFullX (1) | 0.662365 |
GradientBasedCorrMaskFullX | 0.496805 |
GradientBasedCorrMaskFullY (1) | 0.857798 |
GradientBasedCorrMaskFullY | 0.219750 |
GradientBasedCorrMaskValue | 1.000000 |
GradientBasedCorrMaskWhat | Mask/Gradient |
GradientBasedCorrMaskZeroX (1) | 0.633947 |
GradientBasedCorrMaskZeroX | 0.519439 |
GradientBasedCorrMaskZeroY (1) | 0.685101 |
GradientBasedCorrMaskZeroY | 0.487619 |
GradientBasedCorrMoire | 0.000000 |
GradientBasedCorrSaturation (3) | 0.504088 |
GradientBasedCorrSaturation | 0.000000 |
GradientBasedCorrShadows2012 (1) | 0.000000 |
GradientBasedCorrShadows2012 | 0.322856 |
GradientBasedCorrSharpness (1) | 0.000000 |
GradientBasedCorrSharpness | 0.387991 |
GradientBasedCorrTemperature (1) | 0.170603 |
GradientBasedCorrTemperature | 0.306686 |
GradientBasedCorrTint (1) | 0.000000 |
GradientBasedCorrTint | 0.317042 |
GradientBasedCorrWhat | Correction |
GrainAmount | 0 |
GreenHue | 0 |
GreenSaturation | 0 |
HasCrop | True |
HasSettings | True |
Highlights2012 | +68 |
HueAdjustmentAqua | 0 |
HueAdjustmentBlue | 0 |
HueAdjustmentGreen | 0 |
HueAdjustmentMagenta | 0 |
HueAdjustmentOrange | 0 |
HueAdjustmentPurple | 0 |
HueAdjustmentRed | 0 |
HueAdjustmentYellow | 0 |
HyperfocalDistance | 2.09 m |
ImageHeight | 447 |
ImageNumber | 9052 |
ImageSize | 700x447 |
ImageWidth | 700 |
ISO | 1600 |
Lens | Tokina AT-X 116 PRO DX 11-16mm F2.8 |
LensInfo | 11-16mm f/2.8 |
LensManualDistortionAmount | 0 |
LensModel | Tokina AT-X 116 PRO DX 11-16mm F2.8 |
LensProfileEnable | 0 |
LensProfileSetup | LensDefaults |
LightSource | Fine Weather |
LightValue | -4.4 |
LuminanceAdjustmentAqua | 0 |
LuminanceAdjustmentBlue | 0 |
LuminanceAdjustmentGreen | 0 |
LuminanceAdjustmentMagenta | 0 |
LuminanceAdjustmentOrange | 0 |
LuminanceAdjustmentPurple | 0 |
LuminanceAdjustmentRed | 0 |
LuminanceAdjustmentYellow | 0 |
LuminanceSmoothing | 0 |
Make | NIKON CORPORATION |
MaxApertureValue | 2.8 |
Megapixels | 0.313 |
MeteringMode | Spot |
Model | NIKON D7200 |
ModifyDate (1) | 2017:01:08 18:21:54+01:00 |
ModifyDate | 2017:01:08 18:21:54 |
ParametricDarks | +7 |
ParametricHighlights | 0 |
ParametricHighlightSplit | 75 |
ParametricLights | 0 |
ParametricMidtoneSplit | 50 |
ParametricShadows | 0 |
ParametricShadowSplit | 25 |
PerspectiveAspect | 0 |
PerspectiveHorizontal | 0 |
PerspectiveRotate | 0.0 |
PerspectiveScale | 100 |
PerspectiveUpright | 0 |
PerspectiveVertical | 0 |
PerspectiveX | 0.00 |
PerspectiveY | 0.00 |
PostCropVignetteAmount | 0 |
ProcessVersion | 6.7 |
ProfileDescription | sRGB IEC61966-2.1 |
Rating | 5 |
RedHue | 0 |
RedSaturation | 0 |
Rights | Rikki Martin Langnes |
Saturation (1) | +6 |
Saturation | Normal |
SaturationAdjustmentAqua | 0 |
SaturationAdjustmentBlue | 0 |
SaturationAdjustmentGreen | 0 |
SaturationAdjustmentMagenta | 0 |
SaturationAdjustmentOrange | 0 |
SaturationAdjustmentPurple | 0 |
SaturationAdjustmentRed | 0 |
SaturationAdjustmentYellow | 0 |
ScaleFactor35efl | 1.5 |
SceneCaptureType | Standard |
SceneType | Directly photographed |
SensingMethod | One-chip color area |
SensitivityType | Recommended Exposure Index |
SerialNumber | 8151727 |
Shadows2012 | +62 |
ShadowTint | 0 |
SharpenDetail | 25 |
SharpenEdgeMasking | 0 |
SharpenRadius | +1.0 |
Sharpness (1) | 25 |
Sharpness | Normal |
ShutterSpeed | 10 |
ShutterSpeedValue | 10 |
Software | Adobe Photoshop Lightroom 6.8 (Macintosh) |
SplitToningBalance | 0 |
SplitToningHighlightHue | 0 |
SplitToningHighlightSaturation | 0 |
SplitToningShadowHue | 0 |
SplitToningShadowSaturation | 0 |
SubjectDistanceRange | Unknown |
Tint | 0 |
ToneCurve | 0, 0, 255, 255 |
ToneCurveBlue | 0, 0, 255, 255 |
ToneCurveGreen | 0, 0, 255, 255 |
ToneCurveName | Linear |
ToneCurveName2012 | Linear |
ToneCurvePV2012 | 0, 0, 255, 255 |
ToneCurvePV2012Blue | 0, 0, 255, 255 |
ToneCurvePV2012Green | 0, 0, 255, 255 |
ToneCurvePV2012Red | 0, 0, 255, 255 |
ToneCurveRed | 0, 0, 255, 255 |
ToneMapStrength | 0 |
Version | 9.8 |
Vibrance | -12 |
VignetteAmount | 0 |
WhiteBalance (1) | Custom |
WhiteBalance | Manual |
Whites2012 | +49 |