Felt | Verdi |
AlreadyApplied | True |
Aperture | 1.8 |
ApertureValue | 1.8 |
Artist | Kjetil R. Anda |
AutoLateralCA | 0 |
AutoWhiteVersion | 134348800 |
BitsPerSample | 8 |
Blacks2012 | 0 |
BlueHue | 0 |
BlueSaturation | 0 |
By-line | Kjetil R. Anda |
CameraProfile | Adobe Standard |
CircleOfConfusion | 0.031 mm |
Clarity2012 | +30 |
ColorComponents | 3 |
ColorNoiseReduction | 25 |
ColorNoiseReductionDetail | 50 |
ColorNoiseReductionSmoothness | 50 |
ColorSpace | sRGB |
ColorTransform | YCbCr |
Contrast2012 | +30 |
ConvertToGrayscale | True |
Copyright | Kjetil R. Anda |
CopyrightFlag | True |
CopyrightNotice | Kjetil R. Anda |
CreateDate (1) | 2016:11:16 10:20:54.96 |
CreateDate | 2016:11:16 10:20:54 |
Creator | Kjetil R. Anda |
CreatorTool | Adobe Photoshop Lightroom 6.0 (Macintosh) |
CropAngle | 0 |
CropBottom | 0.911758 |
CropConstrainToWarp | 0 |
CropLeft | 0 |
CropRight | 0.83371 |
CropTop | 0.078048 |
CustomRendered | Normal |
DateCreated (1) | 2016:11:16 10:20:54.96 |
DateCreated | 2016:11:16 |
DateTimeOriginal | 2016:11:16 10:20:54 |
Exposure2012 | +0.44 |
ExposureCompensation | 0 |
ExposureMode | Manual |
ExposureProgram | Manual |
ExposureTime | 1/160 |
Firmware | 1.1.0 |
Flash | Off, Did not fire |
FlashCompensation | 0 |
FNumber | 1.8 |
FocalLength | 50.0 mm |
FocalLength35efl | 50.0 mm (35 mm equivalent: 48.8 mm) |
Format | image/jpeg |
FOV | 40.5 deg |
GrainAmount | 0 |
GrayMixerAqua | -21 |
GrayMixerBlue | +2 |
GrayMixerGreen | -20 |
GrayMixerMagenta | +7 |
GrayMixerOrange | -8 |
GrayMixerPurple | +11 |
GrayMixerRed | 0 |
GrayMixerYellow | -12 |
GreenHue | 0 |
GreenSaturation | 0 |
HasCrop | True |
HasSettings | True |
Highlights2012 | -40 |
HyperfocalDistance | 45.11 m |
ImageHeight | 3121 |
ImageNumber | 0 |
ImageSize | 4682x3121 |
ImageWidth | 4682 |
IncrementalTemperature | 0 |
IncrementalTint | 0 |
ISO | 2000 |
Keywords | alexander kristoff, canyon, katusha, stavanger, storhaug |
Lens | EF50mm f/1.8 II |
LensID (1) | 29 |
LensID | Canon EF 50mm f/1.8 II |
LensInfo | 50mm f/? |
LensManualDistortionAmount | 0 |
LensModel | EF50mm f/1.8 II |
LensProfileEnable | 0 |
LensProfileSetup | LensDefaults |
LightValue | 4.7 |
LuminanceSmoothing | 0 |
Make | Canon |
Marked | True |
MaxApertureValue | 1.8 |
Megapixels | 14.6 |
MeteringMode | Multi-segment |
Model | Canon EOS 5D Mark II |
ModifyDate (1) | 2016:11:16 11:44:58+01:00 |
ModifyDate | 2016:11:16 11:44:58 |
Orientation | Horizontal (normal) |
OwnerName | Kjetil R. Anda |
ParametricDarks | 0 |
ParametricHighlights | 0 |
ParametricHighlightSplit | 75 |
ParametricLights | 0 |
ParametricMidtoneSplit | 50 |
ParametricShadows | 0 |
ParametricShadowSplit | 25 |
PerspectiveAspect | 0 |
PerspectiveHorizontal | 0 |
PerspectiveRotate | 0.0 |
PerspectiveScale | 100 |
PerspectiveUpright | 0 |
PerspectiveVertical | 0 |
PostCropVignetteAmount | 0 |
ProcessVersion | 6.7 |
ProfileDescription | sRGB IEC61966-2.1 |
RawFileName | Kristoff_trainer-10.jpg |
RedHue | 0 |
RedSaturation | 0 |
Rights | Kjetil R. Anda |
ScaleFactor35efl | 1.0 |
SceneCaptureType | Standard |
SerialNumber | 1230701466 |
Shadows2012 | +28 |
ShadowTint | 0 |
SharpenDetail | 25 |
SharpenEdgeMasking | 0 |
SharpenRadius | +1.0 |
Sharpness | 25 |
ShutterSpeed | 1/160 |
ShutterSpeedValue | 1/160 |
Software | Adobe Photoshop Lightroom 6.0 (Macintosh) |
SplitToningBalance | 0 |
SplitToningHighlightHue | 0 |
SplitToningHighlightSaturation | 0 |
SplitToningShadowHue | 0 |
SplitToningShadowSaturation | 0 |
Subject | alexander kristoff, canyon, katusha, stavanger, storhaug |
ToneCurve | 0, 0, 255, 255 |
ToneCurveBlue | 0, 0, 255, 255 |
ToneCurveGreen | 0, 0, 255, 255 |
ToneCurveName | Linear |
ToneCurveName2012 | Medium Contrast |
ToneCurvePV2012 | 0, 0, 32, 22, 64, 56, 128, 128, 192, 196, 255, 255 |
ToneCurvePV2012Blue | 0, 0, 255, 255 |
ToneCurvePV2012Green | 0, 0, 255, 255 |
ToneCurvePV2012Red | 0, 0, 255, 255 |
ToneCurveRed | 0, 0, 255, 255 |
Version | 9.0 |
VignetteAmount | 0 |
WhiteBalance (1) | As Shot |
WhiteBalance | Auto |
Whites2012 | -30 |