Felt | Verdi |
AlreadyApplied | True |
Aperture | 18.0 |
ApertureValue | 18.0 |
ApproximateFocusDistance | 16 |
AutoLateralCA | 0 |
AutoWhiteVersion | 134348800 |
BitsPerSample | 8 |
Blacks2012 | +14 |
BlueHue | 0 |
BlueSaturation | 0 |
CameraProfile | Adobe Standard |
CircleOfConfusion | 0.038 mm |
Clarity2012 | 0 |
ColorComponents | 3 |
ColorMode | RGB |
ColorNoiseReduction | 25 |
ColorNoiseReductionDetail | 50 |
ColorNoiseReductionSmoothness | 50 |
ColorSpace | Uncalibrated |
ColorTemperature | 5150 |
ColorTransform | YCbCr |
Contrast | Normal |
Contrast2012 | +23 |
ConvertToGrayscale | False |
CreateDate | 2016:07:03 19:09:29 |
CreatorTool | 645D Ver 1.31 |
CropAngle | 0 |
CropBottom | 1 |
CropConstrainToWarp | 0 |
CropLeft | 0 |
CropRight | 1 |
CropTop | 0 |
CustomRendered | Normal |
DateCreated (1) | 2016:07:03 |
DateCreated | 2016:07:03 19:09:29 |
DateTimeOriginal | 2016:07:03 19:09:29 |
DefringeGreenAmount | 0 |
DefringeGreenHueHi | 60 |
DefringeGreenHueLo | 40 |
DefringePurpleAmount | 0 |
DefringePurpleHueHi | 70 |
DefringePurpleHueLo | 30 |
Dehaze | 0 |
DOF | 9.40 m (12.58 - 21.98 m) |
ExifImageHeight | 1182 |
ExifImageWidth | 1310 |
Exposure2012 | +1.80 |
ExposureCompensation | 0 |
ExposureMode | Auto |
ExposureProgram | Program AE |
ExposureTime | 1/4000 |
Flash | Off, Did not fire |
FNumber | 18.0 |
FocalLength | 200.0 mm |
FocalLength35efl | 200.0 mm (35 mm equivalent: 157.0 mm) |
FocalLengthIn35mmFormat | 157 mm |
Format | image/jpeg |
FOV | 13.1 deg |
GrainAmount | 0 |
GreenHue | 0 |
GreenSaturation | 0 |
HasCrop | True |
HasSettings | True |
HierarchicalSubject | Svalbard |
Highlights2012 | -88 |
HueAdjustmentAqua | 0 |
HueAdjustmentBlue | 0 |
HueAdjustmentGreen | 0 |
HueAdjustmentMagenta | 0 |
HueAdjustmentOrange | 0 |
HueAdjustmentPurple | 0 |
HueAdjustmentRed | 0 |
HueAdjustmentYellow | 0 |
HyperfocalDistance | 58.06 m |
ICCProfileName | ProPhoto RGB |
ImageHeight | 1182 |
ImageSize | 1310x1182 |
ImageWidth | 1310 |
ISO | 200 |
Keywords | Svalbard |
Label | |
Lens | smc PENTAX-FA645 200mm F4 [IF] |
LensID (1) | 11 9 |
LensID | smc PENTAX-FA 645 200mm F4 [IF] |
LensInfo | 200mm f/4 |
LensManualDistortionAmount | 0 |
LensModel | smc PENTAX-FA645 200mm F4 [IF] |
LensProfileEnable | 0 |
LensProfileSetup | LensDefaults |
LightValue | 19.3 |
LuminanceAdjustmentAqua | 0 |
LuminanceAdjustmentBlue | 0 |
LuminanceAdjustmentGreen | 0 |
LuminanceAdjustmentMagenta | 0 |
LuminanceAdjustmentOrange | 0 |
LuminanceAdjustmentPurple | 0 |
LuminanceAdjustmentRed | 0 |
LuminanceAdjustmentYellow | 0 |
LuminanceSmoothing | 0 |
Make | PENTAX |
Megapixels | 1.5 |
MeteringMode | Center-weighted average |
Model | PENTAX 645D |
ModifyDate (1) | 2016:07:05 20:30:13Z |
ModifyDate | 2016:07:05 20:30:13 |
Orientation | Horizontal (normal) |
ParametricDarks | 0 |
ParametricHighlights | 0 |
ParametricHighlightSplit | 75 |
ParametricLights | 0 |
ParametricMidtoneSplit | 50 |
ParametricShadows | 0 |
ParametricShadowSplit | 25 |
PerspectiveAspect | 0 |
PerspectiveHorizontal | 0 |
PerspectiveRotate | 0.0 |
PerspectiveScale | 100 |
PerspectiveUpright | 0 |
PerspectiveVertical | 0 |
PostCropVignetteAmount | 0 |
ProcessVersion | 6.7 |
ProfileDescription | ProPhoto RGB |
Rating | 0 |
RawFileName | _IGP8461.DNG |
RedHue | 0 |
RedSaturation | 0 |
Saturation (1) | 0 |
Saturation | Normal |
SaturationAdjustmentAqua | 0 |
SaturationAdjustmentBlue | 0 |
SaturationAdjustmentGreen | 0 |
SaturationAdjustmentMagenta | 0 |
SaturationAdjustmentOrange | 0 |
SaturationAdjustmentPurple | 0 |
SaturationAdjustmentRed | 0 |
SaturationAdjustmentYellow | 0 |
ScaleFactor35efl | 0.8 |
SceneCaptureType | Standard |
SensingMethod | One-chip color area |
Shadows2012 | +39 |
ShadowTint | 0 |
SharpenDetail | 25 |
SharpenEdgeMasking | 0 |
SharpenRadius | +1.0 |
Sharpness (1) | 25 |
Sharpness | Normal |
ShutterSpeed | 1/4000 |
ShutterSpeedValue | 1/4000 |
Software | Adobe Photoshop CC (Macintosh) |
SplitToningBalance | 0 |
SplitToningHighlightHue | 0 |
SplitToningHighlightSaturation | 0 |
SplitToningShadowHue | 0 |
SplitToningShadowSaturation | 0 |
Subject | Svalbard |
SubjectDistanceRange | Distant |
Tint | +20 |
ToneCurve | 0, 0, 32, 22, 64, 56, 128, 128, 192, 196, 255, 255 |
ToneCurveBlue | 0, 0, 255, 255 |
ToneCurveGreen | 0, 0, 255, 255 |
ToneCurveName | Medium Contrast |
ToneCurveName2012 | Linear |
ToneCurvePV2012 | 0, 0, 255, 255 |
ToneCurvePV2012Blue | 0, 0, 255, 255 |
ToneCurvePV2012Green | 0, 0, 255, 255 |
ToneCurvePV2012Red | 0, 0, 255, 255 |
ToneCurveRed | 0, 0, 255, 255 |
ToneMapStrength | 0 |
URL_List | |
Version | 9.4 |
Vibrance | 0 |
VignetteAmount | 0 |
WhiteBalance (1) | As Shot |
WhiteBalance | Auto |
Whites2012 | -71 |