Felt | Verdi |
AlreadyApplied | True |
Aperture | 4.0 |
ApertureValue | 4.0 |
Artist | 373051003880 |
AutoLateralCA | 0 |
AutoWhiteVersion | 134348800 |
BitsPerSample | 8 |
Blacks2012 | +7 |
BlueHue | 0 |
BlueSaturation | 0 |
By-line | 373051003880 |
CameraProfile | Embedded |
CircleOfConfusion | 0.023 mm |
Clarity2012 | +9 |
ColorComponents | 3 |
ColorNoiseReduction | 26 |
ColorNoiseReductionDetail | 50 |
ColorNoiseReductionSmoothness | 50 |
ColorSpace | sRGB |
ColorTransform | YCbCr |
Contrast2012 | -25 |
ConvertToGrayscale | False |
CreateDate | 2016:06:11 15:55:39 |
Creator | 373051003880 |
CreatorTool | Adobe Photoshop Lightroom 5.7.1 (Macintosh) |
CropAngle | 0 |
CropBottom | 1 |
CropConstrainToWarp | 0 |
CropLeft | 0.207377 |
CropRight | 0.858709 |
CropTop | 0.058197 |
CustomRendered | Normal |
DateCreated (1) | 2016:06:11 |
DateCreated | 2016:06:11 15:55:39 |
DateTimeOriginal | 2016:06:11 15:55:39 |
DefringeGreenAmount | 0 |
DefringeGreenHueHi | 60 |
DefringeGreenHueLo | 40 |
DefringePurpleAmount | 0 |
DefringePurpleHueHi | 70 |
DefringePurpleHueLo | 30 |
Exposure2012 | +0.70 |
ExposureCompensation | 0 |
ExposureMode | Auto |
ExposureProgram | Aperture-priority AE |
ExposureTime | 1/800 |
Firmware | Firmware Version 1.1.6 |
Flash | Off, Did not fire |
FlashCompensation | 0 |
FNumber | 4.0 |
FocalLength | 41.0 mm |
FocalLength35efl | 41.0 mm (35 mm equivalent: 53.8 mm) |
Format | image/jpeg |
FOV | 37.0 deg |
GrainAmount | 0 |
GreenHue | 0 |
GreenSaturation | 0 |
HasCrop | True |
HasSettings | True |
Highlights2012 | -82 |
HueAdjustmentAqua | 0 |
HueAdjustmentBlue | 0 |
HueAdjustmentGreen | 0 |
HueAdjustmentMagenta | 0 |
HueAdjustmentOrange | 0 |
HueAdjustmentPurple | 0 |
HueAdjustmentRed | 0 |
HueAdjustmentYellow | 0 |
HyperfocalDistance | 18.35 m |
ImageHeight | 2577 |
ImageSize | 2673x2577 |
ImageWidth | 2673 |
IncrementalTemperature | 0 |
IncrementalTint | 0 |
ISO | 100 |
Lens | Canon EF 24-70mm f/2.8L II USM |
LensID (1) | 495 |
LensID | Canon EF 24-70mm f/2.8L II USM |
LensInfo | 24-70mm f/? |
LensManualDistortionAmount | 0 |
LensModel | Canon EF 24-70mm f/2.8L II USM |
LensProfileEnable | 0 |
LensProfileSetup | LensDefaults |
LensSerialNumber | 3630000901 |
LightValue | 13.6 |
LuminanceAdjustmentAqua | 0 |
LuminanceAdjustmentBlue | -6 |
LuminanceAdjustmentGreen | -2 |
LuminanceAdjustmentMagenta | 0 |
LuminanceAdjustmentOrange | 0 |
LuminanceAdjustmentPurple | +12 |
LuminanceAdjustmentRed | 0 |
LuminanceAdjustmentYellow | +30 |
LuminanceNoiseReductionContrast | 29 |
LuminanceNoiseReductionDetail | 50 |
LuminanceSmoothing | 30 |
Make | Canon |
MaxApertureValue | 2.7 |
Megapixels | 6.9 |
MeteringMode | Multi-segment |
Model | Canon EOS 6D |
ModifyDate (1) | 2016:06:12 19:42:03+02:00 |
ModifyDate | 2016:06:12 19:42:03 |
OwnerName | 373051003880 |
ParametricDarks | +6 |
ParametricHighlights | +3 |
ParametricHighlightSplit | 75 |
ParametricLights | +1 |
ParametricMidtoneSplit | 50 |
ParametricShadows | +23 |
ParametricShadowSplit | 25 |
PerspectiveAspect | 0 |
PerspectiveHorizontal | 0 |
PerspectiveRotate | 0.0 |
PerspectiveScale | 100 |
PerspectiveUpright | 0 |
PerspectiveVertical | 0 |
PostCropVignetteAmount | +20 |
PostCropVignetteFeather | 71 |
PostCropVignetteMidpoint | 27 |
PostCropVignetteRoundness | -2 |
PostCropVignetteStyle | 1 |
ProcessVersion | 6.7 |
ProfileDescription | sRGB IEC61966-2.1 |
RedHue | 0 |
RedSaturation | 0 |
Saturation | 0 |
SaturationAdjustmentAqua | 0 |
SaturationAdjustmentBlue | -81 |
SaturationAdjustmentGreen | +16 |
SaturationAdjustmentMagenta | 0 |
SaturationAdjustmentOrange | 0 |
SaturationAdjustmentPurple | -100 |
SaturationAdjustmentRed | 0 |
SaturationAdjustmentYellow | +57 |
ScaleFactor35efl | 1.3 |
SceneCaptureType | Standard |
SerialNumber | 373051003880 |
Shadows2012 | +7 |
ShadowTint | 0 |
SharpenDetail | 25 |
SharpenEdgeMasking | 0 |
SharpenRadius | +1.0 |
Sharpness | 57 |
ShutterSpeed | 1/800 |
ShutterSpeedValue | 1/800 |
Software | Adobe Photoshop Lightroom 5.7.1 (Macintosh) |
SplitToningBalance | 0 |
SplitToningHighlightHue | 0 |
SplitToningHighlightSaturation | 0 |
SplitToningShadowHue | 0 |
SplitToningShadowSaturation | 0 |
ToneCurve | 0, 0, 255, 255 |
ToneCurveBlue | 0, 0, 255, 255 |
ToneCurveGreen | 0, 0, 255, 255 |
ToneCurveName | Linear |
ToneCurveName2012 | Linear |
ToneCurvePV2012 | 0, 0, 255, 255 |
ToneCurvePV2012Blue | 0, 0, 255, 255 |
ToneCurvePV2012Green | 0, 0, 255, 255 |
ToneCurvePV2012Red | 0, 0, 255, 255 |
ToneCurveRed | 0, 0, 255, 255 |
Version | 8.7.1 |
Vibrance | 0 |
VignetteAmount | 0 |
WhiteBalance (1) | As Shot |
WhiteBalance | Manual |
Whites2012 | +22 |