Felt | Verdi |
AlreadyApplied | True |
Aperture | 6.3 |
ApertureValue | 6.3 |
Artist | Thomas Kimo Rosenberg |
AutoLateralCA | 0 |
AutoWhiteVersion | 134348800 |
BitsPerSample | 8 |
BlackClip | 0.029900 |
Blacks2012 | -25 |
BlueHue | 0 |
BlueSaturation | 0 |
By-line | Thomas Kimo Rosenberg |
CameraProfile | Embedded |
CircleOfConfusion | 0.008 mm |
Clarity2012 | +27 |
ColorComponents | 3 |
ColorNoiseReduction | 0 |
ColorSaturation | 82.0 |
ColorSpace | sRGB |
ColorTemperature | 2.6 |
ColorTransform | YCbCr |
Contrast2012 | +38 |
ConvertToGrayscale | False |
Copyright | Rosenberg |
CopyrightNotice | Rosenberg |
CreateDate (1) | 2015:05:13 14:26:58.18 |
CreateDate | 2015:05:13 14:26:58 |
Creator | Thomas Kimo Rosenberg |
CreatorTool | Adobe Photoshop Lightroom 5.0 (Windows) |
CropAngle | 0 |
CropBottom | 0.746951 |
CropConstrainToWarp | 0 |
CropLeft | 0 |
CropRight | 1 |
CropTop | 0.283537 |
CustomRendered | Normal |
DateCreated (1) | 2015:05:13 |
DateCreated | 2015:05:13 14:26:58.18 |
DateTimeOriginal | 2015:05:13 14:26:58 |
DefringeGreenAmount | 0 |
DefringeGreenHueHi | 60 |
DefringeGreenHueLo | 40 |
DefringePurpleAmount | 0 |
DefringePurpleHueHi | 70 |
DefringePurpleHueLo | 30 |
Exposure2012 | 0.00 |
ExposureCompensation | 0 |
ExposureMode | Auto bracket |
ExposureProgram | Aperture-priority AE |
ExposureTime | 1/500 |
Firmware | 1.1.4 |
Flash | Off, Did not fire |
FlashCompensation | 0 |
FNumber | 6.3 |
FocalLength | 15.0 mm |
FocalLength35efl | 15.0 mm (35 mm equivalent: 59.2 mm) |
Format | image/jpeg |
FOV | 33.8 deg |
Gamma | 0.96 |
GrainAmount | 0 |
GreenHue | 0 |
GreenSaturation | 0 |
HasCrop | True |
HasSettings | True |
Highlights2012 | -85 |
HighlightsSmoothing | 58.0 |
HueAdjustmentAqua | 0 |
HueAdjustmentBlue | 0 |
HueAdjustmentGreen | 0 |
HueAdjustmentMagenta | 0 |
HueAdjustmentOrange | 0 |
HueAdjustmentPurple | 0 |
HueAdjustmentRed | 0 |
HueAdjustmentYellow | 0 |
HyperfocalDistance | 4.69 m |
ImageHeight | 1687 |
ImageNumber | 0 |
ImageSize | 5465x1687 |
ImageWidth | 5465 |
IncrementalTemperature | +3 |
IncrementalTint | -5 |
ISO | 50 |
IsPano360 | No |
Lens | EF15mm f/2.8 Fisheye |
LensID (1) | 13 |
LensID | Canon EF 15mm f/2.8 Fisheye |
LensInfo | 15mm f/? |
LensManualDistortionAmount | 0 |
LensModel | EF15mm f/2.8 Fisheye |
LensProfileChromaticAberrationScale | 100 |
LensProfileDistortionScale | 88 |
LensProfileEnable | 1 |
LensProfileFilename | Canon EOS 5D Mark II (Canon EF 15mm f2.8).lcp |
LensProfileName | Canon EOS 5D Mark II (Canon EF 15mm f/2.8) |
LensProfileSetup | Custom |
LensProfileVignettingScale | 48 |
LensSerialNumber | 0000000000 |
LightValue | 15.3 |
LuminanceAdjustmentAqua | 0 |
LuminanceAdjustmentBlue | 0 |
LuminanceAdjustmentGreen | 0 |
LuminanceAdjustmentMagenta | 0 |
LuminanceAdjustmentOrange | 0 |
LuminanceAdjustmentPurple | 0 |
LuminanceAdjustmentRed | 0 |
LuminanceAdjustmentYellow | 0 |
LuminanceNoiseReductionContrast | 0 |
LuminanceNoiseReductionDetail | 50 |
LuminanceSmoothing | 15 |
Luminosity | 0.2 |
Make | Canon |
MaxApertureValue | 2.8 |
Megapixels | 9.2 |
MeteringMode | Multi-segment |
Method | Details Enhancer |
Microcontrast | 7.2 |
Microsmoothing | 14.1 |
Model | Canon EOS 6D |
ModifyDate (1) | 2015:05:14 21:53:57+02:00 |
ModifyDate | 2015:05:14 21:53:57 |
ParametricDarks | 0 |
ParametricHighlights | 0 |
ParametricHighlightSplit | 75 |
ParametricLights | 0 |
ParametricMidtoneSplit | 50 |
ParametricShadows | 0 |
ParametricShadowSplit | 25 |
PerspectiveAspect | 0 |
PerspectiveHorizontal | 0 |
PerspectiveRotate | 0.0 |
PerspectiveScale | 100 |
PerspectiveUpright | 0 |
PerspectiveVertical | 0 |
PostCropVignetteAmount | 0 |
ProcessVersion | 6.7 |
ProfileDescription | sRGB IEC61966-2.1 |
RecommendedExposureIndex | 50 |
RedHue | 0 |
RedSaturation | 0 |
Rights | Rosenberg |
Saturation | +5 |
SaturationAdjustmentAqua | 0 |
SaturationAdjustmentBlue | 0 |
SaturationAdjustmentGreen | 0 |
SaturationAdjustmentMagenta | 0 |
SaturationAdjustmentOrange | 0 |
SaturationAdjustmentPurple | 0 |
SaturationAdjustmentRed | 0 |
SaturationAdjustmentYellow | 0 |
SaturationHighlights | -3.2 |
SaturationShadows | 0.0 |
ScaleFactor35efl | 3.9 |
SceneCaptureType | Standard |
SensitivityType | Recommended Exposure Index |
SerialNumber | 252020009237 |
Shadows2012 | +96 |
ShadowsClipping | 0.0 |
ShadowsSmoothing | 24.0 |
ShadowTint | 0 |
SharpenDetail | 25 |
SharpenEdgeMasking | 0 |
SharpenRadius | +1.0 |
Sharpness | 74 |
ShutterSpeed | 1/500 |
ShutterSpeedValue | 1/500 |
Smoothing | Medium |
SmoothingMode | Light |
Software | Adobe Photoshop Lightroom 5.0 (Windows) |
SplitToningBalance | 0 |
SplitToningHighlightHue | 0 |
SplitToningHighlightSaturation | 0 |
SplitToningShadowHue | 0 |
SplitToningShadowSaturation | 0 |
Strength | 94.0 |
ToneCurveName2012 | Linear |
ToneCurvePV2012 | 0, 0, 255, 255 |
ToneCurvePV2012Blue | 0, 0, 255, 255 |
ToneCurvePV2012Green | 0, 0, 255, 255 |
ToneCurvePV2012Red | 0, 0, 255, 255 |
Version (1) | 5.0 |
Version | 8.2 |
Vibrance | 0 |
VignetteAmount | 0 |
WhiteBalance (1) | Custom |
WhiteBalance | Auto |
WhiteClip | 1.348516 |
Whites2012 | +49 |