Felt | Verdi |
AlreadyApplied | True |
Aperture | 5.6 |
ApertureValue | 5.6 |
ApproximateFocusDistance | 4294967295 |
Artist | Thomas T Rosenlund |
AutoLateralCA | 0 |
BitsPerSample | 8 |
Blacks2012 | 0 |
BlueHue | 0 |
BlueSaturation | 0 |
By-line | Thomas T Rosenlund |
CameraProfile | Adobe Standard |
Caption-Abstract | Pictoresque bensinpumpe. |
CFAPattern | [Red,Green][Green,Blue] |
CircleOfConfusion | 0.030 mm |
Clarity2012 | +38 |
ColorComponents | 3 |
ColorNoiseReduction | 25 |
ColorNoiseReductionDetail | 50 |
ColorTemperature | 5600 |
ColorTransform | YCbCr |
Contrast | High |
Contrast2012 | 0 |
ConvertToGrayscale | False |
Country | Iceland |
Country-PrimaryLocationName | Iceland |
CreateDate (1) | 2014:07:09 14:52:14.90 |
CreateDate | 2014:07:09 14:52:14 |
Creator | Thomas T Rosenlund |
CreatorTool | Adobe Photoshop Lightroom 4.4 (Windows) |
CropAngle | 0 |
CropBottom | 0.784594 |
CropConstrainToWarp | 0 |
CropHeight | 816 |
CropLeft | 0 |
CropRight | 1 |
CropTop | 0.285136 |
CropUnit | pixels |
CropWidth | 2449 |
CustomRendered | Normal |
DateCreated (1) | 2014:07:09 |
DateCreated | 2014:07:09 14:52:14.90 |
DateTimeOriginal | 2014:07:09 14:52:14 |
DefringeGreenAmount | 0 |
DefringeGreenHueHi | 60 |
DefringeGreenHueLo | 40 |
DefringePurpleAmount | 0 |
DefringePurpleHueHi | 70 |
DefringePurpleHueLo | 30 |
Description | Pictoresque bensinpumpe. |
DigitalZoomRatio | 1 |
DOF | inf (4.66 m - inf) |
Exposure2012 | +0.24 |
ExposureCompensation | 0 |
ExposureMode | Auto |
ExposureProgram | Aperture-priority AE |
ExposureTime | 1/100 |
Flash | Off, Did not fire |
FNumber | 5.6 |
FocalLength | 28.0 mm |
FocalLength35efl | 28.0 mm (35 mm equivalent: 28.0 mm) |
FocalLengthIn35mmFormat | 28 mm |
Format | image/jpeg |
FOV | 65.5 deg |
GainControl | None |
GPSAltitude | 30.32 m |
GPSLatitude (1) | 64 deg 50' 56.74" |
GPSLatitude | 64 deg 50' 56.74" N |
GPSLatitudeRef | North |
GPSLongitude (1) | 22 deg 44' 1.67" |
GPSLongitude | 22 deg 44' 1.67" W |
GPSLongitudeRef | West |
GPSPosition | 64 deg 50' 56.74" N, 22 deg 44' 1.67" W |
GPSVersionID | 2.2.0.0 |
GrainAmount | 0 |
GreenHue | 0 |
GreenSaturation | 0 |
HasCrop | True |
HasSettings | True |
Highlights2012 | 0 |
HueAdjustmentAqua | 0 |
HueAdjustmentBlue | 0 |
HueAdjustmentGreen | 0 |
HueAdjustmentMagenta | 0 |
HueAdjustmentOrange | 0 |
HueAdjustmentPurple | 0 |
HueAdjustmentRed | 0 |
HueAdjustmentYellow | 0 |
HyperfocalDistance | 4.66 m |
ImageDescription | Pictoresque bensinpumpe. |
ImageHeight | 816 |
ImageNumber | 9532 |
ImageSize | 2449x816 |
ImageWidth | 2449 |
ISO | 200 |
Keywords | Island 2014 - Vegamót #2 |
Label | Yellow |
Lens | 28.0 mm f/1.8 |
LensID (1) | 181 |
LensID | AF-S Nikkor 28mm f/1.8G |
LensInfo | 28mm f/1.8 |
LensManualDistortionAmount | 0 |
LensModel | 28.0 mm f/1.8 |
LensProfileEnable | 0 |
LensProfileSetup | LensDefaults |
LightSource | Unknown |
LightValue | 10.6 |
LuminanceAdjustmentAqua | 0 |
LuminanceAdjustmentBlue | 0 |
LuminanceAdjustmentGreen | 0 |
LuminanceAdjustmentMagenta | 0 |
LuminanceAdjustmentOrange | 0 |
LuminanceAdjustmentPurple | 0 |
LuminanceAdjustmentRed | 0 |
LuminanceAdjustmentYellow | 0 |
LuminanceSmoothing | 0 |
Make | NIKON CORPORATION |
MaxApertureValue | 1.7 |
Megapixels | 2.0 |
MeteringMode | Multi-segment |
Model | NIKON D800 |
ModifyDate (1) | 2014:09:09 19:06:13+02:00 |
ModifyDate | 2014:09:09 19:06:13 |
ParametricDarks | 0 |
ParametricHighlights | 0 |
ParametricHighlightSplit | 75 |
ParametricLights | 0 |
ParametricMidtoneSplit | 50 |
ParametricShadows | 0 |
ParametricShadowSplit | 25 |
PerspectiveHorizontal | 0 |
PerspectiveRotate | 0.0 |
PerspectiveScale | 100 |
PerspectiveVertical | 0 |
PostCropVignetteAmount | 0 |
ProcessVersion | 6.7 |
ProfileDescription | sRGB IEC61966-2.1 |
Province-State | Vesturland |
Rating | 5 |
RedHue | 0 |
RedSaturation | 0 |
Saturation (1) | 0 |
Saturation | Normal |
SaturationAdjustmentAqua | 0 |
SaturationAdjustmentBlue | 0 |
SaturationAdjustmentGreen | 0 |
SaturationAdjustmentMagenta | 0 |
SaturationAdjustmentOrange | 0 |
SaturationAdjustmentPurple | 0 |
SaturationAdjustmentRed | 0 |
SaturationAdjustmentYellow | 0 |
ScaleFactor35efl | 1.0 |
SceneCaptureType | Standard |
SceneType | Directly photographed |
SensingMethod | One-chip color area |
SensitivityType | Recommended Exposure Index |
SerialNumber | 6058541 |
Shadows2012 | 0 |
ShadowTint | 0 |
SharpenDetail | 25 |
SharpenEdgeMasking | 0 |
SharpenRadius | +1.0 |
Sharpness (1) | 25 |
Sharpness | Normal |
ShutterSpeed | 1/100 |
ShutterSpeedValue | 1/100 |
Software | Adobe Photoshop Lightroom 4.4 (Windows) |
SplitToningBalance | 0 |
SplitToningHighlightHue | 0 |
SplitToningHighlightSaturation | 0 |
SplitToningShadowHue | 0 |
SplitToningShadowSaturation | 0 |
State | Vesturland |
Subject | Island 2014 - Vegamót #2 |
SubjectDistanceRange | Unknown |
Tint | +11 |
ToneCurveName2012 | Linear |
ToneCurvePV2012 | 0, 0, 255, 255 |
ToneCurvePV2012Blue | 0, 0, 255, 255 |
ToneCurvePV2012Green | 0, 0, 255, 255 |
ToneCurvePV2012Red | 0, 0, 255, 255 |
Version | 7.4 |
Vibrance | +12 |
VignetteAmount | 0 |
WhiteBalance (1) | As Shot |
WhiteBalance | Auto |
Whites2012 | 0 |