Felt | Verdi |
AlreadyApplied | True |
Artist | Geir Eftevand |
AutoLateralCA | 0 |
BitsPerSample | 8 |
Blacks2012 | 0 |
BlueHue | 0 |
BlueSaturation | 0 |
By-line | Geir Eftevand |
CameraProfile | Embedded |
Clarity2012 | +71 |
ColorComponents | 3 |
ColorMode | RGB |
ColorNoiseReduction | 0 |
ColorSpace (1) | Unknown (-1) |
ColorSpace | Uncalibrated |
ColorTransform | YCbCr |
Contrast2012 | 0 |
ConvertToGrayscale | False |
Copyright | © Geir Eftevand |
CopyrightFlag | True |
CopyrightNotice | © Geir Eftevand |
CreateDate | 2013:01:24 16:46:07+01:00 |
Creator | Geir Eftevand |
CreatorAddress | Kroodden 17 |
CreatorCity | Kristiansand |
CreatorCountry | NORWAY |
CreatorPostalCode | 4624 |
CreatorTool | Adobe Photoshop Elements 7.0 Windows |
CreatorWorkEmail | post@geireftevand.no |
CreatorWorkTelephone | +4797586360 |
CropAngle | -0.679365 |
CropBottom | 0.987425 |
CropConstrainToWarp | 0 |
CropHeight | 5480 |
CropLeft | 0 |
CropRight | 1 |
CropTop | 0.012631 |
CropUnit | pixels |
CropWidth | 3645 |
DateCreated | 2010:02:20 |
DateTimeOriginal (1) | 2010:02:20 13:00+01:00 |
DateTimeOriginal | 2010:02:20 13:00:00 |
DefringeGreenAmount | 0 |
DefringeGreenHueHi | 60 |
DefringeGreenHueLo | 40 |
DefringePurpleAmount | 0 |
DefringePurpleHueHi | 70 |
DefringePurpleHueLo | 30 |
ExifImageHeight | 1024 |
ExifImageWidth | 681 |
Exposure2012 | 0.00 |
Format | image/jpeg |
GPSLatitude (1) | 58 deg 6' 28.80" N |
GPSLatitude (2) | 58 deg 6' 28.85" |
GPSLatitude | 58 deg 6' 28.85" N |
GPSLatitudeRef | North |
GPSLongitude (1) | 7 deg 59' 21.00" E |
GPSLongitude (2) | 7 deg 59' 21.27" |
GPSLongitude | 7 deg 59' 21.27" E |
GPSLongitudeRef | East |
GPSPosition | 58 deg 6' 28.85" N, 7 deg 59' 21.27" E |
GrainAmount | 0 |
GreenHue | 0 |
GreenSaturation | 0 |
HasCrop | True |
HasExtendedXMP | 6872EE2334F6B644AE3893496D736C82 |
HasSettings | True |
HierarchicalSubject | 01 FARGER|Hvit, 05 STEDER|Kristiansand|Sølvbukta, 06 NATUR|Biotop|Sjø, 06 NATUR|Biotop|Snø, 06 NATUR|Flora|Trær|Furu, 06 NATUR|Vær|Storm, 08 DAG & TID|Årstider|Vinter |
Highlights2012 | 0 |
HueAdjustmentAqua | 0 |
HueAdjustmentBlue | 0 |
HueAdjustmentGreen | 0 |
HueAdjustmentMagenta | 0 |
HueAdjustmentOrange | 0 |
HueAdjustmentPurple | 0 |
HueAdjustmentRed | 0 |
HueAdjustmentYellow | 0 |
ICCProfileName | Adobe RGB (1998) |
ImageHeight | 1024 |
ImageSize | 681x1024 |
ImageWidth | 681 |
IncrementalTemperature | 0 |
IncrementalTint | 0 |
Keywords | 01 FARGER, 05 STEDER, 06 NATUR, 08 DAG & TID, Biotop, Flora, Furu, Hvit, Kristiansand, Sjø, Snø, Storm, Sølvbukta, Trær, Vinter, Vær, Årstider |
LensManualDistortionAmount | 0 |
LensProfileEnable | 0 |
LensProfileSetup | LensDefaults |
LuminanceAdjustmentAqua | 0 |
LuminanceAdjustmentBlue | 0 |
LuminanceAdjustmentGreen | 0 |
LuminanceAdjustmentMagenta | 0 |
LuminanceAdjustmentOrange | 0 |
LuminanceAdjustmentPurple | 0 |
LuminanceAdjustmentRed | 0 |
LuminanceAdjustmentYellow | 0 |
LuminanceSmoothing | 0 |
Make | Nikon |
Marked | True |
Megapixels | 0.697 |
Model | Nikon COOLSCAN V ED |
ModifyDate (1) | 2014:06:28 14:37:49+02:00 |
ModifyDate | 2014:06:28 14:37:49 |
Orientation | Horizontal (normal) |
PaintCorrectionActive | true |
PaintCorrectionAmount | 1.000000 |
PaintCorrectionBrightness | 0.000000 |
PaintCorrectionClarity2012 | 1.000000 |
PaintCorrectionContrast2012 | 0.000000 |
PaintCorrectionDefringe | 0.000000 |
PaintCorrectionExposure2012 | 0.000000 |
PaintCorrectionHighlights2012 | 0.404760 |
PaintCorrectionHue | 0.000000 |
PaintCorrectionLuminanceNoise | 0.000000 |
PaintCorrectionMaskCenterWeight | 0.186740 |
PaintCorrectionMaskFlow (2) | 0.102000 |
PaintCorrectionMaskFlow | 0.517000 |
PaintCorrectionMaskRadius (1) | 0.005307 |
PaintCorrectionMaskRadius (12) | 0.001661 |
PaintCorrectionMaskRadius (4) | 0.003809 |
PaintCorrectionMaskRadius | 0.001904 |
PaintCorrectionMaskValue | 0.756000 |
PaintCorrectionMaskWhat | Mask/Paint |
PaintCorrectionMoire | 0.000000 |
PaintCorrectionSaturation | 0.000000 |
PaintCorrectionShadows2012 | -0.404760 |
PaintCorrectionSharpness | 0.000000 |
PaintCorrectionTemperature | 0.000000 |
PaintCorrectionTint | 0.000000 |
PaintCorrectionWhat | Correction |
ParametricDarks | 0 |
ParametricHighlights | 0 |
ParametricHighlightSplit | 75 |
ParametricLights | 0 |
ParametricMidtoneSplit | 50 |
ParametricShadows | 0 |
ParametricShadowSplit | 25 |
PerspectiveHorizontal | 0 |
PerspectiveRotate | 0.0 |
PerspectiveScale | 100 |
PerspectiveVertical | 0 |
PostCropVignetteAmount | 0 |
ProcessVersion | 6.7 |
ProfileDescription | Adobe RGB (1998) |
Rating | 4 |
RawFileName | 20100220F15908.jpg |
RedHue | 0 |
RedSaturation | 0 |
Rights | © Geir Eftevand |
Saturation | 0 |
SaturationAdjustmentAqua | 0 |
SaturationAdjustmentBlue | 0 |
SaturationAdjustmentGreen | 0 |
SaturationAdjustmentMagenta | 0 |
SaturationAdjustmentOrange | 0 |
SaturationAdjustmentPurple | 0 |
SaturationAdjustmentRed | 0 |
SaturationAdjustmentYellow | 0 |
Shadows2012 | +50 |
ShadowTint | 0 |
SharpenDetail | 25 |
SharpenEdgeMasking | 25 |
SharpenRadius | +1.0 |
Sharpness | 70 |
Software | Adobe Photoshop Elements 7.0 Windows |
SplitToningBalance | 0 |
SplitToningHighlightHue | 0 |
SplitToningHighlightSaturation | 0 |
SplitToningShadowHue | 0 |
SplitToningShadowSaturation | 0 |
Subject | 01 FARGER, 05 STEDER, 06 NATUR, 08 DAG & TID, Biotop, Flora, Furu, Hvit, Kristiansand, Sjø, Snø, Storm, Sølvbukta, Trær, Vinter, Vær, Årstider |
ToneCurveName2012 | Linear |
ToneCurvePV2012 | 0, 0, 255, 255 |
ToneCurvePV2012Blue | 0, 0, 255, 255 |
ToneCurvePV2012Green | 0, 0, 255, 255 |
ToneCurvePV2012Red | 0, 0, 255, 255 |
URL_List | |
Version | 7.3 |
Vibrance | +40 |
VignetteAmount | 0 |
WhiteBalance | As Shot |
Whites2012 | 0 |