Felt | Verdi |
AlreadyApplied | True |
Aperture | 11.0 |
ApertureValue | 11.0 |
ApproximateFocusDistance | 2147483647 |
Artist | Line Hårklau |
BitsPerSample | 8 |
BlueHue | 0 |
BlueSaturation | 0 |
By-line | Line Hårklau |
CameraProfile | Adobe Standard |
ColorComponents | 1 |
ColorNoiseReduction | 25 |
ColorNoiseReductionDetail | 50 |
ColorSpace | Uncalibrated |
ColorTemperature | 5800 |
ConvertToGrayscale | False |
Copyright | © Line Hårklau |
CopyrightFlag | True |
CopyrightNotice | © Line Hårklau |
CreateDate (1) | 2014:04:20 17:26:32.00 |
CreateDate | 2014:04:20 17:26:32 |
Creator | Line Hårklau |
CreatorCity | Oslo |
CreatorCountry | Norway |
CreatorTool | Adobe Photoshop Lightroom 5.3 (Macintosh) |
CreatorWorkEmail | line@lilleline.com |
CreatorWorkURL | www.lilleline.com |
CropAngle | -0.078966 |
CropBottom | 0.742909 |
CropConstrainToWarp | 0 |
CropLeft | 0.000993 |
CropRight | 0.999007 |
CropTop | 0.17233 |
CustomRendered | Normal |
DateCreated (1) | 2014:04:20 |
DateCreated | 2014:04:20 17:26:32.00 |
DateTimeOriginal | 2014:04:20 17:26:32 |
ExposureCompensation | 0 |
ExposureMode | Manual |
ExposureProgram | Manual |
ExposureTime | 1/100 |
Firmware | 2.0.3 |
Flash | Off, Did not fire |
FlashCompensation | 0 |
FNumber | 11.0 |
FocalLength | 18.0 mm |
FocalLength35efl | 18.0 mm |
Format | image/jpeg |
GrainAmount | 0 |
GreenHue | 0 |
GreenSaturation | 0 |
HasCrop | True |
HasSettings | True |
HueAdjustmentAqua | 0 |
HueAdjustmentBlue | 0 |
HueAdjustmentGreen | 0 |
HueAdjustmentMagenta | 0 |
HueAdjustmentOrange | 0 |
HueAdjustmentPurple | 0 |
HueAdjustmentRed | 0 |
HueAdjustmentYellow | 0 |
ImageHeight | 1979 |
ImageNumber | 0 |
ImageSize | 5171x1979 |
ImageWidth | 5171 |
ISO | 160 |
Lens | 18-35mm |
LensID (1) | 137 |
LensID | Sigma 18-35mm f/1.8 DC HSM |
LensInfo | 18-35mm f/? |
LensManualDistortionAmount | 0 |
LensModel | 18-35mm |
LensProfileEnable | 0 |
LensProfileSetup | LensDefaults |
LightValue | 12.9 |
LuminanceAdjustmentAqua | 0 |
LuminanceAdjustmentBlue | 0 |
LuminanceAdjustmentGreen | 0 |
LuminanceAdjustmentMagenta | 0 |
LuminanceAdjustmentOrange | 0 |
LuminanceAdjustmentPurple | 0 |
LuminanceAdjustmentRed | 0 |
LuminanceAdjustmentYellow | 0 |
LuminanceSmoothing | 0 |
Make | Canon |
Marked | True |
MaxApertureValue | 1.8 |
Megapixels | 10.2 |
MeteringMode | Multi-segment |
Model | Canon EOS 7D |
ModifyDate (1) | 2014:04:21 19:30:53+02:00 |
ModifyDate | 2014:04:21 19:30:53 |
PaintCorrectionActive | True |
PaintCorrectionAmount | 1.000000 |
PaintCorrectionBrightness | 0.000000 |
PaintCorrectionHue | 0.000000 |
PaintCorrectionMaskCenterWeight (1) | 1.000000 |
PaintCorrectionMaskCenterWeight | 0.124550 |
PaintCorrectionMaskFlow | 0.946369 |
PaintCorrectionMaskRadius (2) | 0.141248 |
PaintCorrectionMaskRadius | 0.022698 |
PaintCorrectionMaskValue | 0.465230 |
PaintCorrectionMaskWhat | Mask/Paint |
PaintCorrectionSaturation (1) | 0.007461 |
PaintCorrectionSaturation | 0.000000 |
PaintCorrectionSharpness (1) | 1.000000 |
PaintCorrectionSharpness | 0.780021 |
PaintCorrectionWhat | Correction |
ParametricDarks | 0 |
ParametricHighlights | 0 |
ParametricHighlightSplit | 75 |
ParametricLights | 0 |
ParametricMidtoneSplit | 50 |
ParametricShadows | 0 |
ParametricShadowSplit | 25 |
PerspectiveHorizontal | 0 |
PerspectiveRotate | 0.0 |
PerspectiveScale | 100 |
PerspectiveVertical | 0 |
PostCropVignetteAmount | -5 |
PostCropVignetteFeather | 50 |
PostCropVignetteMidpoint | 50 |
PostCropVignetteRoundness | 0 |
PostCropVignetteStyle | 1 |
ProcessVersion | 6.7 |
ProfileDescription | sRGB IEC61966-2.1 |
RecommendedExposureIndex | 160 |
RedHue | 0 |
RedSaturation | 0 |
Rights | © Line Hårklau |
Saturation | High |
SaturationAdjustmentAqua | -100 |
SaturationAdjustmentBlue | -100 |
SaturationAdjustmentGreen | -100 |
SaturationAdjustmentMagenta | -100 |
SaturationAdjustmentOrange | -100 |
SaturationAdjustmentPurple | -100 |
SaturationAdjustmentRed | -100 |
SaturationAdjustmentYellow | -100 |
SceneCaptureType | Standard |
SensitivityType | Recommended Exposure Index |
SerialNumber | 1080706477 |
ShadowTint | 0 |
SharpenDetail | 25 |
SharpenEdgeMasking | 0 |
SharpenRadius | +1.0 |
Sharpness | Hard |
ShutterSpeed | 1/100 |
ShutterSpeedValue | 1/100 |
Software | Adobe Photoshop Lightroom 5.3 (Macintosh) |
SplitToningBalance | 0 |
SplitToningHighlightHue | 0 |
SplitToningHighlightSaturation | 0 |
SplitToningShadowHue | 0 |
SplitToningShadowSaturation | 0 |
Tint | +3 |
URL | www.lilleline.com |
UsageTerms | All Rights Reserved |
Version | 8.3 |
Vibrance | -3 |
VignetteAmount | 0 |
WebStatement | www.lilleline.com |
WhiteBalance | Auto |